BEGIN:VCALENDAR
VERSION:2.0
PRODID:-//Crossroads Church - ECPv6.15.17.1//NONSGML v1.0//EN
CALSCALE:GREGORIAN
METHOD:PUBLISH
X-WR-CALNAME:Crossroads Church
X-ORIGINAL-URL:https://welcometocrossroads.org
X-WR-CALDESC:Events for Crossroads Church
REFRESH-INTERVAL;VALUE=DURATION:PT1H
X-Robots-Tag:noindex
X-PUBLISHED-TTL:PT1H
BEGIN:VTIMEZONE
TZID:America/Indiana/Indianapolis
BEGIN:DAYLIGHT
TZOFFSETFROM:-0500
TZOFFSETTO:-0400
TZNAME:EDT
DTSTART:20260308T070000
END:DAYLIGHT
BEGIN:STANDARD
TZOFFSETFROM:-0400
TZOFFSETTO:-0500
TZNAME:EST
DTSTART:20261101T060000
END:STANDARD
BEGIN:DAYLIGHT
TZOFFSETFROM:-0500
TZOFFSETTO:-0400
TZNAME:EDT
DTSTART:20270314T070000
END:DAYLIGHT
BEGIN:STANDARD
TZOFFSETFROM:-0400
TZOFFSETTO:-0500
TZNAME:EST
DTSTART:20271107T060000
END:STANDARD
BEGIN:DAYLIGHT
TZOFFSETFROM:-0500
TZOFFSETTO:-0400
TZNAME:EDT
DTSTART:20280312T070000
END:DAYLIGHT
BEGIN:STANDARD
TZOFFSETFROM:-0400
TZOFFSETTO:-0500
TZNAME:EST
DTSTART:20281105T060000
END:STANDARD
END:VTIMEZONE
BEGIN:VEVENT
DTSTART;TZID=America/Indiana/Indianapolis:20270511T093000
DTEND;TZID=America/Indiana/Indianapolis:20270511T123000
DTSTAMP:20260421T084115
CREATED:20250525T175715Z
LAST-MODIFIED:20251117T112335Z
UID:37097-1810027800-1810038600@welcometocrossroads.org
SUMMARY:S-Meeting
DESCRIPTION:
URL:https://welcometocrossroads.org/event/s-meeting-949/
END:VEVENT
BEGIN:VEVENT
DTSTART;TZID=America/Indiana/Indianapolis:20270511T093000
DTEND;TZID=America/Indiana/Indianapolis:20270511T123000
DTSTAMP:20260421T084115
CREATED:20260108T203700Z
LAST-MODIFIED:20260108T203700Z
UID:41472-1810027800-1810038600@welcometocrossroads.org
SUMMARY:S-Meeting
DESCRIPTION:
URL:https://welcometocrossroads.org/event/s-meeting-1047/
END:VEVENT
BEGIN:VEVENT
DTSTART;TZID=America/Indiana/Indianapolis:20270511T100000
DTEND;TZID=America/Indiana/Indianapolis:20270511T110000
DTSTAMP:20260421T084115
CREATED:20250525T175710Z
LAST-MODIFIED:20260108T203645Z
UID:37095-1810029600-1810033200@welcometocrossroads.org
SUMMARY:Daycare Gymnastics
DESCRIPTION:
URL:https://welcometocrossroads.org/event/daycare-gymnastics-135/
END:VEVENT
BEGIN:VEVENT
DTSTART;TZID=America/Indiana/Indianapolis:20270511T100000
DTEND;TZID=America/Indiana/Indianapolis:20270511T123000
DTSTAMP:20260421T084115
CREATED:20250525T175713Z
LAST-MODIFIED:20260108T203646Z
UID:37096-1810029600-1810038600@welcometocrossroads.org
SUMMARY:LBS
DESCRIPTION:
URL:https://welcometocrossroads.org/event/lbs-46/
END:VEVENT
BEGIN:VEVENT
DTSTART;TZID=America/Indiana/Indianapolis:20270511T103000
DTEND;TZID=America/Indiana/Indianapolis:20270511T133000
DTSTAMP:20260421T084115
CREATED:20250525T175708Z
LAST-MODIFIED:20260108T203644Z
UID:37094-1810031400-1810042200@welcometocrossroads.org
SUMMARY:Private Event-MIBOR
DESCRIPTION:
URL:https://welcometocrossroads.org/event/private-event-mibor-45/
END:VEVENT
BEGIN:VEVENT
DTSTART;TZID=America/Indiana/Indianapolis:20270511T183000
DTEND;TZID=America/Indiana/Indianapolis:20270511T200000
DTSTAMP:20260421T084115
CREATED:20250525T175736Z
LAST-MODIFIED:20260108T203703Z
UID:37098-1810060200-1810065600@welcometocrossroads.org
SUMMARY:Pine Tree Elementary Outreach Team
DESCRIPTION:
URL:https://welcometocrossroads.org/event/pine-tree-elementary-outreach-team-49/
END:VEVENT
BEGIN:VEVENT
DTSTART;TZID=America/Indiana/Indianapolis:20270511T190000
DTEND;TZID=America/Indiana/Indianapolis:20270511T203000
DTSTAMP:20260421T084115
CREATED:20250525T175738Z
LAST-MODIFIED:20260108T203702Z
UID:37099-1810062000-1810067400@welcometocrossroads.org
SUMMARY:The Frontline
DESCRIPTION:
URL:https://welcometocrossroads.org/event/the-frontline-102/
END:VEVENT
END:VCALENDAR