BEGIN:VCALENDAR
VERSION:2.0
PRODID:-//Crossroads Church - ECPv6.15.17.1//NONSGML v1.0//EN
CALSCALE:GREGORIAN
METHOD:PUBLISH
X-ORIGINAL-URL:https://welcometocrossroads.org
X-WR-CALDESC:Events for Crossroads Church
REFRESH-INTERVAL;VALUE=DURATION:PT1H
X-Robots-Tag:noindex
X-PUBLISHED-TTL:PT1H
BEGIN:VTIMEZONE
TZID:America/Indiana/Indianapolis
BEGIN:DAYLIGHT
TZOFFSETFROM:-0500
TZOFFSETTO:-0400
TZNAME:EDT
DTSTART:20260308T070000
END:DAYLIGHT
BEGIN:STANDARD
TZOFFSETFROM:-0400
TZOFFSETTO:-0500
TZNAME:EST
DTSTART:20261101T060000
END:STANDARD
BEGIN:DAYLIGHT
TZOFFSETFROM:-0500
TZOFFSETTO:-0400
TZNAME:EDT
DTSTART:20270314T070000
END:DAYLIGHT
BEGIN:STANDARD
TZOFFSETFROM:-0400
TZOFFSETTO:-0500
TZNAME:EST
DTSTART:20271107T060000
END:STANDARD
BEGIN:DAYLIGHT
TZOFFSETFROM:-0500
TZOFFSETTO:-0400
TZNAME:EDT
DTSTART:20280312T070000
END:DAYLIGHT
BEGIN:STANDARD
TZOFFSETFROM:-0400
TZOFFSETTO:-0500
TZNAME:EST
DTSTART:20281105T060000
END:STANDARD
END:VTIMEZONE
BEGIN:VEVENT
DTSTART;TZID=America/Indiana/Indianapolis:20270512T003000
DTEND;TZID=America/Indiana/Indianapolis:20270512T133000
DTSTAMP:20260421T084343
CREATED:20260108T203704Z
LAST-MODIFIED:20260108T203704Z
UID:41473-1810081800-1810128600@welcometocrossroads.org
SUMMARY:ATF Meeting
DESCRIPTION:
URL:https://welcometocrossroads.org/event/atf-meeting-59/
END:VEVENT
BEGIN:VEVENT
DTSTART;TZID=America/Indiana/Indianapolis:20270512T100000
DTEND;TZID=America/Indiana/Indianapolis:20270512T110000
DTSTAMP:20260421T084343
CREATED:20250525T175741Z
LAST-MODIFIED:20251117T112614Z
UID:37100-1810116000-1810119600@welcometocrossroads.org
SUMMARY:ATF Meeting
DESCRIPTION:
URL:https://welcometocrossroads.org/event/atf-meeting-34/
END:VEVENT
BEGIN:VEVENT
DTSTART;TZID=America/Indiana/Indianapolis:20270512T140000
DTEND;TZID=America/Indiana/Indianapolis:20270512T160000
DTSTAMP:20260421T084343
CREATED:20260108T203705Z
LAST-MODIFIED:20260108T203705Z
UID:41474-1810130400-1810137600@welcometocrossroads.org
SUMMARY:The Way
DESCRIPTION:
URL:https://welcometocrossroads.org/event/the-way-178/
END:VEVENT
BEGIN:VEVENT
DTSTART;TZID=America/Indiana/Indianapolis:20270512T190000
DTEND;TZID=America/Indiana/Indianapolis:20270512T203000
DTSTAMP:20260421T084343
CREATED:20260108T203706Z
LAST-MODIFIED:20260108T203706Z
UID:41475-1810148400-1810153800@welcometocrossroads.org
SUMMARY:Life Group
DESCRIPTION:
URL:https://welcometocrossroads.org/event/life-group-69/
END:VEVENT
END:VCALENDAR