BEGIN:VCALENDAR
VERSION:2.0
PRODID:-//Crossroads Church - ECPv6.15.17.1//NONSGML v1.0//EN
CALSCALE:GREGORIAN
METHOD:PUBLISH
X-WR-CALNAME:Crossroads Church
X-ORIGINAL-URL:https://welcometocrossroads.org
X-WR-CALDESC:Events for Crossroads Church
REFRESH-INTERVAL;VALUE=DURATION:PT1H
X-Robots-Tag:noindex
X-PUBLISHED-TTL:PT1H
BEGIN:VTIMEZONE
TZID:America/Indiana/Indianapolis
BEGIN:DAYLIGHT
TZOFFSETFROM:-0500
TZOFFSETTO:-0400
TZNAME:EDT
DTSTART:20260308T070000
END:DAYLIGHT
BEGIN:STANDARD
TZOFFSETFROM:-0400
TZOFFSETTO:-0500
TZNAME:EST
DTSTART:20261101T060000
END:STANDARD
BEGIN:DAYLIGHT
TZOFFSETFROM:-0500
TZOFFSETTO:-0400
TZNAME:EDT
DTSTART:20270314T070000
END:DAYLIGHT
BEGIN:STANDARD
TZOFFSETFROM:-0400
TZOFFSETTO:-0500
TZNAME:EST
DTSTART:20271107T060000
END:STANDARD
BEGIN:DAYLIGHT
TZOFFSETFROM:-0500
TZOFFSETTO:-0400
TZNAME:EDT
DTSTART:20280312T070000
END:DAYLIGHT
BEGIN:STANDARD
TZOFFSETFROM:-0400
TZOFFSETTO:-0500
TZNAME:EST
DTSTART:20281105T060000
END:STANDARD
END:VTIMEZONE
BEGIN:VEVENT
DTSTART;TZID=America/Indiana/Indianapolis:20270513T133000
DTEND;TZID=America/Indiana/Indianapolis:20270513T143000
DTSTAMP:20260421T094924
CREATED:20260108T203707Z
LAST-MODIFIED:20260108T203707Z
UID:41476-1810215000-1810218600@welcometocrossroads.org
SUMMARY:Operations Meeting
DESCRIPTION:
URL:https://welcometocrossroads.org/event/operations-meeting-71/
END:VEVENT
BEGIN:VEVENT
DTSTART;TZID=America/Indiana/Indianapolis:20270513T140000
DTEND;TZID=America/Indiana/Indianapolis:20270513T150000
DTSTAMP:20260421T094924
CREATED:20250525T175745Z
LAST-MODIFIED:20251117T112616Z
UID:37101-1810216800-1810220400@welcometocrossroads.org
SUMMARY:Operations Weekly Meeting
DESCRIPTION:
URL:https://welcometocrossroads.org/event/operations-weekly-meeting-296/
LOCATION:Crossroads Church – 7209 E County Rd 100 S\, Avon\, IN\, United States
END:VEVENT
BEGIN:VEVENT
DTSTART;TZID=America/Indiana/Indianapolis:20270513T150000
DTEND;TZID=America/Indiana/Indianapolis:20270513T170000
DTSTAMP:20260421T094924
CREATED:20251101T045631Z
LAST-MODIFIED:20251117T112617Z
UID:40606-1810220400-1810227600@welcometocrossroads.org
SUMMARY:Worship Center reserved for filming
DESCRIPTION:
URL:https://welcometocrossroads.org/event/worship-center-reserved-for-filming-80/
END:VEVENT
BEGIN:VEVENT
DTSTART;TZID=America/Indiana/Indianapolis:20270513T183000
DTEND;TZID=America/Indiana/Indianapolis:20270513T200000
DTSTAMP:20260421T094924
CREATED:20250525T175752Z
LAST-MODIFIED:20260108T203709Z
UID:37104-1810233000-1810238400@welcometocrossroads.org
SUMMARY:Men's Bible Study
DESCRIPTION:
URL:https://welcometocrossroads.org/event/mens-bible-study-226/
END:VEVENT
BEGIN:VEVENT
DTSTART;TZID=America/Indiana/Indianapolis:20270513T183000
DTEND;TZID=America/Indiana/Indianapolis:20270513T203000
DTSTAMP:20260421T094924
CREATED:20250525T175747Z
LAST-MODIFIED:20260108T203710Z
UID:37102-1810233000-1810240200@welcometocrossroads.org
SUMMARY:Women in the Word
DESCRIPTION:
URL:https://welcometocrossroads.org/event/women-in-the-word-359/
END:VEVENT
BEGIN:VEVENT
DTSTART;TZID=America/Indiana/Indianapolis:20270513T190000
DTEND;TZID=America/Indiana/Indianapolis:20270513T203000
DTSTAMP:20260421T094924
CREATED:20250525T175750Z
LAST-MODIFIED:20260108T203711Z
UID:37103-1810234800-1810240200@welcometocrossroads.org
SUMMARY:Worship Practice
DESCRIPTION:Weekly Worship Team Practice to Prepare for the weekend
URL:https://welcometocrossroads.org/event/worship-practice-354/
END:VEVENT
END:VCALENDAR