BEGIN:VCALENDAR
VERSION:2.0
PRODID:-//Crossroads Church - ECPv6.15.17.1//NONSGML v1.0//EN
CALSCALE:GREGORIAN
METHOD:PUBLISH
X-ORIGINAL-URL:https://welcometocrossroads.org
X-WR-CALDESC:Events for Crossroads Church
REFRESH-INTERVAL;VALUE=DURATION:PT1H
X-Robots-Tag:noindex
X-PUBLISHED-TTL:PT1H
BEGIN:VTIMEZONE
TZID:America/Indiana/Indianapolis
BEGIN:DAYLIGHT
TZOFFSETFROM:-0500
TZOFFSETTO:-0400
TZNAME:EDT
DTSTART:20260308T070000
END:DAYLIGHT
BEGIN:STANDARD
TZOFFSETFROM:-0400
TZOFFSETTO:-0500
TZNAME:EST
DTSTART:20261101T060000
END:STANDARD
BEGIN:DAYLIGHT
TZOFFSETFROM:-0500
TZOFFSETTO:-0400
TZNAME:EDT
DTSTART:20270314T070000
END:DAYLIGHT
BEGIN:STANDARD
TZOFFSETFROM:-0400
TZOFFSETTO:-0500
TZNAME:EST
DTSTART:20271107T060000
END:STANDARD
BEGIN:DAYLIGHT
TZOFFSETFROM:-0500
TZOFFSETTO:-0400
TZNAME:EDT
DTSTART:20280312T070000
END:DAYLIGHT
BEGIN:STANDARD
TZOFFSETFROM:-0400
TZOFFSETTO:-0500
TZNAME:EST
DTSTART:20281105T060000
END:STANDARD
END:VTIMEZONE
BEGIN:VEVENT
DTSTART;TZID=America/Indiana/Indianapolis:20270516T080000
DTEND;TZID=America/Indiana/Indianapolis:20270516T084500
DTSTAMP:20260424T024547
CREATED:20250525T175823Z
LAST-MODIFIED:20260108T203728Z
UID:37109-1810454400-1810457100@welcometocrossroads.org
SUMMARY:Therefore Life Group
DESCRIPTION:
URL:https://welcometocrossroads.org/event/therefore-life-group-138/
END:VEVENT
BEGIN:VEVENT
DTSTART;TZID=America/Indiana/Indianapolis:20270516T090000
DTEND;TZID=America/Indiana/Indianapolis:20270516T130000
DTSTAMP:20260424T024547
CREATED:20250525T175826Z
LAST-MODIFIED:20260108T203732Z
UID:37110-1810458000-1810472400@welcometocrossroads.org
SUMMARY:Communion Sunday
DESCRIPTION:
URL:https://welcometocrossroads.org/event/communion-sunday-45/
END:VEVENT
BEGIN:VEVENT
DTSTART;TZID=America/Indiana/Indianapolis:20270516T110000
DTEND;TZID=America/Indiana/Indianapolis:20270516T115900
DTSTAMP:20260424T024547
CREATED:20250525T175832Z
LAST-MODIFIED:20260108T203730Z
UID:37111-1810465200-1810468740@welcometocrossroads.org
SUMMARY:Growth Track
DESCRIPTION:
URL:https://welcometocrossroads.org/event/growth-track-429/
LOCATION:Room 117
END:VEVENT
BEGIN:VEVENT
DTSTART;TZID=America/Indiana/Indianapolis:20270516T123000
DTEND;TZID=America/Indiana/Indianapolis:20270516T143000
DTSTAMP:20260424T024547
CREATED:20250525T175838Z
LAST-MODIFIED:20260108T203731Z
UID:37113-1810470600-1810477800@welcometocrossroads.org
SUMMARY:Joyfully His LG
DESCRIPTION:
URL:https://welcometocrossroads.org/event/joyfully-his-lg-167/
END:VEVENT
BEGIN:VEVENT
DTSTART;TZID=America/Indiana/Indianapolis:20270516T133000
DTEND;TZID=America/Indiana/Indianapolis:20270516T160000
DTSTAMP:20260424T024547
CREATED:20250525T175835Z
LAST-MODIFIED:20260108T203733Z
UID:37112-1810474200-1810483200@welcometocrossroads.org
SUMMARY:Christ's Ambassadors
DESCRIPTION:
URL:https://welcometocrossroads.org/event/christs-ambassadors-159/
END:VEVENT
BEGIN:VEVENT
DTSTART;TZID=America/Indiana/Indianapolis:20270516T170000
DTEND;TZID=America/Indiana/Indianapolis:20270516T183000
DTSTAMP:20260424T024547
CREATED:20250525T175852Z
LAST-MODIFIED:20260108T203749Z
UID:37116-1810486800-1810492200@welcometocrossroads.org
SUMMARY:Girl’s Ministry
DESCRIPTION:
URL:https://welcometocrossroads.org/event/girls-ministry-141/
END:VEVENT
BEGIN:VEVENT
DTSTART;TZID=America/Indiana/Indianapolis:20270516T173000
DTEND;TZID=America/Indiana/Indianapolis:20270516T180000
DTSTAMP:20260424T024547
CREATED:20250525T175850Z
LAST-MODIFIED:20260108T203734Z
UID:37115-1810488600-1810490400@welcometocrossroads.org
SUMMARY:CSM - Leader Huddle
DESCRIPTION:
URL:https://welcometocrossroads.org/event/csm-leader-huddle-438/
LOCATION:102
END:VEVENT
BEGIN:VEVENT
DTSTART;TZID=America/Indiana/Indianapolis:20270516T180000
DTEND;TZID=America/Indiana/Indianapolis:20270516T203000
DTSTAMP:20260424T024547
CREATED:20250525T175846Z
LAST-MODIFIED:20260108T203748Z
UID:37114-1810490400-1810499400@welcometocrossroads.org
SUMMARY:CSM - Crossroads Students Ministries
DESCRIPTION:
URL:https://welcometocrossroads.org/event/csm-crossroads-students-ministries-196/
LOCATION:CSM – 7209 E County Rd 100 S\, Avon\, IN\, United States
END:VEVENT
END:VCALENDAR