BEGIN:VCALENDAR
VERSION:2.0
PRODID:-//Crossroads Church - ECPv6.15.17.1//NONSGML v1.0//EN
CALSCALE:GREGORIAN
METHOD:PUBLISH
X-WR-CALNAME:Crossroads Church
X-ORIGINAL-URL:https://welcometocrossroads.org
X-WR-CALDESC:Events for Crossroads Church
REFRESH-INTERVAL;VALUE=DURATION:PT1H
X-Robots-Tag:noindex
X-PUBLISHED-TTL:PT1H
BEGIN:VTIMEZONE
TZID:America/Indiana/Indianapolis
BEGIN:DAYLIGHT
TZOFFSETFROM:-0500
TZOFFSETTO:-0400
TZNAME:EDT
DTSTART:20260308T070000
END:DAYLIGHT
BEGIN:STANDARD
TZOFFSETFROM:-0400
TZOFFSETTO:-0500
TZNAME:EST
DTSTART:20261101T060000
END:STANDARD
BEGIN:DAYLIGHT
TZOFFSETFROM:-0500
TZOFFSETTO:-0400
TZNAME:EDT
DTSTART:20270314T070000
END:DAYLIGHT
BEGIN:STANDARD
TZOFFSETFROM:-0400
TZOFFSETTO:-0500
TZNAME:EST
DTSTART:20271107T060000
END:STANDARD
BEGIN:DAYLIGHT
TZOFFSETFROM:-0500
TZOFFSETTO:-0400
TZNAME:EDT
DTSTART:20280312T070000
END:DAYLIGHT
BEGIN:STANDARD
TZOFFSETFROM:-0400
TZOFFSETTO:-0500
TZNAME:EST
DTSTART:20281105T060000
END:STANDARD
END:VTIMEZONE
BEGIN:VEVENT
DTSTART;TZID=America/Indiana/Indianapolis:20270520T133000
DTEND;TZID=America/Indiana/Indianapolis:20270520T143000
DTSTAMP:20260421T094923
CREATED:20260108T203814Z
LAST-MODIFIED:20260108T203814Z
UID:41480-1810819800-1810823400@welcometocrossroads.org
SUMMARY:Operations Meeting
DESCRIPTION:
URL:https://welcometocrossroads.org/event/operations-meeting-72/
END:VEVENT
BEGIN:VEVENT
DTSTART;TZID=America/Indiana/Indianapolis:20270520T140000
DTEND;TZID=America/Indiana/Indianapolis:20270520T150000
DTSTAMP:20260421T094923
CREATED:20250525T175935Z
LAST-MODIFIED:20251117T113153Z
UID:37126-1810821600-1810825200@welcometocrossroads.org
SUMMARY:Operations Weekly Meeting
DESCRIPTION:
URL:https://welcometocrossroads.org/event/operations-weekly-meeting-297/
LOCATION:Crossroads Church – 7209 E County Rd 100 S\, Avon\, IN\, United States
END:VEVENT
BEGIN:VEVENT
DTSTART;TZID=America/Indiana/Indianapolis:20270520T150000
DTEND;TZID=America/Indiana/Indianapolis:20270520T170000
DTSTAMP:20260421T094923
CREATED:20251101T045727Z
LAST-MODIFIED:20251117T113151Z
UID:40607-1810825200-1810832400@welcometocrossroads.org
SUMMARY:Worship Center reserved for filming
DESCRIPTION:
URL:https://welcometocrossroads.org/event/worship-center-reserved-for-filming-81/
END:VEVENT
BEGIN:VEVENT
DTSTART;TZID=America/Indiana/Indianapolis:20270520T183000
DTEND;TZID=America/Indiana/Indianapolis:20270520T200000
DTSTAMP:20260421T094923
CREATED:20250525T175938Z
LAST-MODIFIED:20260108T203815Z
UID:37127-1810837800-1810843200@welcometocrossroads.org
SUMMARY:Men's Bible Study
DESCRIPTION:
URL:https://welcometocrossroads.org/event/mens-bible-study-227/
END:VEVENT
BEGIN:VEVENT
DTSTART;TZID=America/Indiana/Indianapolis:20270520T183000
DTEND;TZID=America/Indiana/Indianapolis:20270520T203000
DTSTAMP:20260421T094923
CREATED:20250525T175953Z
LAST-MODIFIED:20260108T203816Z
UID:37128-1810837800-1810845000@welcometocrossroads.org
SUMMARY:Women in the Word
DESCRIPTION:
URL:https://welcometocrossroads.org/event/women-in-the-word-360/
END:VEVENT
BEGIN:VEVENT
DTSTART;TZID=America/Indiana/Indianapolis:20270520T190000
DTEND;TZID=America/Indiana/Indianapolis:20270520T203000
DTSTAMP:20260421T094923
CREATED:20250525T175956Z
LAST-MODIFIED:20260108T203817Z
UID:37129-1810839600-1810845000@welcometocrossroads.org
SUMMARY:Worship Practice
DESCRIPTION:Weekly Worship Team Practice to Prepare for the weekend
URL:https://welcometocrossroads.org/event/worship-practice-355/
END:VEVENT
END:VCALENDAR