BEGIN:VCALENDAR
VERSION:2.0
PRODID:-//Crossroads Church - ECPv6.15.17.1//NONSGML v1.0//EN
CALSCALE:GREGORIAN
METHOD:PUBLISH
X-WR-CALNAME:Crossroads Church
X-ORIGINAL-URL:https://welcometocrossroads.org
X-WR-CALDESC:Events for Crossroads Church
REFRESH-INTERVAL;VALUE=DURATION:PT1H
X-Robots-Tag:noindex
X-PUBLISHED-TTL:PT1H
BEGIN:VTIMEZONE
TZID:America/Indiana/Indianapolis
BEGIN:DAYLIGHT
TZOFFSETFROM:-0500
TZOFFSETTO:-0400
TZNAME:EDT
DTSTART:20260308T070000
END:DAYLIGHT
BEGIN:STANDARD
TZOFFSETFROM:-0400
TZOFFSETTO:-0500
TZNAME:EST
DTSTART:20261101T060000
END:STANDARD
BEGIN:DAYLIGHT
TZOFFSETFROM:-0500
TZOFFSETTO:-0400
TZNAME:EDT
DTSTART:20270314T070000
END:DAYLIGHT
BEGIN:STANDARD
TZOFFSETFROM:-0400
TZOFFSETTO:-0500
TZNAME:EST
DTSTART:20271107T060000
END:STANDARD
BEGIN:DAYLIGHT
TZOFFSETFROM:-0500
TZOFFSETTO:-0400
TZNAME:EDT
DTSTART:20280312T070000
END:DAYLIGHT
BEGIN:STANDARD
TZOFFSETFROM:-0400
TZOFFSETTO:-0500
TZNAME:EST
DTSTART:20281105T060000
END:STANDARD
END:VTIMEZONE
BEGIN:VEVENT
DTSTART;TZID=America/Indiana/Indianapolis:20270524T183000
DTEND;TZID=America/Indiana/Indianapolis:20270524T203000
DTSTAMP:20260421T084136
CREATED:20250525T180056Z
LAST-MODIFIED:20260108T203842Z
UID:37140-1811183400-1811190600@welcometocrossroads.org
SUMMARY:Divorce Care
DESCRIPTION:
URL:https://welcometocrossroads.org/event/divorce-care-356/
END:VEVENT
BEGIN:VEVENT
DTSTART;TZID=America/Indiana/Indianapolis:20270524T190000
DTEND;TZID=America/Indiana/Indianapolis:20270524T203000
DTSTAMP:20260421T084136
CREATED:20250525T180054Z
LAST-MODIFIED:20260108T203843Z
UID:37139-1811185200-1811190600@welcometocrossroads.org
SUMMARY:Hey Girl Life Group
DESCRIPTION:
URL:https://welcometocrossroads.org/event/hey-girl-life-group-368/
END:VEVENT
END:VCALENDAR