BEGIN:VCALENDAR
VERSION:2.0
PRODID:-//Crossroads Church - ECPv6.15.17.1//NONSGML v1.0//EN
CALSCALE:GREGORIAN
METHOD:PUBLISH
X-WR-CALNAME:Crossroads Church
X-ORIGINAL-URL:https://welcometocrossroads.org
X-WR-CALDESC:Events for Crossroads Church
REFRESH-INTERVAL;VALUE=DURATION:PT1H
X-Robots-Tag:noindex
X-PUBLISHED-TTL:PT1H
BEGIN:VTIMEZONE
TZID:America/Indiana/Indianapolis
BEGIN:DAYLIGHT
TZOFFSETFROM:-0500
TZOFFSETTO:-0400
TZNAME:EDT
DTSTART:20260308T070000
END:DAYLIGHT
BEGIN:STANDARD
TZOFFSETFROM:-0400
TZOFFSETTO:-0500
TZNAME:EST
DTSTART:20261101T060000
END:STANDARD
BEGIN:DAYLIGHT
TZOFFSETFROM:-0500
TZOFFSETTO:-0400
TZNAME:EDT
DTSTART:20270314T070000
END:DAYLIGHT
BEGIN:STANDARD
TZOFFSETFROM:-0400
TZOFFSETTO:-0500
TZNAME:EST
DTSTART:20271107T060000
END:STANDARD
BEGIN:DAYLIGHT
TZOFFSETFROM:-0500
TZOFFSETTO:-0400
TZNAME:EDT
DTSTART:20280312T070000
END:DAYLIGHT
BEGIN:STANDARD
TZOFFSETFROM:-0400
TZOFFSETTO:-0500
TZNAME:EST
DTSTART:20281105T060000
END:STANDARD
END:VTIMEZONE
BEGIN:VEVENT
DTSTART;TZID=America/Indiana/Indianapolis:20270527T070000
DTEND;TZID=America/Indiana/Indianapolis:20270527T083000
DTSTAMP:20260421T112524
CREATED:20250527T144942Z
LAST-MODIFIED:20260108T203903Z
UID:37708-1811401200-1811406600@welcometocrossroads.org
SUMMARY:Trustees Meeting
DESCRIPTION:
URL:https://welcometocrossroads.org/event/trustees-meeting-108/
LOCATION:117 – 7209 E CR 100 S
END:VEVENT
BEGIN:VEVENT
DTSTART;TZID=America/Indiana/Indianapolis:20270527T133000
DTEND;TZID=America/Indiana/Indianapolis:20270527T143000
DTSTAMP:20260421T112524
CREATED:20260108T203904Z
LAST-MODIFIED:20260108T203904Z
UID:41484-1811424600-1811428200@welcometocrossroads.org
SUMMARY:Operations Meeting
DESCRIPTION:
URL:https://welcometocrossroads.org/event/operations-meeting-73/
END:VEVENT
BEGIN:VEVENT
DTSTART;TZID=America/Indiana/Indianapolis:20270527T140000
DTEND;TZID=America/Indiana/Indianapolis:20270527T150000
DTSTAMP:20260421T112524
CREATED:20250527T144946Z
LAST-MODIFIED:20251117T113417Z
UID:37709-1811426400-1811430000@welcometocrossroads.org
SUMMARY:Operations Weekly Meeting
DESCRIPTION:
URL:https://welcometocrossroads.org/event/operations-weekly-meeting-298/
LOCATION:Crossroads Church – 7209 E County Rd 100 S\, Avon\, IN\, United States
END:VEVENT
BEGIN:VEVENT
DTSTART;TZID=America/Indiana/Indianapolis:20270527T150000
DTEND;TZID=America/Indiana/Indianapolis:20270527T170000
DTSTAMP:20260421T112524
CREATED:20251101T045817Z
LAST-MODIFIED:20251117T113415Z
UID:40608-1811430000-1811437200@welcometocrossroads.org
SUMMARY:Worship Center reserved for filming
DESCRIPTION:
URL:https://welcometocrossroads.org/event/worship-center-reserved-for-filming-82/
END:VEVENT
BEGIN:VEVENT
DTSTART;TZID=America/Indiana/Indianapolis:20270527T183000
DTEND;TZID=America/Indiana/Indianapolis:20270527T200000
DTSTAMP:20260421T112524
CREATED:20250527T145000Z
LAST-MODIFIED:20260108T203906Z
UID:37710-1811442600-1811448000@welcometocrossroads.org
SUMMARY:Men's Bible Study
DESCRIPTION:
URL:https://welcometocrossroads.org/event/mens-bible-study-228/
END:VEVENT
BEGIN:VEVENT
DTSTART;TZID=America/Indiana/Indianapolis:20270527T183000
DTEND;TZID=America/Indiana/Indianapolis:20270527T203000
DTSTAMP:20260421T112524
CREATED:20250527T145006Z
LAST-MODIFIED:20260108T203907Z
UID:37712-1811442600-1811449800@welcometocrossroads.org
SUMMARY:Women in the Word
DESCRIPTION:
URL:https://welcometocrossroads.org/event/women-in-the-word-361/
END:VEVENT
BEGIN:VEVENT
DTSTART;TZID=America/Indiana/Indianapolis:20270527T190000
DTEND;TZID=America/Indiana/Indianapolis:20270527T203000
DTSTAMP:20260421T112524
CREATED:20250527T145003Z
LAST-MODIFIED:20260108T203908Z
UID:37711-1811444400-1811449800@welcometocrossroads.org
SUMMARY:Worship Practice
DESCRIPTION:Weekly Worship Team Practice to Prepare for the weekend
URL:https://welcometocrossroads.org/event/worship-practice-356/
END:VEVENT
END:VCALENDAR