BEGIN:VCALENDAR
VERSION:2.0
PRODID:-//Crossroads Church - ECPv6.15.17.1//NONSGML v1.0//EN
CALSCALE:GREGORIAN
METHOD:PUBLISH
X-ORIGINAL-URL:https://welcometocrossroads.org
X-WR-CALDESC:Events for Crossroads Church
REFRESH-INTERVAL;VALUE=DURATION:PT1H
X-Robots-Tag:noindex
X-PUBLISHED-TTL:PT1H
BEGIN:VTIMEZONE
TZID:America/Indiana/Indianapolis
BEGIN:DAYLIGHT
TZOFFSETFROM:-0500
TZOFFSETTO:-0400
TZNAME:EDT
DTSTART:20260308T070000
END:DAYLIGHT
BEGIN:STANDARD
TZOFFSETFROM:-0400
TZOFFSETTO:-0500
TZNAME:EST
DTSTART:20261101T060000
END:STANDARD
BEGIN:DAYLIGHT
TZOFFSETFROM:-0500
TZOFFSETTO:-0400
TZNAME:EDT
DTSTART:20270314T070000
END:DAYLIGHT
BEGIN:STANDARD
TZOFFSETFROM:-0400
TZOFFSETTO:-0500
TZNAME:EST
DTSTART:20271107T060000
END:STANDARD
BEGIN:DAYLIGHT
TZOFFSETFROM:-0500
TZOFFSETTO:-0400
TZNAME:EDT
DTSTART:20280312T070000
END:DAYLIGHT
BEGIN:STANDARD
TZOFFSETFROM:-0400
TZOFFSETTO:-0500
TZNAME:EST
DTSTART:20281105T060000
END:STANDARD
END:VTIMEZONE
BEGIN:VEVENT
DTSTART;TZID=America/Indiana/Indianapolis:20270530T080000
DTEND;TZID=America/Indiana/Indianapolis:20270530T084500
DTSTAMP:20260425T000042
CREATED:20250622T151701Z
LAST-MODIFIED:20260108T203925Z
UID:37960-1811664000-1811666700@welcometocrossroads.org
SUMMARY:Therefore Life Group
DESCRIPTION:
URL:https://welcometocrossroads.org/event/therefore-life-group-140/
END:VEVENT
BEGIN:VEVENT
DTSTART;TZID=America/Indiana/Indianapolis:20270530T083000
DTEND;TZID=America/Indiana/Indianapolis:20270530T123000
DTSTAMP:20260425T000042
CREATED:20250622T151705Z
LAST-MODIFIED:20251019T005633Z
UID:37961-1811665800-1811680200@welcometocrossroads.org
SUMMARY:Baptism Orientation
DESCRIPTION:Baptism orientation will be held in room 115\, following each service and is a requirement to help you really understand the full meaning of water baptism.    Visit welcometocrossroads.org/Bapistm for more information
URL:https://welcometocrossroads.org/event/baptism-orientation-194/
LOCATION:Room 115
END:VEVENT
BEGIN:VEVENT
DTSTART;TZID=America/Indiana/Indianapolis:20270530T090000
DTEND;TZID=America/Indiana/Indianapolis:20270530T123000
DTSTAMP:20260425T000042
CREATED:20250622T151707Z
LAST-MODIFIED:20251019T005635Z
UID:37962-1811667600-1811680200@welcometocrossroads.org
SUMMARY:Growth Track Recognition
DESCRIPTION:
URL:https://welcometocrossroads.org/event/growth-track-recognition-12/
END:VEVENT
BEGIN:VEVENT
DTSTART;TZID=America/Indiana/Indianapolis:20270530T133000
DTEND;TZID=America/Indiana/Indianapolis:20270530T160000
DTSTAMP:20260425T000042
CREATED:20250622T151710Z
LAST-MODIFIED:20260108T203926Z
UID:37963-1811683800-1811692800@welcometocrossroads.org
SUMMARY:Christ's Ambassadors
DESCRIPTION:
URL:https://welcometocrossroads.org/event/christs-ambassadors-161/
END:VEVENT
BEGIN:VEVENT
DTSTART;TZID=America/Indiana/Indianapolis:20270530T170000
DTEND;TZID=America/Indiana/Indianapolis:20270530T183000
DTSTAMP:20260425T000042
CREATED:20250622T151719Z
LAST-MODIFIED:20260108T203927Z
UID:37966-1811696400-1811701800@welcometocrossroads.org
SUMMARY:Girl’s Ministry
DESCRIPTION:
URL:https://welcometocrossroads.org/event/girls-ministry-143/
END:VEVENT
BEGIN:VEVENT
DTSTART;TZID=America/Indiana/Indianapolis:20270530T173000
DTEND;TZID=America/Indiana/Indianapolis:20270530T180000
DTSTAMP:20260425T000042
CREATED:20250622T151713Z
LAST-MODIFIED:20260108T203929Z
UID:37964-1811698200-1811700000@welcometocrossroads.org
SUMMARY:CSM - Leader Huddle
DESCRIPTION:
URL:https://welcometocrossroads.org/event/csm-leader-huddle-440/
LOCATION:102
END:VEVENT
BEGIN:VEVENT
DTSTART;TZID=America/Indiana/Indianapolis:20270530T180000
DTEND;TZID=America/Indiana/Indianapolis:20270530T203000
DTSTAMP:20260425T000042
CREATED:20250622T151716Z
LAST-MODIFIED:20260108T203930Z
UID:37965-1811700000-1811709000@welcometocrossroads.org
SUMMARY:CSM - Crossroads Students Ministries
DESCRIPTION:
URL:https://welcometocrossroads.org/event/csm-crossroads-students-ministries-198/
LOCATION:CSM – 7209 E County Rd 100 S\, Avon\, IN\, United States
END:VEVENT
END:VCALENDAR