BEGIN:VCALENDAR
VERSION:2.0
PRODID:-//Crossroads Church - ECPv6.15.17.1//NONSGML v1.0//EN
CALSCALE:GREGORIAN
METHOD:PUBLISH
X-ORIGINAL-URL:https://welcometocrossroads.org
X-WR-CALDESC:Events for Crossroads Church
REFRESH-INTERVAL;VALUE=DURATION:PT1H
X-Robots-Tag:noindex
X-PUBLISHED-TTL:PT1H
BEGIN:VTIMEZONE
TZID:America/Indiana/Indianapolis
BEGIN:DAYLIGHT
TZOFFSETFROM:-0500
TZOFFSETTO:-0400
TZNAME:EDT
DTSTART:20260308T070000
END:DAYLIGHT
BEGIN:STANDARD
TZOFFSETFROM:-0400
TZOFFSETTO:-0500
TZNAME:EST
DTSTART:20261101T060000
END:STANDARD
BEGIN:DAYLIGHT
TZOFFSETFROM:-0500
TZOFFSETTO:-0400
TZNAME:EDT
DTSTART:20270314T070000
END:DAYLIGHT
BEGIN:STANDARD
TZOFFSETFROM:-0400
TZOFFSETTO:-0500
TZNAME:EST
DTSTART:20271107T060000
END:STANDARD
BEGIN:DAYLIGHT
TZOFFSETFROM:-0500
TZOFFSETTO:-0400
TZNAME:EDT
DTSTART:20280312T070000
END:DAYLIGHT
BEGIN:STANDARD
TZOFFSETFROM:-0400
TZOFFSETTO:-0500
TZNAME:EST
DTSTART:20281105T060000
END:STANDARD
END:VTIMEZONE
BEGIN:VEVENT
DTSTART;TZID=America/Indiana/Indianapolis:20270602T100000
DTEND;TZID=America/Indiana/Indianapolis:20270602T110000
DTSTAMP:20260421T095033
CREATED:20250622T151752Z
LAST-MODIFIED:20251117T113646Z
UID:37974-1811930400-1811934000@welcometocrossroads.org
SUMMARY:Senior Luncheon: Setup
DESCRIPTION:
URL:https://welcometocrossroads.org/event/senior-luncheon-setup-110/
END:VEVENT
BEGIN:VEVENT
DTSTART;TZID=America/Indiana/Indianapolis:20270602T113000
DTEND;TZID=America/Indiana/Indianapolis:20270602T133000
DTSTAMP:20260421T095033
CREATED:20250622T151755Z
LAST-MODIFIED:20260108T203951Z
UID:37975-1811935800-1811943000@welcometocrossroads.org
SUMMARY:Senior Luncheon
DESCRIPTION:
URL:https://welcometocrossroads.org/event/senior-luncheon-131/
END:VEVENT
BEGIN:VEVENT
DTSTART;TZID=America/Indiana/Indianapolis:20270602T130000
DTEND;TZID=America/Indiana/Indianapolis:20270602T140000
DTSTAMP:20260421T095033
CREATED:20250622T151758Z
LAST-MODIFIED:20251117T113911Z
UID:37976-1811941200-1811944800@welcometocrossroads.org
SUMMARY:Senior Luncheon: Teardown
DESCRIPTION:
URL:https://welcometocrossroads.org/event/senior-luncheon-teardown-110/
END:VEVENT
BEGIN:VEVENT
DTSTART;TZID=America/Indiana/Indianapolis:20270602T140000
DTEND;TZID=America/Indiana/Indianapolis:20270602T160000
DTSTAMP:20260421T095033
CREATED:20250622T151813Z
LAST-MODIFIED:20251001T210507Z
UID:37977-1811944800-1811952000@welcometocrossroads.org
SUMMARY:The Way
DESCRIPTION:
URL:https://welcometocrossroads.org/event/the-way-49/
END:VEVENT
BEGIN:VEVENT
DTSTART;TZID=America/Indiana/Indianapolis:20270602T140000
DTEND;TZID=America/Indiana/Indianapolis:20270602T160000
DTSTAMP:20260421T095033
CREATED:20251003T000231Z
LAST-MODIFIED:20251117T113649Z
UID:40069-1811944800-1811952000@welcometocrossroads.org
SUMMARY:The Way
DESCRIPTION:
URL:https://welcometocrossroads.org/event/the-way-96/
END:VEVENT
BEGIN:VEVENT
DTSTART;TZID=America/Indiana/Indianapolis:20270602T140000
DTEND;TZID=America/Indiana/Indianapolis:20270602T160000
DTSTAMP:20260421T095033
CREATED:20260108T203952Z
LAST-MODIFIED:20260108T203952Z
UID:41486-1811944800-1811952000@welcometocrossroads.org
SUMMARY:The Way
DESCRIPTION:
URL:https://welcometocrossroads.org/event/the-way-181/
END:VEVENT
BEGIN:VEVENT
DTSTART;TZID=America/Indiana/Indianapolis:20270602T180000
DTEND;TZID=America/Indiana/Indianapolis:20270602T200000
DTSTAMP:20260421T095033
CREATED:20250622T151815Z
LAST-MODIFIED:20260108T203956Z
UID:37978-1811959200-1811966400@welcometocrossroads.org
SUMMARY:Women's Wellness LG
DESCRIPTION:Women’s LG\nVisit welcometocrossroads.org/groups for more information
URL:https://welcometocrossroads.org/event/womens-wellness-lg-260/
END:VEVENT
BEGIN:VEVENT
DTSTART;TZID=America/Indiana/Indianapolis:20270602T180000
DTEND;TZID=America/Indiana/Indianapolis:20270602T210000
DTSTAMP:20260421T095033
CREATED:20250622T151818Z
LAST-MODIFIED:20260108T203954Z
UID:37979-1811959200-1811970000@welcometocrossroads.org
SUMMARY:The Well - College & Career: The Well - College & Career Weekly Meetings
DESCRIPTION:
URL:https://welcometocrossroads.org/event/the-well-college-career-the-well-college-career-weekly-meetings-46/
END:VEVENT
BEGIN:VEVENT
DTSTART;TZID=America/Indiana/Indianapolis:20270602T190000
DTEND;TZID=America/Indiana/Indianapolis:20270602T203000
DTSTAMP:20260421T095033
CREATED:20260108T203953Z
LAST-MODIFIED:20260108T203953Z
UID:41487-1811962800-1811968200@welcometocrossroads.org
SUMMARY:Life Group
DESCRIPTION:
URL:https://welcometocrossroads.org/event/life-group-72/
END:VEVENT
END:VCALENDAR