BEGIN:VCALENDAR
VERSION:2.0
PRODID:-//Crossroads Church - ECPv6.15.17.1//NONSGML v1.0//EN
CALSCALE:GREGORIAN
METHOD:PUBLISH
X-ORIGINAL-URL:https://welcometocrossroads.org
X-WR-CALDESC:Events for Crossroads Church
REFRESH-INTERVAL;VALUE=DURATION:PT1H
X-Robots-Tag:noindex
X-PUBLISHED-TTL:PT1H
BEGIN:VTIMEZONE
TZID:America/Indiana/Indianapolis
BEGIN:DAYLIGHT
TZOFFSETFROM:-0500
TZOFFSETTO:-0400
TZNAME:EDT
DTSTART:20260308T070000
END:DAYLIGHT
BEGIN:STANDARD
TZOFFSETFROM:-0400
TZOFFSETTO:-0500
TZNAME:EST
DTSTART:20261101T060000
END:STANDARD
BEGIN:DAYLIGHT
TZOFFSETFROM:-0500
TZOFFSETTO:-0400
TZNAME:EDT
DTSTART:20270314T070000
END:DAYLIGHT
BEGIN:STANDARD
TZOFFSETFROM:-0400
TZOFFSETTO:-0500
TZNAME:EST
DTSTART:20271107T060000
END:STANDARD
BEGIN:DAYLIGHT
TZOFFSETFROM:-0500
TZOFFSETTO:-0400
TZNAME:EDT
DTSTART:20280312T070000
END:DAYLIGHT
BEGIN:STANDARD
TZOFFSETFROM:-0400
TZOFFSETTO:-0500
TZNAME:EST
DTSTART:20281105T060000
END:STANDARD
END:VTIMEZONE
BEGIN:VEVENT
DTSTART;TZID=America/Indiana/Indianapolis:20270603T133000
DTEND;TZID=America/Indiana/Indianapolis:20270603T143000
DTSTAMP:20260421T133535
CREATED:20260108T203957Z
LAST-MODIFIED:20260108T203957Z
UID:41488-1812029400-1812033000@welcometocrossroads.org
SUMMARY:Operations Meeting
DESCRIPTION:
URL:https://welcometocrossroads.org/event/operations-meeting-74/
END:VEVENT
BEGIN:VEVENT
DTSTART;TZID=America/Indiana/Indianapolis:20270603T140000
DTEND;TZID=America/Indiana/Indianapolis:20270603T150000
DTSTAMP:20260421T133535
CREATED:20250622T151821Z
LAST-MODIFIED:20251117T113915Z
UID:37980-1812031200-1812034800@welcometocrossroads.org
SUMMARY:Operations Weekly Meeting
DESCRIPTION:
URL:https://welcometocrossroads.org/event/operations-weekly-meeting-299/
LOCATION:Crossroads Church – 7209 E County Rd 100 S\, Avon\, IN\, United States
END:VEVENT
BEGIN:VEVENT
DTSTART;TZID=America/Indiana/Indianapolis:20270603T150000
DTEND;TZID=America/Indiana/Indianapolis:20270603T170000
DTSTAMP:20260421T133535
CREATED:20251101T045924Z
LAST-MODIFIED:20251117T113916Z
UID:40609-1812034800-1812042000@welcometocrossroads.org
SUMMARY:Worship Center reserved for filming
DESCRIPTION:
URL:https://welcometocrossroads.org/event/worship-center-reserved-for-filming-83/
END:VEVENT
BEGIN:VEVENT
DTSTART;TZID=America/Indiana/Indianapolis:20270603T183000
DTEND;TZID=America/Indiana/Indianapolis:20270603T200000
DTSTAMP:20260421T133535
CREATED:20250622T151830Z
LAST-MODIFIED:20260108T203958Z
UID:37983-1812047400-1812052800@welcometocrossroads.org
SUMMARY:Men's Bible Study
DESCRIPTION:
URL:https://welcometocrossroads.org/event/mens-bible-study-229/
END:VEVENT
BEGIN:VEVENT
DTSTART;TZID=America/Indiana/Indianapolis:20270603T183000
DTEND;TZID=America/Indiana/Indianapolis:20270603T203000
DTSTAMP:20260421T133535
CREATED:20250622T151827Z
LAST-MODIFIED:20260108T204000Z
UID:37982-1812047400-1812054600@welcometocrossroads.org
SUMMARY:Women in the Word
DESCRIPTION:
URL:https://welcometocrossroads.org/event/women-in-the-word-362/
END:VEVENT
BEGIN:VEVENT
DTSTART;TZID=America/Indiana/Indianapolis:20270603T190000
DTEND;TZID=America/Indiana/Indianapolis:20270603T203000
DTSTAMP:20260421T133535
CREATED:20250622T151824Z
LAST-MODIFIED:20260108T203959Z
UID:37981-1812049200-1812054600@welcometocrossroads.org
SUMMARY:Worship Practice
DESCRIPTION:Weekly Worship Team Practice to Prepare for the weekend
URL:https://welcometocrossroads.org/event/worship-practice-357/
END:VEVENT
END:VCALENDAR