BEGIN:VCALENDAR
VERSION:2.0
PRODID:-//Crossroads Church - ECPv6.15.17.1//NONSGML v1.0//EN
CALSCALE:GREGORIAN
METHOD:PUBLISH
X-WR-CALNAME:Crossroads Church
X-ORIGINAL-URL:https://welcometocrossroads.org
X-WR-CALDESC:Events for Crossroads Church
REFRESH-INTERVAL;VALUE=DURATION:PT1H
X-Robots-Tag:noindex
X-PUBLISHED-TTL:PT1H
BEGIN:VTIMEZONE
TZID:America/Indiana/Indianapolis
BEGIN:DAYLIGHT
TZOFFSETFROM:-0500
TZOFFSETTO:-0400
TZNAME:EDT
DTSTART:20260308T070000
END:DAYLIGHT
BEGIN:STANDARD
TZOFFSETFROM:-0400
TZOFFSETTO:-0500
TZNAME:EST
DTSTART:20261101T060000
END:STANDARD
BEGIN:DAYLIGHT
TZOFFSETFROM:-0500
TZOFFSETTO:-0400
TZNAME:EDT
DTSTART:20270314T070000
END:DAYLIGHT
BEGIN:STANDARD
TZOFFSETFROM:-0400
TZOFFSETTO:-0500
TZNAME:EST
DTSTART:20271107T060000
END:STANDARD
BEGIN:DAYLIGHT
TZOFFSETFROM:-0500
TZOFFSETTO:-0400
TZNAME:EDT
DTSTART:20280312T070000
END:DAYLIGHT
BEGIN:STANDARD
TZOFFSETFROM:-0400
TZOFFSETTO:-0500
TZNAME:EST
DTSTART:20281105T060000
END:STANDARD
END:VTIMEZONE
BEGIN:VEVENT
DTSTART;TZID=America/Indiana/Indianapolis:20270606T080000
DTEND;TZID=America/Indiana/Indianapolis:20270606T084500
DTSTAMP:20260421T124837
CREATED:20250622T151838Z
LAST-MODIFIED:20260108T204015Z
UID:37986-1812268800-1812271500@welcometocrossroads.org
SUMMARY:Therefore Life Group
DESCRIPTION:
URL:https://welcometocrossroads.org/event/therefore-life-group-141/
END:VEVENT
BEGIN:VEVENT
DTSTART;TZID=America/Indiana/Indianapolis:20270606T103000
DTEND;TZID=America/Indiana/Indianapolis:20270606T123000
DTSTAMP:20260421T124837
CREATED:20250622T151852Z
LAST-MODIFIED:20260108T204016Z
UID:37987-1812277800-1812285000@welcometocrossroads.org
SUMMARY:Joyfully His LG
DESCRIPTION:
URL:https://welcometocrossroads.org/event/joyfully-his-lg-168/
END:VEVENT
BEGIN:VEVENT
DTSTART;TZID=America/Indiana/Indianapolis:20270606T110000
DTEND;TZID=America/Indiana/Indianapolis:20270606T113000
DTSTAMP:20260421T124837
CREATED:20250622T151856Z
LAST-MODIFIED:20260108T204018Z
UID:37988-1812279600-1812281400@welcometocrossroads.org
SUMMARY:Growth Track
DESCRIPTION:
URL:https://welcometocrossroads.org/event/growth-track-431/
LOCATION:Room 117 – Crossroads Church
END:VEVENT
BEGIN:VEVENT
DTSTART;TZID=America/Indiana/Indianapolis:20270606T133000
DTEND;TZID=America/Indiana/Indianapolis:20270606T160000
DTSTAMP:20260421T124837
CREATED:20250622T151858Z
LAST-MODIFIED:20260108T204019Z
UID:37989-1812288600-1812297600@welcometocrossroads.org
SUMMARY:Christ's Ambassadors
DESCRIPTION:
URL:https://welcometocrossroads.org/event/christs-ambassadors-162/
END:VEVENT
BEGIN:VEVENT
DTSTART;TZID=America/Indiana/Indianapolis:20270606T170000
DTEND;TZID=America/Indiana/Indianapolis:20270606T183000
DTSTAMP:20260421T124837
CREATED:20250622T151901Z
LAST-MODIFIED:20260108T204020Z
UID:37990-1812301200-1812306600@welcometocrossroads.org
SUMMARY:Girl’s Ministry
DESCRIPTION:
URL:https://welcometocrossroads.org/event/girls-ministry-144/
END:VEVENT
BEGIN:VEVENT
DTSTART;TZID=America/Indiana/Indianapolis:20270606T173000
DTEND;TZID=America/Indiana/Indianapolis:20270606T180000
DTSTAMP:20260421T124837
CREATED:20250622T151909Z
LAST-MODIFIED:20260108T204022Z
UID:37992-1812303000-1812304800@welcometocrossroads.org
SUMMARY:CSM - Leader Huddle
DESCRIPTION:
URL:https://welcometocrossroads.org/event/csm-leader-huddle-441/
LOCATION:102
END:VEVENT
BEGIN:VEVENT
DTSTART;TZID=America/Indiana/Indianapolis:20270606T180000
DTEND;TZID=America/Indiana/Indianapolis:20270606T203000
DTSTAMP:20260421T124837
CREATED:20250622T151904Z
LAST-MODIFIED:20260108T204023Z
UID:37991-1812304800-1812313800@welcometocrossroads.org
SUMMARY:CSM - Crossroads Students Ministries
DESCRIPTION:
URL:https://welcometocrossroads.org/event/csm-crossroads-students-ministries-199/
LOCATION:CSM – 7209 E County Rd 100 S\, Avon\, IN\, United States
END:VEVENT
END:VCALENDAR