BEGIN:VCALENDAR
VERSION:2.0
PRODID:-//Crossroads Church - ECPv6.15.17.1//NONSGML v1.0//EN
CALSCALE:GREGORIAN
METHOD:PUBLISH
X-ORIGINAL-URL:https://welcometocrossroads.org
X-WR-CALDESC:Events for Crossroads Church
REFRESH-INTERVAL;VALUE=DURATION:PT1H
X-Robots-Tag:noindex
X-PUBLISHED-TTL:PT1H
BEGIN:VTIMEZONE
TZID:America/Indiana/Indianapolis
BEGIN:DAYLIGHT
TZOFFSETFROM:-0500
TZOFFSETTO:-0400
TZNAME:EDT
DTSTART:20260308T070000
END:DAYLIGHT
BEGIN:STANDARD
TZOFFSETFROM:-0400
TZOFFSETTO:-0500
TZNAME:EST
DTSTART:20261101T060000
END:STANDARD
BEGIN:DAYLIGHT
TZOFFSETFROM:-0500
TZOFFSETTO:-0400
TZNAME:EDT
DTSTART:20270314T070000
END:DAYLIGHT
BEGIN:STANDARD
TZOFFSETFROM:-0400
TZOFFSETTO:-0500
TZNAME:EST
DTSTART:20271107T060000
END:STANDARD
BEGIN:DAYLIGHT
TZOFFSETFROM:-0500
TZOFFSETTO:-0400
TZNAME:EDT
DTSTART:20280312T070000
END:DAYLIGHT
BEGIN:STANDARD
TZOFFSETFROM:-0400
TZOFFSETTO:-0500
TZNAME:EST
DTSTART:20281105T060000
END:STANDARD
END:VTIMEZONE
BEGIN:VEVENT
DTSTART;TZID=America/Indiana/Indianapolis:20270608T093000
DTEND;TZID=America/Indiana/Indianapolis:20270608T123000
DTSTAMP:20260421T125035
CREATED:20250622T151936Z
LAST-MODIFIED:20251117T114158Z
UID:37998-1812447000-1812457800@welcometocrossroads.org
SUMMARY:S-Meeting
DESCRIPTION:
URL:https://welcometocrossroads.org/event/s-meeting-953/
END:VEVENT
BEGIN:VEVENT
DTSTART;TZID=America/Indiana/Indianapolis:20270608T093000
DTEND;TZID=America/Indiana/Indianapolis:20270608T123000
DTSTAMP:20260421T125035
CREATED:20260108T204042Z
LAST-MODIFIED:20260108T204042Z
UID:41489-1812447000-1812457800@welcometocrossroads.org
SUMMARY:S-Meeting
DESCRIPTION:
URL:https://welcometocrossroads.org/event/s-meeting-1051/
END:VEVENT
BEGIN:VEVENT
DTSTART;TZID=America/Indiana/Indianapolis:20270608T100000
DTEND;TZID=America/Indiana/Indianapolis:20270608T110000
DTSTAMP:20260421T125035
CREATED:20250622T151939Z
LAST-MODIFIED:20260108T204044Z
UID:37999-1812448800-1812452400@welcometocrossroads.org
SUMMARY:Daycare Gymnastics
DESCRIPTION:
URL:https://welcometocrossroads.org/event/daycare-gymnastics-139/
END:VEVENT
BEGIN:VEVENT
DTSTART;TZID=America/Indiana/Indianapolis:20270608T100000
DTEND;TZID=America/Indiana/Indianapolis:20270608T123000
DTSTAMP:20260421T125035
CREATED:20250622T151934Z
LAST-MODIFIED:20260108T204043Z
UID:37997-1812448800-1812457800@welcometocrossroads.org
SUMMARY:LBS
DESCRIPTION:
URL:https://welcometocrossroads.org/event/lbs-50/
END:VEVENT
BEGIN:VEVENT
DTSTART;TZID=America/Indiana/Indianapolis:20270608T103000
DTEND;TZID=America/Indiana/Indianapolis:20270608T133000
DTSTAMP:20260421T125035
CREATED:20250622T151919Z
LAST-MODIFIED:20260108T204041Z
UID:37996-1812450600-1812461400@welcometocrossroads.org
SUMMARY:Private Event-MIBOR
DESCRIPTION:
URL:https://welcometocrossroads.org/event/private-event-mibor-46/
END:VEVENT
BEGIN:VEVENT
DTSTART;TZID=America/Indiana/Indianapolis:20270608T183000
DTEND;TZID=America/Indiana/Indianapolis:20270608T200000
DTSTAMP:20260421T125035
CREATED:20250622T151942Z
LAST-MODIFIED:20260108T204047Z
UID:38000-1812479400-1812484800@welcometocrossroads.org
SUMMARY:Pine Tree Elementary Outreach Team
DESCRIPTION:
URL:https://welcometocrossroads.org/event/pine-tree-elementary-outreach-team-50/
END:VEVENT
BEGIN:VEVENT
DTSTART;TZID=America/Indiana/Indianapolis:20270608T190000
DTEND;TZID=America/Indiana/Indianapolis:20270608T203000
DTSTAMP:20260421T125035
CREATED:20250622T151945Z
LAST-MODIFIED:20260108T204046Z
UID:38001-1812481200-1812486600@welcometocrossroads.org
SUMMARY:The Frontline
DESCRIPTION:
URL:https://welcometocrossroads.org/event/the-frontline-106/
END:VEVENT
END:VCALENDAR