BEGIN:VCALENDAR
VERSION:2.0
PRODID:-//Crossroads Church - ECPv6.15.17.1//NONSGML v1.0//EN
CALSCALE:GREGORIAN
METHOD:PUBLISH
X-WR-CALNAME:Crossroads Church
X-ORIGINAL-URL:https://welcometocrossroads.org
X-WR-CALDESC:Events for Crossroads Church
REFRESH-INTERVAL;VALUE=DURATION:PT1H
X-Robots-Tag:noindex
X-PUBLISHED-TTL:PT1H
BEGIN:VTIMEZONE
TZID:America/Indiana/Indianapolis
BEGIN:DAYLIGHT
TZOFFSETFROM:-0500
TZOFFSETTO:-0400
TZNAME:EDT
DTSTART:20260308T070000
END:DAYLIGHT
BEGIN:STANDARD
TZOFFSETFROM:-0400
TZOFFSETTO:-0500
TZNAME:EST
DTSTART:20261101T060000
END:STANDARD
BEGIN:DAYLIGHT
TZOFFSETFROM:-0500
TZOFFSETTO:-0400
TZNAME:EDT
DTSTART:20270314T070000
END:DAYLIGHT
BEGIN:STANDARD
TZOFFSETFROM:-0400
TZOFFSETTO:-0500
TZNAME:EST
DTSTART:20271107T060000
END:STANDARD
BEGIN:DAYLIGHT
TZOFFSETFROM:-0500
TZOFFSETTO:-0400
TZNAME:EDT
DTSTART:20280312T070000
END:DAYLIGHT
BEGIN:STANDARD
TZOFFSETFROM:-0400
TZOFFSETTO:-0500
TZNAME:EST
DTSTART:20281105T060000
END:STANDARD
END:VTIMEZONE
BEGIN:VEVENT
DTSTART;TZID=America/Indiana/Indianapolis:20270609T003000
DTEND;TZID=America/Indiana/Indianapolis:20270609T133000
DTSTAMP:20260421T113308
CREATED:20260108T204048Z
LAST-MODIFIED:20260108T204048Z
UID:41490-1812501000-1812547800@welcometocrossroads.org
SUMMARY:ATF Meeting
DESCRIPTION:
URL:https://welcometocrossroads.org/event/atf-meeting-60/
END:VEVENT
BEGIN:VEVENT
DTSTART;TZID=America/Indiana/Indianapolis:20270609T100000
DTEND;TZID=America/Indiana/Indianapolis:20270609T110000
DTSTAMP:20260421T113308
CREATED:20250622T151948Z
LAST-MODIFIED:20251117T114204Z
UID:38002-1812535200-1812538800@welcometocrossroads.org
SUMMARY:ATF Meeting
DESCRIPTION:
URL:https://welcometocrossroads.org/event/atf-meeting-37/
END:VEVENT
BEGIN:VEVENT
DTSTART;TZID=America/Indiana/Indianapolis:20270609T140000
DTEND;TZID=America/Indiana/Indianapolis:20270609T160000
DTSTAMP:20260421T113308
CREATED:20260108T204049Z
LAST-MODIFIED:20260108T204049Z
UID:41491-1812549600-1812556800@welcometocrossroads.org
SUMMARY:The Way
DESCRIPTION:
URL:https://welcometocrossroads.org/event/the-way-182/
END:VEVENT
BEGIN:VEVENT
DTSTART;TZID=America/Indiana/Indianapolis:20270609T190000
DTEND;TZID=America/Indiana/Indianapolis:20270609T203000
DTSTAMP:20260421T113308
CREATED:20260108T204103Z
LAST-MODIFIED:20260108T204103Z
UID:41492-1812567600-1812573000@welcometocrossroads.org
SUMMARY:Life Group
DESCRIPTION:
URL:https://welcometocrossroads.org/event/life-group-73/
END:VEVENT
END:VCALENDAR