BEGIN:VCALENDAR
VERSION:2.0
PRODID:-//Crossroads Church - ECPv6.15.17.1//NONSGML v1.0//EN
CALSCALE:GREGORIAN
METHOD:PUBLISH
X-WR-CALNAME:Crossroads Church
X-ORIGINAL-URL:https://welcometocrossroads.org
X-WR-CALDESC:Events for Crossroads Church
REFRESH-INTERVAL;VALUE=DURATION:PT1H
X-Robots-Tag:noindex
X-PUBLISHED-TTL:PT1H
BEGIN:VTIMEZONE
TZID:America/Indiana/Indianapolis
BEGIN:DAYLIGHT
TZOFFSETFROM:-0500
TZOFFSETTO:-0400
TZNAME:EDT
DTSTART:20260308T070000
END:DAYLIGHT
BEGIN:STANDARD
TZOFFSETFROM:-0400
TZOFFSETTO:-0500
TZNAME:EST
DTSTART:20261101T060000
END:STANDARD
BEGIN:DAYLIGHT
TZOFFSETFROM:-0500
TZOFFSETTO:-0400
TZNAME:EDT
DTSTART:20270314T070000
END:DAYLIGHT
BEGIN:STANDARD
TZOFFSETFROM:-0400
TZOFFSETTO:-0500
TZNAME:EST
DTSTART:20271107T060000
END:STANDARD
BEGIN:DAYLIGHT
TZOFFSETFROM:-0500
TZOFFSETTO:-0400
TZNAME:EDT
DTSTART:20280312T070000
END:DAYLIGHT
BEGIN:STANDARD
TZOFFSETFROM:-0400
TZOFFSETTO:-0500
TZNAME:EST
DTSTART:20281105T060000
END:STANDARD
END:VTIMEZONE
BEGIN:VEVENT
DTSTART;TZID=America/Indiana/Indianapolis:20270620T080000
DTEND;TZID=America/Indiana/Indianapolis:20270620T084500
DTSTAMP:20260424T100907
CREATED:20250622T152200Z
LAST-MODIFIED:20260108T204219Z
UID:38036-1813478400-1813481100@welcometocrossroads.org
SUMMARY:Therefore Life Group
DESCRIPTION:
URL:https://welcometocrossroads.org/event/therefore-life-group-143/
END:VEVENT
BEGIN:VEVENT
DTSTART;TZID=America/Indiana/Indianapolis:20270620T090000
DTEND;TZID=America/Indiana/Indianapolis:20270620T130000
DTSTAMP:20260424T100907
CREATED:20250622T152215Z
LAST-MODIFIED:20260108T204220Z
UID:38037-1813482000-1813496400@welcometocrossroads.org
SUMMARY:Communion Sunday
DESCRIPTION:
URL:https://welcometocrossroads.org/event/communion-sunday-46/
END:VEVENT
BEGIN:VEVENT
DTSTART;TZID=America/Indiana/Indianapolis:20270620T110000
DTEND;TZID=America/Indiana/Indianapolis:20270620T115900
DTSTAMP:20260424T100907
CREATED:20250622T152219Z
LAST-MODIFIED:20260108T204221Z
UID:38038-1813489200-1813492740@welcometocrossroads.org
SUMMARY:Growth Track
DESCRIPTION:
URL:https://welcometocrossroads.org/event/growth-track-433/
LOCATION:Room 117
END:VEVENT
BEGIN:VEVENT
DTSTART;TZID=America/Indiana/Indianapolis:20270620T123000
DTEND;TZID=America/Indiana/Indianapolis:20270620T143000
DTSTAMP:20260424T100907
CREATED:20250622T152221Z
LAST-MODIFIED:20260108T204222Z
UID:38039-1813494600-1813501800@welcometocrossroads.org
SUMMARY:Joyfully His LG
DESCRIPTION:
URL:https://welcometocrossroads.org/event/joyfully-his-lg-169/
END:VEVENT
BEGIN:VEVENT
DTSTART;TZID=America/Indiana/Indianapolis:20270620T133000
DTEND;TZID=America/Indiana/Indianapolis:20270620T160000
DTSTAMP:20260424T100907
CREATED:20250622T152224Z
LAST-MODIFIED:20260108T204224Z
UID:38040-1813498200-1813507200@welcometocrossroads.org
SUMMARY:Christ's Ambassadors
DESCRIPTION:
URL:https://welcometocrossroads.org/event/christs-ambassadors-164/
END:VEVENT
BEGIN:VEVENT
DTSTART;TZID=America/Indiana/Indianapolis:20270620T170000
DTEND;TZID=America/Indiana/Indianapolis:20270620T183000
DTSTAMP:20260424T100907
CREATED:20250622T152229Z
LAST-MODIFIED:20260108T204225Z
UID:38041-1813510800-1813516200@welcometocrossroads.org
SUMMARY:Girl’s Ministry
DESCRIPTION:
URL:https://welcometocrossroads.org/event/girls-ministry-146/
END:VEVENT
BEGIN:VEVENT
DTSTART;TZID=America/Indiana/Indianapolis:20270620T173000
DTEND;TZID=America/Indiana/Indianapolis:20270620T180000
DTSTAMP:20260424T100907
CREATED:20250622T152239Z
LAST-MODIFIED:20260108T204238Z
UID:38043-1813512600-1813514400@welcometocrossroads.org
SUMMARY:CSM - Leader Huddle
DESCRIPTION:
URL:https://welcometocrossroads.org/event/csm-leader-huddle-443/
LOCATION:102
END:VEVENT
BEGIN:VEVENT
DTSTART;TZID=America/Indiana/Indianapolis:20270620T180000
DTEND;TZID=America/Indiana/Indianapolis:20270620T203000
DTSTAMP:20260424T100907
CREATED:20250622T152236Z
LAST-MODIFIED:20260108T204239Z
UID:38042-1813514400-1813523400@welcometocrossroads.org
SUMMARY:CSM - Crossroads Students Ministries
DESCRIPTION:
URL:https://welcometocrossroads.org/event/csm-crossroads-students-ministries-201/
LOCATION:CSM – 7209 E County Rd 100 S\, Avon\, IN\, United States
END:VEVENT
END:VCALENDAR