BEGIN:VCALENDAR
VERSION:2.0
PRODID:-//Crossroads Church - ECPv6.15.17.1//NONSGML v1.0//EN
CALSCALE:GREGORIAN
METHOD:PUBLISH
X-ORIGINAL-URL:https://welcometocrossroads.org
X-WR-CALDESC:Events for Crossroads Church
REFRESH-INTERVAL;VALUE=DURATION:PT1H
X-Robots-Tag:noindex
X-PUBLISHED-TTL:PT1H
BEGIN:VTIMEZONE
TZID:America/Indiana/Indianapolis
BEGIN:DAYLIGHT
TZOFFSETFROM:-0500
TZOFFSETTO:-0400
TZNAME:EDT
DTSTART:20260308T070000
END:DAYLIGHT
BEGIN:STANDARD
TZOFFSETFROM:-0400
TZOFFSETTO:-0500
TZNAME:EST
DTSTART:20261101T060000
END:STANDARD
BEGIN:DAYLIGHT
TZOFFSETFROM:-0500
TZOFFSETTO:-0400
TZNAME:EDT
DTSTART:20270314T070000
END:DAYLIGHT
BEGIN:STANDARD
TZOFFSETFROM:-0400
TZOFFSETTO:-0500
TZNAME:EST
DTSTART:20271107T060000
END:STANDARD
BEGIN:DAYLIGHT
TZOFFSETFROM:-0500
TZOFFSETTO:-0400
TZNAME:EDT
DTSTART:20280312T070000
END:DAYLIGHT
BEGIN:STANDARD
TZOFFSETFROM:-0400
TZOFFSETTO:-0500
TZNAME:EST
DTSTART:20281105T060000
END:STANDARD
END:VTIMEZONE
BEGIN:VEVENT
DTSTART;TZID=America/Indiana/Indianapolis:20270627T080000
DTEND;TZID=America/Indiana/Indianapolis:20270627T084500
DTSTAMP:20260423T044156
CREATED:20250702T105310Z
LAST-MODIFIED:20260108T204312Z
UID:38210-1814083200-1814085900@welcometocrossroads.org
SUMMARY:Therefore Life Group
DESCRIPTION:
URL:https://welcometocrossroads.org/event/therefore-life-group-144/
END:VEVENT
BEGIN:VEVENT
DTSTART;TZID=America/Indiana/Indianapolis:20270627T110000
DTEND;TZID=America/Indiana/Indianapolis:20270627T113000
DTSTAMP:20260423T044156
CREATED:20250702T105312Z
LAST-MODIFIED:20260108T204314Z
UID:38211-1814094000-1814095800@welcometocrossroads.org
SUMMARY:Growth Track
DESCRIPTION:
URL:https://welcometocrossroads.org/event/growth-track-434/
LOCATION:Room 117
END:VEVENT
BEGIN:VEVENT
DTSTART;TZID=America/Indiana/Indianapolis:20270627T133000
DTEND;TZID=America/Indiana/Indianapolis:20270627T160000
DTSTAMP:20260423T044156
CREATED:20250702T105314Z
LAST-MODIFIED:20260108T204327Z
UID:38212-1814103000-1814112000@welcometocrossroads.org
SUMMARY:Christ's Ambassadors
DESCRIPTION:
URL:https://welcometocrossroads.org/event/christs-ambassadors-165/
END:VEVENT
BEGIN:VEVENT
DTSTART;TZID=America/Indiana/Indianapolis:20270627T170000
DTEND;TZID=America/Indiana/Indianapolis:20270627T183000
DTSTAMP:20260423T044156
CREATED:20250702T105318Z
LAST-MODIFIED:20260108T204328Z
UID:38214-1814115600-1814121000@welcometocrossroads.org
SUMMARY:Girl’s Ministry
DESCRIPTION:
URL:https://welcometocrossroads.org/event/girls-ministry-147/
END:VEVENT
BEGIN:VEVENT
DTSTART;TZID=America/Indiana/Indianapolis:20270627T173000
DTEND;TZID=America/Indiana/Indianapolis:20270627T180000
DTSTAMP:20260423T044156
CREATED:20250702T105320Z
LAST-MODIFIED:20260108T204332Z
UID:38215-1814117400-1814119200@welcometocrossroads.org
SUMMARY:CSM - Leader Huddle
DESCRIPTION:
URL:https://welcometocrossroads.org/event/csm-leader-huddle-444/
LOCATION:102
END:VEVENT
BEGIN:VEVENT
DTSTART;TZID=America/Indiana/Indianapolis:20270627T180000
DTEND;TZID=America/Indiana/Indianapolis:20270627T200000
DTSTAMP:20260423T044156
CREATED:20250702T105322Z
LAST-MODIFIED:20260108T204334Z
UID:38216-1814119200-1814126400@welcometocrossroads.org
SUMMARY:CSM - Family Group Night: CSM- Family Group Night
DESCRIPTION:
URL:https://welcometocrossroads.org/event/csm-family-group-night-csm-family-group-night-101/
LOCATION:All Rooms
END:VEVENT
BEGIN:VEVENT
DTSTART;TZID=America/Indiana/Indianapolis:20270627T180000
DTEND;TZID=America/Indiana/Indianapolis:20270627T203000
DTSTAMP:20260423T044156
CREATED:20250702T105316Z
LAST-MODIFIED:20260108T204330Z
UID:38213-1814119200-1814128200@welcometocrossroads.org
SUMMARY:CSM - Crossroads Students Ministries
DESCRIPTION:
URL:https://welcometocrossroads.org/event/csm-crossroads-students-ministries-202/
LOCATION:CSM – 7209 E County Rd 100 S\, Avon\, IN\, United States
END:VEVENT
BEGIN:VEVENT
DTSTART;TZID=America/Indiana/Indianapolis:20270627T183000
DTEND;TZID=America/Indiana/Indianapolis:20270627T200000
DTSTAMP:20260423T044156
CREATED:20250702T105324Z
LAST-MODIFIED:20260108T204333Z
UID:38217-1814121000-1814126400@welcometocrossroads.org
SUMMARY:Connecting Life Group
DESCRIPTION:
URL:https://welcometocrossroads.org/event/connecting-life-group-125/
END:VEVENT
END:VCALENDAR