BEGIN:VCALENDAR
VERSION:2.0
PRODID:-//Crossroads Church - ECPv6.15.17.1//NONSGML v1.0//EN
CALSCALE:GREGORIAN
METHOD:PUBLISH
X-WR-CALNAME:Crossroads Church
X-ORIGINAL-URL:https://welcometocrossroads.org
X-WR-CALDESC:Events for Crossroads Church
REFRESH-INTERVAL;VALUE=DURATION:PT1H
X-Robots-Tag:noindex
X-PUBLISHED-TTL:PT1H
BEGIN:VTIMEZONE
TZID:America/Indiana/Indianapolis
BEGIN:DAYLIGHT
TZOFFSETFROM:-0500
TZOFFSETTO:-0400
TZNAME:EDT
DTSTART:20260308T070000
END:DAYLIGHT
BEGIN:STANDARD
TZOFFSETFROM:-0400
TZOFFSETTO:-0500
TZNAME:EST
DTSTART:20261101T060000
END:STANDARD
BEGIN:DAYLIGHT
TZOFFSETFROM:-0500
TZOFFSETTO:-0400
TZNAME:EDT
DTSTART:20270314T070000
END:DAYLIGHT
BEGIN:STANDARD
TZOFFSETFROM:-0400
TZOFFSETTO:-0500
TZNAME:EST
DTSTART:20271107T060000
END:STANDARD
BEGIN:DAYLIGHT
TZOFFSETFROM:-0500
TZOFFSETTO:-0400
TZNAME:EDT
DTSTART:20280312T070000
END:DAYLIGHT
BEGIN:STANDARD
TZOFFSETFROM:-0400
TZOFFSETTO:-0500
TZNAME:EST
DTSTART:20281105T060000
END:STANDARD
END:VTIMEZONE
BEGIN:VEVENT
DTSTART;TZID=America/Indiana/Indianapolis:20270701T133000
DTEND;TZID=America/Indiana/Indianapolis:20270701T143000
DTSTAMP:20260421T124912
CREATED:20260108T204358Z
LAST-MODIFIED:20260108T204358Z
UID:41505-1814448600-1814452200@welcometocrossroads.org
SUMMARY:Operations Meeting
DESCRIPTION:
URL:https://welcometocrossroads.org/event/operations-meeting-78/
END:VEVENT
BEGIN:VEVENT
DTSTART;TZID=America/Indiana/Indianapolis:20270701T140000
DTEND;TZID=America/Indiana/Indianapolis:20270701T150000
DTSTAMP:20260421T124912
CREATED:20250702T105535Z
LAST-MODIFIED:20251117T115409Z
UID:38224-1814450400-1814454000@welcometocrossroads.org
SUMMARY:Operations Weekly Meeting
DESCRIPTION:
URL:https://welcometocrossroads.org/event/operations-weekly-meeting-303/
LOCATION:Crossroads Church – 7209 E County Rd 100 S\, Avon\, IN\, United States
END:VEVENT
BEGIN:VEVENT
DTSTART;TZID=America/Indiana/Indianapolis:20270701T150000
DTEND;TZID=America/Indiana/Indianapolis:20270701T170000
DTSTAMP:20260421T124912
CREATED:20251101T050312Z
LAST-MODIFIED:20251117T115407Z
UID:40614-1814454000-1814461200@welcometocrossroads.org
SUMMARY:Worship Center reserved for filming
DESCRIPTION:
URL:https://welcometocrossroads.org/event/worship-center-reserved-for-filming-87/
END:VEVENT
BEGIN:VEVENT
DTSTART;TZID=America/Indiana/Indianapolis:20270701T183000
DTEND;TZID=America/Indiana/Indianapolis:20270701T200000
DTSTAMP:20260421T124912
CREATED:20250702T105538Z
LAST-MODIFIED:20260108T204401Z
UID:38225-1814466600-1814472000@welcometocrossroads.org
SUMMARY:Men's Bible Study
DESCRIPTION:
URL:https://welcometocrossroads.org/event/mens-bible-study-233/
END:VEVENT
BEGIN:VEVENT
DTSTART;TZID=America/Indiana/Indianapolis:20270701T183000
DTEND;TZID=America/Indiana/Indianapolis:20270701T203000
DTSTAMP:20260421T124912
CREATED:20250702T105542Z
LAST-MODIFIED:20260108T204359Z
UID:38227-1814466600-1814473800@welcometocrossroads.org
SUMMARY:Women in the Word
DESCRIPTION:
URL:https://welcometocrossroads.org/event/women-in-the-word-366/
END:VEVENT
BEGIN:VEVENT
DTSTART;TZID=America/Indiana/Indianapolis:20270701T190000
DTEND;TZID=America/Indiana/Indianapolis:20270701T203000
DTSTAMP:20260421T124912
CREATED:20250702T105540Z
LAST-MODIFIED:20260108T204400Z
UID:38226-1814468400-1814473800@welcometocrossroads.org
SUMMARY:Worship Practice
DESCRIPTION:Weekly Worship Team Practice to Prepare for the weekend
URL:https://welcometocrossroads.org/event/worship-practice-361/
END:VEVENT
END:VCALENDAR