BEGIN:VCALENDAR
VERSION:2.0
PRODID:-//Crossroads Church - ECPv6.15.17.1//NONSGML v1.0//EN
CALSCALE:GREGORIAN
METHOD:PUBLISH
X-ORIGINAL-URL:https://welcometocrossroads.org
X-WR-CALDESC:Events for Crossroads Church
REFRESH-INTERVAL;VALUE=DURATION:PT1H
X-Robots-Tag:noindex
X-PUBLISHED-TTL:PT1H
BEGIN:VTIMEZONE
TZID:America/Indiana/Indianapolis
BEGIN:DAYLIGHT
TZOFFSETFROM:-0500
TZOFFSETTO:-0400
TZNAME:EDT
DTSTART:20260308T070000
END:DAYLIGHT
BEGIN:STANDARD
TZOFFSETFROM:-0400
TZOFFSETTO:-0500
TZNAME:EST
DTSTART:20261101T060000
END:STANDARD
BEGIN:DAYLIGHT
TZOFFSETFROM:-0500
TZOFFSETTO:-0400
TZNAME:EDT
DTSTART:20270314T070000
END:DAYLIGHT
BEGIN:STANDARD
TZOFFSETFROM:-0400
TZOFFSETTO:-0500
TZNAME:EST
DTSTART:20271107T060000
END:STANDARD
BEGIN:DAYLIGHT
TZOFFSETFROM:-0500
TZOFFSETTO:-0400
TZNAME:EDT
DTSTART:20280312T070000
END:DAYLIGHT
BEGIN:STANDARD
TZOFFSETFROM:-0400
TZOFFSETTO:-0500
TZNAME:EST
DTSTART:20281105T060000
END:STANDARD
END:VTIMEZONE
BEGIN:VEVENT
DTSTART;TZID=America/Indiana/Indianapolis:20270711T080000
DTEND;TZID=America/Indiana/Indianapolis:20270711T084500
DTSTAMP:20260421T163924
CREATED:20250712T133519Z
LAST-MODIFIED:20260108T204514Z
UID:38394-1815292800-1815295500@welcometocrossroads.org
SUMMARY:Therefore Life Group
DESCRIPTION:
URL:https://welcometocrossroads.org/event/therefore-life-group-146/
END:VEVENT
BEGIN:VEVENT
DTSTART;TZID=America/Indiana/Indianapolis:20270711T110000
DTEND;TZID=America/Indiana/Indianapolis:20270711T113000
DTSTAMP:20260421T163924
CREATED:20250712T133521Z
LAST-MODIFIED:20260108T204515Z
UID:38395-1815303600-1815305400@welcometocrossroads.org
SUMMARY:Growth Track
DESCRIPTION:
URL:https://welcometocrossroads.org/event/growth-track-436/
LOCATION:Room 117
END:VEVENT
BEGIN:VEVENT
DTSTART;TZID=America/Indiana/Indianapolis:20270711T133000
DTEND;TZID=America/Indiana/Indianapolis:20270711T160000
DTSTAMP:20260421T163924
CREATED:20250712T133534Z
LAST-MODIFIED:20260108T204516Z
UID:38396-1815312600-1815321600@welcometocrossroads.org
SUMMARY:Christ's Ambassadors
DESCRIPTION:
URL:https://welcometocrossroads.org/event/christs-ambassadors-167/
END:VEVENT
BEGIN:VEVENT
DTSTART;TZID=America/Indiana/Indianapolis:20270711T170000
DTEND;TZID=America/Indiana/Indianapolis:20270711T183000
DTSTAMP:20260421T163924
CREATED:20250712T133542Z
LAST-MODIFIED:20260108T204529Z
UID:38399-1815325200-1815330600@welcometocrossroads.org
SUMMARY:Girl’s Ministry
DESCRIPTION:
URL:https://welcometocrossroads.org/event/girls-ministry-149/
END:VEVENT
BEGIN:VEVENT
DTSTART;TZID=America/Indiana/Indianapolis:20270711T173000
DTEND;TZID=America/Indiana/Indianapolis:20270711T180000
DTSTAMP:20260421T163924
CREATED:20250712T133548Z
LAST-MODIFIED:20260108T204534Z
UID:38401-1815327000-1815328800@welcometocrossroads.org
SUMMARY:CSM - Leader Huddle
DESCRIPTION:
URL:https://welcometocrossroads.org/event/csm-leader-huddle-446/
LOCATION:102
END:VEVENT
BEGIN:VEVENT
DTSTART;TZID=America/Indiana/Indianapolis:20270711T180000
DTEND;TZID=America/Indiana/Indianapolis:20270711T200000
DTSTAMP:20260421T163924
CREATED:20250712T133538Z
LAST-MODIFIED:20260108T204532Z
UID:38397-1815328800-1815336000@welcometocrossroads.org
SUMMARY:CSM- Family Group Night
DESCRIPTION:
URL:https://welcometocrossroads.org/event/csm-family-group-night-117/
LOCATION:All Rooms
END:VEVENT
BEGIN:VEVENT
DTSTART;TZID=America/Indiana/Indianapolis:20270711T180000
DTEND;TZID=America/Indiana/Indianapolis:20270711T203000
DTSTAMP:20260421T163924
CREATED:20250712T133545Z
LAST-MODIFIED:20260108T204535Z
UID:38400-1815328800-1815337800@welcometocrossroads.org
SUMMARY:CSM - Crossroads Students Ministries
DESCRIPTION:
URL:https://welcometocrossroads.org/event/csm-crossroads-students-ministries-204/
LOCATION:CSM – 7209 E County Rd 100 S\, Avon\, IN\, United States
END:VEVENT
BEGIN:VEVENT
DTSTART;TZID=America/Indiana/Indianapolis:20270711T183000
DTEND;TZID=America/Indiana/Indianapolis:20270711T200000
DTSTAMP:20260421T163924
CREATED:20250712T133540Z
LAST-MODIFIED:20260108T204531Z
UID:38398-1815330600-1815336000@welcometocrossroads.org
SUMMARY:Connecting Life Group
DESCRIPTION:
URL:https://welcometocrossroads.org/event/connecting-life-group-127/
END:VEVENT
END:VCALENDAR