BEGIN:VCALENDAR
VERSION:2.0
PRODID:-//Crossroads Church - ECPv6.15.17.1//NONSGML v1.0//EN
CALSCALE:GREGORIAN
METHOD:PUBLISH
X-ORIGINAL-URL:https://welcometocrossroads.org
X-WR-CALDESC:Events for Crossroads Church
REFRESH-INTERVAL;VALUE=DURATION:PT1H
X-Robots-Tag:noindex
X-PUBLISHED-TTL:PT1H
BEGIN:VTIMEZONE
TZID:America/Indiana/Indianapolis
BEGIN:DAYLIGHT
TZOFFSETFROM:-0500
TZOFFSETTO:-0400
TZNAME:EDT
DTSTART:20260308T070000
END:DAYLIGHT
BEGIN:STANDARD
TZOFFSETFROM:-0400
TZOFFSETTO:-0500
TZNAME:EST
DTSTART:20261101T060000
END:STANDARD
BEGIN:DAYLIGHT
TZOFFSETFROM:-0500
TZOFFSETTO:-0400
TZNAME:EDT
DTSTART:20270314T070000
END:DAYLIGHT
BEGIN:STANDARD
TZOFFSETFROM:-0400
TZOFFSETTO:-0500
TZNAME:EST
DTSTART:20271107T060000
END:STANDARD
BEGIN:DAYLIGHT
TZOFFSETFROM:-0500
TZOFFSETTO:-0400
TZNAME:EDT
DTSTART:20280312T070000
END:DAYLIGHT
BEGIN:STANDARD
TZOFFSETFROM:-0400
TZOFFSETTO:-0500
TZNAME:EST
DTSTART:20281105T060000
END:STANDARD
END:VTIMEZONE
BEGIN:VEVENT
DTSTART;TZID=America/Indiana/Indianapolis:20270715T133000
DTEND;TZID=America/Indiana/Indianapolis:20270715T143000
DTSTAMP:20260421T163929
CREATED:20260108T204604Z
LAST-MODIFIED:20260108T204604Z
UID:41514-1815658200-1815661800@welcometocrossroads.org
SUMMARY:Operations Meeting
DESCRIPTION:
URL:https://welcometocrossroads.org/event/operations-meeting-80/
END:VEVENT
BEGIN:VEVENT
DTSTART;TZID=America/Indiana/Indianapolis:20270715T140000
DTEND;TZID=America/Indiana/Indianapolis:20270715T150000
DTSTAMP:20260421T163929
CREATED:20250715T181535Z
LAST-MODIFIED:20251117T120602Z
UID:38484-1815660000-1815663600@welcometocrossroads.org
SUMMARY:Operations Weekly Meeting
DESCRIPTION:
URL:https://welcometocrossroads.org/event/operations-weekly-meeting-305/
LOCATION:Crossroads Church – 7209 E County Rd 100 S\, Avon\, IN\, United States
END:VEVENT
BEGIN:VEVENT
DTSTART;TZID=America/Indiana/Indianapolis:20270715T150000
DTEND;TZID=America/Indiana/Indianapolis:20270715T170000
DTSTAMP:20260421T163929
CREATED:20251101T050530Z
LAST-MODIFIED:20251117T120600Z
UID:40616-1815663600-1815670800@welcometocrossroads.org
SUMMARY:Worship Center reserved for filming
DESCRIPTION:
URL:https://welcometocrossroads.org/event/worship-center-reserved-for-filming-89/
END:VEVENT
BEGIN:VEVENT
DTSTART;TZID=America/Indiana/Indianapolis:20270715T183000
DTEND;TZID=America/Indiana/Indianapolis:20270715T200000
DTSTAMP:20260421T163929
CREATED:20250715T181541Z
LAST-MODIFIED:20260108T204606Z
UID:38486-1815676200-1815681600@welcometocrossroads.org
SUMMARY:Men's Bible Study
DESCRIPTION:
URL:https://welcometocrossroads.org/event/mens-bible-study-235/
END:VEVENT
BEGIN:VEVENT
DTSTART;TZID=America/Indiana/Indianapolis:20270715T183000
DTEND;TZID=America/Indiana/Indianapolis:20270715T203000
DTSTAMP:20260421T163929
CREATED:20250715T181544Z
LAST-MODIFIED:20260108T204618Z
UID:38487-1815676200-1815683400@welcometocrossroads.org
SUMMARY:Women in the Word
DESCRIPTION:
URL:https://welcometocrossroads.org/event/women-in-the-word-368/
END:VEVENT
BEGIN:VEVENT
DTSTART;TZID=America/Indiana/Indianapolis:20270715T190000
DTEND;TZID=America/Indiana/Indianapolis:20270715T203000
DTSTAMP:20260421T163929
CREATED:20250715T181538Z
LAST-MODIFIED:20260108T204605Z
UID:38485-1815678000-1815683400@welcometocrossroads.org
SUMMARY:Worship Practice
DESCRIPTION:Weekly Worship Team Practice to Prepare for the weekend
URL:https://welcometocrossroads.org/event/worship-practice-363/
END:VEVENT
END:VCALENDAR