BEGIN:VCALENDAR
VERSION:2.0
PRODID:-//Crossroads Church - ECPv6.15.17.1//NONSGML v1.0//EN
CALSCALE:GREGORIAN
METHOD:PUBLISH
X-ORIGINAL-URL:https://welcometocrossroads.org
X-WR-CALDESC:Events for Crossroads Church
REFRESH-INTERVAL;VALUE=DURATION:PT1H
X-Robots-Tag:noindex
X-PUBLISHED-TTL:PT1H
BEGIN:VTIMEZONE
TZID:America/Indiana/Indianapolis
BEGIN:DAYLIGHT
TZOFFSETFROM:-0500
TZOFFSETTO:-0400
TZNAME:EDT
DTSTART:20260308T070000
END:DAYLIGHT
BEGIN:STANDARD
TZOFFSETFROM:-0400
TZOFFSETTO:-0500
TZNAME:EST
DTSTART:20261101T060000
END:STANDARD
BEGIN:DAYLIGHT
TZOFFSETFROM:-0500
TZOFFSETTO:-0400
TZNAME:EDT
DTSTART:20270314T070000
END:DAYLIGHT
BEGIN:STANDARD
TZOFFSETFROM:-0400
TZOFFSETTO:-0500
TZNAME:EST
DTSTART:20271107T060000
END:STANDARD
BEGIN:DAYLIGHT
TZOFFSETFROM:-0500
TZOFFSETTO:-0400
TZNAME:EDT
DTSTART:20280312T070000
END:DAYLIGHT
BEGIN:STANDARD
TZOFFSETFROM:-0400
TZOFFSETTO:-0500
TZNAME:EST
DTSTART:20281105T060000
END:STANDARD
END:VTIMEZONE
BEGIN:VEVENT
DTSTART;TZID=America/Indiana/Indianapolis:20270718T080000
DTEND;TZID=America/Indiana/Indianapolis:20270718T084500
DTSTAMP:20260421T175528
CREATED:20250719T130610Z
LAST-MODIFIED:20260108T204622Z
UID:38523-1815897600-1815900300@welcometocrossroads.org
SUMMARY:Therefore Life Group
DESCRIPTION:
URL:https://welcometocrossroads.org/event/therefore-life-group-147/
END:VEVENT
BEGIN:VEVENT
DTSTART;TZID=America/Indiana/Indianapolis:20270718T090000
DTEND;TZID=America/Indiana/Indianapolis:20270718T130000
DTSTAMP:20260421T175528
CREATED:20250719T130617Z
LAST-MODIFIED:20260108T204625Z
UID:38525-1815901200-1815915600@welcometocrossroads.org
SUMMARY:Communion Sunday
DESCRIPTION:
URL:https://welcometocrossroads.org/event/communion-sunday-47/
END:VEVENT
BEGIN:VEVENT
DTSTART;TZID=America/Indiana/Indianapolis:20270718T110000
DTEND;TZID=America/Indiana/Indianapolis:20270718T115900
DTSTAMP:20260421T175528
CREATED:20250719T130920Z
LAST-MODIFIED:20260108T204624Z
UID:38526-1815908400-1815911940@welcometocrossroads.org
SUMMARY:Growth Track
DESCRIPTION:
URL:https://welcometocrossroads.org/event/growth-track-437/
LOCATION:Room 117
END:VEVENT
BEGIN:VEVENT
DTSTART;TZID=America/Indiana/Indianapolis:20270718T123000
DTEND;TZID=America/Indiana/Indianapolis:20270718T143000
DTSTAMP:20260421T175528
CREATED:20250719T130613Z
LAST-MODIFIED:20260108T204626Z
UID:38524-1815913800-1815921000@welcometocrossroads.org
SUMMARY:Joyfully His LG
DESCRIPTION:
URL:https://welcometocrossroads.org/event/joyfully-his-lg-171/
END:VEVENT
BEGIN:VEVENT
DTSTART;TZID=America/Indiana/Indianapolis:20270718T133000
DTEND;TZID=America/Indiana/Indianapolis:20270718T160000
DTSTAMP:20260421T175528
CREATED:20250719T130923Z
LAST-MODIFIED:20260108T204627Z
UID:38527-1815917400-1815926400@welcometocrossroads.org
SUMMARY:Christ's Ambassadors
DESCRIPTION:
URL:https://welcometocrossroads.org/event/christs-ambassadors-168/
END:VEVENT
BEGIN:VEVENT
DTSTART;TZID=America/Indiana/Indianapolis:20270718T170000
DTEND;TZID=America/Indiana/Indianapolis:20270718T183000
DTSTAMP:20260421T175528
CREATED:20250719T130927Z
LAST-MODIFIED:20260108T204629Z
UID:38529-1815930000-1815935400@welcometocrossroads.org
SUMMARY:Girl’s Ministry
DESCRIPTION:
URL:https://welcometocrossroads.org/event/girls-ministry-150/
END:VEVENT
BEGIN:VEVENT
DTSTART;TZID=America/Indiana/Indianapolis:20270718T173000
DTEND;TZID=America/Indiana/Indianapolis:20270718T180000
DTSTAMP:20260421T175528
CREATED:20250719T130931Z
LAST-MODIFIED:20260108T204644Z
UID:38530-1815931800-1815933600@welcometocrossroads.org
SUMMARY:CSM - Leader Huddle
DESCRIPTION:
URL:https://welcometocrossroads.org/event/csm-leader-huddle-447/
LOCATION:102
END:VEVENT
BEGIN:VEVENT
DTSTART;TZID=America/Indiana/Indianapolis:20270718T180000
DTEND;TZID=America/Indiana/Indianapolis:20270718T203000
DTSTAMP:20260421T175528
CREATED:20250719T130925Z
LAST-MODIFIED:20260108T204630Z
UID:38528-1815933600-1815942600@welcometocrossroads.org
SUMMARY:CSM - Crossroads Students Ministries
DESCRIPTION:
URL:https://welcometocrossroads.org/event/csm-crossroads-students-ministries-205/
LOCATION:CSM – 7209 E County Rd 100 S\, Avon\, IN\, United States
END:VEVENT
END:VCALENDAR