BEGIN:VCALENDAR
VERSION:2.0
PRODID:-//Crossroads Church - ECPv6.15.17.1//NONSGML v1.0//EN
CALSCALE:GREGORIAN
METHOD:PUBLISH
X-ORIGINAL-URL:https://welcometocrossroads.org
X-WR-CALDESC:Events for Crossroads Church
REFRESH-INTERVAL;VALUE=DURATION:PT1H
X-Robots-Tag:noindex
X-PUBLISHED-TTL:PT1H
BEGIN:VTIMEZONE
TZID:America/Indiana/Indianapolis
BEGIN:DAYLIGHT
TZOFFSETFROM:-0500
TZOFFSETTO:-0400
TZNAME:EDT
DTSTART:20260308T070000
END:DAYLIGHT
BEGIN:STANDARD
TZOFFSETFROM:-0400
TZOFFSETTO:-0500
TZNAME:EST
DTSTART:20261101T060000
END:STANDARD
BEGIN:DAYLIGHT
TZOFFSETFROM:-0500
TZOFFSETTO:-0400
TZNAME:EDT
DTSTART:20270314T070000
END:DAYLIGHT
BEGIN:STANDARD
TZOFFSETFROM:-0400
TZOFFSETTO:-0500
TZNAME:EST
DTSTART:20271107T060000
END:STANDARD
BEGIN:DAYLIGHT
TZOFFSETFROM:-0500
TZOFFSETTO:-0400
TZNAME:EDT
DTSTART:20280312T070000
END:DAYLIGHT
BEGIN:STANDARD
TZOFFSETFROM:-0400
TZOFFSETTO:-0500
TZNAME:EST
DTSTART:20281105T060000
END:STANDARD
END:VTIMEZONE
BEGIN:VEVENT
DTSTART;TZID=America/Indiana/Indianapolis:20270722T070000
DTEND;TZID=America/Indiana/Indianapolis:20270722T083000
DTSTAMP:20260421T163800
CREATED:20250723T155349Z
LAST-MODIFIED:20260108T204708Z
UID:38562-1816239600-1816245000@welcometocrossroads.org
SUMMARY:Trustees Meeting
DESCRIPTION:
URL:https://welcometocrossroads.org/event/trustees-meeting-110/
LOCATION:117 – 7209 E CR 100 S
END:VEVENT
BEGIN:VEVENT
DTSTART;TZID=America/Indiana/Indianapolis:20270722T133000
DTEND;TZID=America/Indiana/Indianapolis:20270722T143000
DTSTAMP:20260421T163800
CREATED:20260108T204709Z
LAST-MODIFIED:20260108T204709Z
UID:41518-1816263000-1816266600@welcometocrossroads.org
SUMMARY:Operations Meeting
DESCRIPTION:
URL:https://welcometocrossroads.org/event/operations-meeting-81/
END:VEVENT
BEGIN:VEVENT
DTSTART;TZID=America/Indiana/Indianapolis:20270722T140000
DTEND;TZID=America/Indiana/Indianapolis:20270722T150000
DTSTAMP:20260421T163800
CREATED:20250723T155352Z
LAST-MODIFIED:20251117T121054Z
UID:38563-1816264800-1816268400@welcometocrossroads.org
SUMMARY:Operations Weekly Meeting
DESCRIPTION:
URL:https://welcometocrossroads.org/event/operations-weekly-meeting-306/
LOCATION:Crossroads Church – 7209 E County Rd 100 S\, Avon\, IN\, United States
END:VEVENT
BEGIN:VEVENT
DTSTART;TZID=America/Indiana/Indianapolis:20270722T150000
DTEND;TZID=America/Indiana/Indianapolis:20270722T170000
DTSTAMP:20260421T163800
CREATED:20251101T050628Z
LAST-MODIFIED:20251117T121055Z
UID:40618-1816268400-1816275600@welcometocrossroads.org
SUMMARY:Worship Center reserved for filming
DESCRIPTION:
URL:https://welcometocrossroads.org/event/worship-center-reserved-for-filming-90/
END:VEVENT
BEGIN:VEVENT
DTSTART;TZID=America/Indiana/Indianapolis:20270722T183000
DTEND;TZID=America/Indiana/Indianapolis:20270722T200000
DTSTAMP:20260421T163800
CREATED:20250723T155358Z
LAST-MODIFIED:20260108T204711Z
UID:38566-1816281000-1816286400@welcometocrossroads.org
SUMMARY:Men's Bible Study
DESCRIPTION:
URL:https://welcometocrossroads.org/event/mens-bible-study-236/
END:VEVENT
BEGIN:VEVENT
DTSTART;TZID=America/Indiana/Indianapolis:20270722T183000
DTEND;TZID=America/Indiana/Indianapolis:20270722T203000
DTSTAMP:20260421T163800
CREATED:20250723T155356Z
LAST-MODIFIED:20260108T204712Z
UID:38565-1816281000-1816288200@welcometocrossroads.org
SUMMARY:Women in the Word
DESCRIPTION:
URL:https://welcometocrossroads.org/event/women-in-the-word-369/
END:VEVENT
BEGIN:VEVENT
DTSTART;TZID=America/Indiana/Indianapolis:20270722T190000
DTEND;TZID=America/Indiana/Indianapolis:20270722T203000
DTSTAMP:20260421T163800
CREATED:20250723T155354Z
LAST-MODIFIED:20260108T204713Z
UID:38564-1816282800-1816288200@welcometocrossroads.org
SUMMARY:Worship Practice
DESCRIPTION:Weekly Worship Team Practice to Prepare for the weekend
URL:https://welcometocrossroads.org/event/worship-practice-364/
END:VEVENT
END:VCALENDAR