BEGIN:VCALENDAR
VERSION:2.0
PRODID:-//Crossroads Church - ECPv6.15.17.1//NONSGML v1.0//EN
CALSCALE:GREGORIAN
METHOD:PUBLISH
X-ORIGINAL-URL:https://welcometocrossroads.org
X-WR-CALDESC:Events for Crossroads Church
REFRESH-INTERVAL;VALUE=DURATION:PT1H
X-Robots-Tag:noindex
X-PUBLISHED-TTL:PT1H
BEGIN:VTIMEZONE
TZID:America/Indiana/Indianapolis
BEGIN:DAYLIGHT
TZOFFSETFROM:-0500
TZOFFSETTO:-0400
TZNAME:EDT
DTSTART:20260308T070000
END:DAYLIGHT
BEGIN:STANDARD
TZOFFSETFROM:-0400
TZOFFSETTO:-0500
TZNAME:EST
DTSTART:20261101T060000
END:STANDARD
BEGIN:DAYLIGHT
TZOFFSETFROM:-0500
TZOFFSETTO:-0400
TZNAME:EDT
DTSTART:20270314T070000
END:DAYLIGHT
BEGIN:STANDARD
TZOFFSETFROM:-0400
TZOFFSETTO:-0500
TZNAME:EST
DTSTART:20271107T060000
END:STANDARD
BEGIN:DAYLIGHT
TZOFFSETFROM:-0500
TZOFFSETTO:-0400
TZNAME:EDT
DTSTART:20280312T070000
END:DAYLIGHT
BEGIN:STANDARD
TZOFFSETFROM:-0400
TZOFFSETTO:-0500
TZNAME:EST
DTSTART:20281105T060000
END:STANDARD
END:VTIMEZONE
BEGIN:VEVENT
DTSTART;TZID=America/Indiana/Indianapolis:20270729T133000
DTEND;TZID=America/Indiana/Indianapolis:20270729T143000
DTSTAMP:20260421T175538
CREATED:20260108T204801Z
LAST-MODIFIED:20260108T204801Z
UID:41522-1816867800-1816871400@welcometocrossroads.org
SUMMARY:Operations Meeting
DESCRIPTION:
URL:https://welcometocrossroads.org/event/operations-meeting-82/
END:VEVENT
BEGIN:VEVENT
DTSTART;TZID=America/Indiana/Indianapolis:20270729T140000
DTEND;TZID=America/Indiana/Indianapolis:20270729T150000
DTSTAMP:20260421T175538
CREATED:20250729T153331Z
LAST-MODIFIED:20251117T121405Z
UID:38627-1816869600-1816873200@welcometocrossroads.org
SUMMARY:Operations Weekly Meeting
DESCRIPTION:
URL:https://welcometocrossroads.org/event/operations-weekly-meeting-307/
LOCATION:Crossroads Church – 7209 E County Rd 100 S\, Avon\, IN\, United States
END:VEVENT
BEGIN:VEVENT
DTSTART;TZID=America/Indiana/Indianapolis:20270729T150000
DTEND;TZID=America/Indiana/Indianapolis:20270729T170000
DTSTAMP:20260421T175538
CREATED:20251101T050728Z
LAST-MODIFIED:20251117T121406Z
UID:40619-1816873200-1816880400@welcometocrossroads.org
SUMMARY:Worship Center reserved for filming
DESCRIPTION:
URL:https://welcometocrossroads.org/event/worship-center-reserved-for-filming-91/
END:VEVENT
BEGIN:VEVENT
DTSTART;TZID=America/Indiana/Indianapolis:20270729T183000
DTEND;TZID=America/Indiana/Indianapolis:20270729T200000
DTSTAMP:20260421T175538
CREATED:20250729T153334Z
LAST-MODIFIED:20260108T204803Z
UID:38628-1816885800-1816891200@welcometocrossroads.org
SUMMARY:Men's Bible Study
DESCRIPTION:
URL:https://welcometocrossroads.org/event/mens-bible-study-237/
END:VEVENT
BEGIN:VEVENT
DTSTART;TZID=America/Indiana/Indianapolis:20270729T183000
DTEND;TZID=America/Indiana/Indianapolis:20270729T203000
DTSTAMP:20260421T175538
CREATED:20250729T153337Z
LAST-MODIFIED:20260108T204804Z
UID:38629-1816885800-1816893000@welcometocrossroads.org
SUMMARY:Women in the Word
DESCRIPTION:
URL:https://welcometocrossroads.org/event/women-in-the-word-370/
END:VEVENT
BEGIN:VEVENT
DTSTART;TZID=America/Indiana/Indianapolis:20270729T190000
DTEND;TZID=America/Indiana/Indianapolis:20270729T203000
DTSTAMP:20260421T175538
CREATED:20250729T153620Z
LAST-MODIFIED:20260108T204805Z
UID:38630-1816887600-1816893000@welcometocrossroads.org
SUMMARY:Worship Practice
DESCRIPTION:Weekly Worship Team Practice to Prepare for the weekend
URL:https://welcometocrossroads.org/event/worship-practice-365/
END:VEVENT
END:VCALENDAR