BEGIN:VCALENDAR
VERSION:2.0
PRODID:-//Crossroads Church - ECPv6.15.17.1//NONSGML v1.0//EN
CALSCALE:GREGORIAN
METHOD:PUBLISH
X-WR-CALNAME:Crossroads Church
X-ORIGINAL-URL:https://welcometocrossroads.org
X-WR-CALDESC:Events for Crossroads Church
REFRESH-INTERVAL;VALUE=DURATION:PT1H
X-Robots-Tag:noindex
X-PUBLISHED-TTL:PT1H
BEGIN:VTIMEZONE
TZID:America/Indiana/Indianapolis
BEGIN:DAYLIGHT
TZOFFSETFROM:-0500
TZOFFSETTO:-0400
TZNAME:EDT
DTSTART:20260308T070000
END:DAYLIGHT
BEGIN:STANDARD
TZOFFSETFROM:-0400
TZOFFSETTO:-0500
TZNAME:EST
DTSTART:20261101T060000
END:STANDARD
BEGIN:DAYLIGHT
TZOFFSETFROM:-0500
TZOFFSETTO:-0400
TZNAME:EDT
DTSTART:20270314T070000
END:DAYLIGHT
BEGIN:STANDARD
TZOFFSETFROM:-0400
TZOFFSETTO:-0500
TZNAME:EST
DTSTART:20271107T060000
END:STANDARD
BEGIN:DAYLIGHT
TZOFFSETFROM:-0500
TZOFFSETTO:-0400
TZNAME:EDT
DTSTART:20280312T070000
END:DAYLIGHT
BEGIN:STANDARD
TZOFFSETFROM:-0400
TZOFFSETTO:-0500
TZNAME:EST
DTSTART:20281105T060000
END:STANDARD
END:VTIMEZONE
BEGIN:VEVENT
DTSTART;TZID=America/Indiana/Indianapolis:20270801T080000
DTEND;TZID=America/Indiana/Indianapolis:20270801T084500
DTSTAMP:20260421T185830
CREATED:20250802T143347Z
LAST-MODIFIED:20260108T204807Z
UID:38743-1817107200-1817109900@welcometocrossroads.org
SUMMARY:Therefore Life Group
DESCRIPTION:
URL:https://welcometocrossroads.org/event/therefore-life-group-149/
END:VEVENT
BEGIN:VEVENT
DTSTART;TZID=America/Indiana/Indianapolis:20270801T103000
DTEND;TZID=America/Indiana/Indianapolis:20270801T123000
DTSTAMP:20260421T185830
CREATED:20250802T143349Z
LAST-MODIFIED:20260108T204821Z
UID:38744-1817116200-1817123400@welcometocrossroads.org
SUMMARY:Joyfully His LG
DESCRIPTION:
URL:https://welcometocrossroads.org/event/joyfully-his-lg-172/
END:VEVENT
BEGIN:VEVENT
DTSTART;TZID=America/Indiana/Indianapolis:20270801T110000
DTEND;TZID=America/Indiana/Indianapolis:20270801T113000
DTSTAMP:20260421T185830
CREATED:20250802T143351Z
LAST-MODIFIED:20260108T204822Z
UID:38745-1817118000-1817119800@welcometocrossroads.org
SUMMARY:Growth Track
DESCRIPTION:
URL:https://welcometocrossroads.org/event/growth-track-439/
LOCATION:Room 117 – Crossroads Church
END:VEVENT
BEGIN:VEVENT
DTSTART;TZID=America/Indiana/Indianapolis:20270801T133000
DTEND;TZID=America/Indiana/Indianapolis:20270801T160000
DTSTAMP:20260421T185830
CREATED:20250802T143353Z
LAST-MODIFIED:20260108T204823Z
UID:38746-1817127000-1817136000@welcometocrossroads.org
SUMMARY:Christ's Ambassadors
DESCRIPTION:
URL:https://welcometocrossroads.org/event/christs-ambassadors-170/
END:VEVENT
BEGIN:VEVENT
DTSTART;TZID=America/Indiana/Indianapolis:20270801T170000
DTEND;TZID=America/Indiana/Indianapolis:20270801T183000
DTSTAMP:20260421T185830
CREATED:20250802T143358Z
LAST-MODIFIED:20260108T204825Z
UID:38749-1817139600-1817145000@welcometocrossroads.org
SUMMARY:Girl’s Ministry
DESCRIPTION:
URL:https://welcometocrossroads.org/event/girls-ministry-152/
END:VEVENT
BEGIN:VEVENT
DTSTART;TZID=America/Indiana/Indianapolis:20270801T173000
DTEND;TZID=America/Indiana/Indianapolis:20270801T180000
DTSTAMP:20260421T185830
CREATED:20250802T143357Z
LAST-MODIFIED:20260108T204828Z
UID:38748-1817141400-1817143200@welcometocrossroads.org
SUMMARY:CSM - Leader Huddle
DESCRIPTION:
URL:https://welcometocrossroads.org/event/csm-leader-huddle-449/
LOCATION:102
END:VEVENT
BEGIN:VEVENT
DTSTART;TZID=America/Indiana/Indianapolis:20270801T180000
DTEND;TZID=America/Indiana/Indianapolis:20270801T203000
DTSTAMP:20260421T185830
CREATED:20250802T143354Z
LAST-MODIFIED:20260108T204826Z
UID:38747-1817143200-1817152200@welcometocrossroads.org
SUMMARY:CSM - Crossroads Students Ministries
DESCRIPTION:
URL:https://welcometocrossroads.org/event/csm-crossroads-students-ministries-207/
LOCATION:CSM – 7209 E County Rd 100 S\, Avon\, IN\, United States
END:VEVENT
END:VCALENDAR