BEGIN:VCALENDAR
VERSION:2.0
PRODID:-//Crossroads Church - ECPv6.15.17.1//NONSGML v1.0//EN
CALSCALE:GREGORIAN
METHOD:PUBLISH
X-WR-CALNAME:Crossroads Church
X-ORIGINAL-URL:https://welcometocrossroads.org
X-WR-CALDESC:Events for Crossroads Church
REFRESH-INTERVAL;VALUE=DURATION:PT1H
X-Robots-Tag:noindex
X-PUBLISHED-TTL:PT1H
BEGIN:VTIMEZONE
TZID:America/Indiana/Indianapolis
BEGIN:DAYLIGHT
TZOFFSETFROM:-0500
TZOFFSETTO:-0400
TZNAME:EDT
DTSTART:20260308T070000
END:DAYLIGHT
BEGIN:STANDARD
TZOFFSETFROM:-0400
TZOFFSETTO:-0500
TZNAME:EST
DTSTART:20261101T060000
END:STANDARD
BEGIN:DAYLIGHT
TZOFFSETFROM:-0500
TZOFFSETTO:-0400
TZNAME:EDT
DTSTART:20270314T070000
END:DAYLIGHT
BEGIN:STANDARD
TZOFFSETFROM:-0400
TZOFFSETTO:-0500
TZNAME:EST
DTSTART:20271107T060000
END:STANDARD
BEGIN:DAYLIGHT
TZOFFSETFROM:-0500
TZOFFSETTO:-0400
TZNAME:EDT
DTSTART:20280312T070000
END:DAYLIGHT
BEGIN:STANDARD
TZOFFSETFROM:-0400
TZOFFSETTO:-0500
TZNAME:EST
DTSTART:20281105T060000
END:STANDARD
END:VTIMEZONE
BEGIN:VEVENT
DTSTART;TZID=America/Indiana/Indianapolis:20270810T093000
DTEND;TZID=America/Indiana/Indianapolis:20270810T123000
DTSTAMP:20260421T163754
CREATED:20250810T173218Z
LAST-MODIFIED:20251117T122305Z
UID:38854-1817890200-1817901000@welcometocrossroads.org
SUMMARY:S-Meeting
DESCRIPTION:
URL:https://welcometocrossroads.org/event/s-meeting-962/
END:VEVENT
BEGIN:VEVENT
DTSTART;TZID=America/Indiana/Indianapolis:20270810T093000
DTEND;TZID=America/Indiana/Indianapolis:20270810T123000
DTSTAMP:20260421T163754
CREATED:20260108T204941Z
LAST-MODIFIED:20260108T204941Z
UID:41527-1817890200-1817901000@welcometocrossroads.org
SUMMARY:S-Meeting
DESCRIPTION:
URL:https://welcometocrossroads.org/event/s-meeting-1060/
END:VEVENT
BEGIN:VEVENT
DTSTART;TZID=America/Indiana/Indianapolis:20270810T100000
DTEND;TZID=America/Indiana/Indianapolis:20270810T110000
DTSTAMP:20260421T163754
CREATED:20250810T173232Z
LAST-MODIFIED:20260108T204945Z
UID:38855-1817892000-1817895600@welcometocrossroads.org
SUMMARY:Daycare Gymnastics
DESCRIPTION:
URL:https://welcometocrossroads.org/event/daycare-gymnastics-148/
END:VEVENT
BEGIN:VEVENT
DTSTART;TZID=America/Indiana/Indianapolis:20270810T100000
DTEND;TZID=America/Indiana/Indianapolis:20270810T123000
DTSTAMP:20260421T163754
CREATED:20250810T173216Z
LAST-MODIFIED:20260108T204944Z
UID:38853-1817892000-1817901000@welcometocrossroads.org
SUMMARY:LBS
DESCRIPTION:
URL:https://welcometocrossroads.org/event/lbs-59/
END:VEVENT
BEGIN:VEVENT
DTSTART;TZID=America/Indiana/Indianapolis:20270810T103000
DTEND;TZID=America/Indiana/Indianapolis:20270810T133000
DTSTAMP:20260421T163754
CREATED:20250810T173214Z
LAST-MODIFIED:20260108T204943Z
UID:38852-1817893800-1817904600@welcometocrossroads.org
SUMMARY:Private Event-MIBOR
DESCRIPTION:
URL:https://welcometocrossroads.org/event/private-event-mibor-48/
END:VEVENT
BEGIN:VEVENT
DTSTART;TZID=America/Indiana/Indianapolis:20270810T183000
DTEND;TZID=America/Indiana/Indianapolis:20270810T200000
DTSTAMP:20260421T163754
CREATED:20250810T173233Z
LAST-MODIFIED:20260108T204946Z
UID:38856-1817922600-1817928000@welcometocrossroads.org
SUMMARY:Pine Tree Elementary Outreach Team
DESCRIPTION:
URL:https://welcometocrossroads.org/event/pine-tree-elementary-outreach-team-52/
END:VEVENT
BEGIN:VEVENT
DTSTART;TZID=America/Indiana/Indianapolis:20270810T190000
DTEND;TZID=America/Indiana/Indianapolis:20270810T203000
DTSTAMP:20260421T163754
CREATED:20250810T173235Z
LAST-MODIFIED:20260108T204958Z
UID:38857-1817924400-1817929800@welcometocrossroads.org
SUMMARY:The Frontline
DESCRIPTION:
URL:https://welcometocrossroads.org/event/the-frontline-115/
END:VEVENT
END:VCALENDAR