BEGIN:VCALENDAR
VERSION:2.0
PRODID:-//Crossroads Church - ECPv6.15.17.1//NONSGML v1.0//EN
CALSCALE:GREGORIAN
METHOD:PUBLISH
X-ORIGINAL-URL:https://welcometocrossroads.org
X-WR-CALDESC:Events for Crossroads Church
REFRESH-INTERVAL;VALUE=DURATION:PT1H
X-Robots-Tag:noindex
X-PUBLISHED-TTL:PT1H
BEGIN:VTIMEZONE
TZID:America/Indiana/Indianapolis
BEGIN:DAYLIGHT
TZOFFSETFROM:-0500
TZOFFSETTO:-0400
TZNAME:EDT
DTSTART:20260308T070000
END:DAYLIGHT
BEGIN:STANDARD
TZOFFSETFROM:-0400
TZOFFSETTO:-0500
TZNAME:EST
DTSTART:20261101T060000
END:STANDARD
BEGIN:DAYLIGHT
TZOFFSETFROM:-0500
TZOFFSETTO:-0400
TZNAME:EDT
DTSTART:20270314T070000
END:DAYLIGHT
BEGIN:STANDARD
TZOFFSETFROM:-0400
TZOFFSETTO:-0500
TZNAME:EST
DTSTART:20271107T060000
END:STANDARD
BEGIN:DAYLIGHT
TZOFFSETFROM:-0500
TZOFFSETTO:-0400
TZNAME:EDT
DTSTART:20280312T070000
END:DAYLIGHT
BEGIN:STANDARD
TZOFFSETFROM:-0400
TZOFFSETTO:-0500
TZNAME:EST
DTSTART:20281105T060000
END:STANDARD
END:VTIMEZONE
BEGIN:VEVENT
DTSTART;TZID=America/Indiana/Indianapolis:20270811T003000
DTEND;TZID=America/Indiana/Indianapolis:20270811T133000
DTSTAMP:20260421T163904
CREATED:20260108T205000Z
LAST-MODIFIED:20260108T205000Z
UID:41528-1817944200-1817991000@welcometocrossroads.org
SUMMARY:ATF Meeting
DESCRIPTION:
URL:https://welcometocrossroads.org/event/atf-meeting-62/
END:VEVENT
BEGIN:VEVENT
DTSTART;TZID=America/Indiana/Indianapolis:20270811T100000
DTEND;TZID=America/Indiana/Indianapolis:20270811T110000
DTSTAMP:20260421T163904
CREATED:20250812T023945Z
LAST-MODIFIED:20251117T122551Z
UID:38869-1817978400-1817982000@welcometocrossroads.org
SUMMARY:ATF Meeting
DESCRIPTION:
URL:https://welcometocrossroads.org/event/atf-meeting-39/
END:VEVENT
BEGIN:VEVENT
DTSTART;TZID=America/Indiana/Indianapolis:20270811T140000
DTEND;TZID=America/Indiana/Indianapolis:20270811T160000
DTSTAMP:20260421T163904
CREATED:20260108T205001Z
LAST-MODIFIED:20260108T205001Z
UID:41529-1817992800-1818000000@welcometocrossroads.org
SUMMARY:The Way
DESCRIPTION:
URL:https://welcometocrossroads.org/event/the-way-191/
END:VEVENT
BEGIN:VEVENT
DTSTART;TZID=America/Indiana/Indianapolis:20270811T190000
DTEND;TZID=America/Indiana/Indianapolis:20270811T203000
DTSTAMP:20260421T163904
CREATED:20260108T205002Z
LAST-MODIFIED:20260108T205002Z
UID:41530-1818010800-1818016200@welcometocrossroads.org
SUMMARY:Life Group
DESCRIPTION:
URL:https://welcometocrossroads.org/event/life-group-82/
END:VEVENT
END:VCALENDAR