BEGIN:VCALENDAR
VERSION:2.0
PRODID:-//Crossroads Church - ECPv6.15.17.1//NONSGML v1.0//EN
CALSCALE:GREGORIAN
METHOD:PUBLISH
X-WR-CALNAME:Crossroads Church
X-ORIGINAL-URL:https://welcometocrossroads.org
X-WR-CALDESC:Events for Crossroads Church
REFRESH-INTERVAL;VALUE=DURATION:PT1H
X-Robots-Tag:noindex
X-PUBLISHED-TTL:PT1H
BEGIN:VTIMEZONE
TZID:America/Indiana/Indianapolis
BEGIN:DAYLIGHT
TZOFFSETFROM:-0500
TZOFFSETTO:-0400
TZNAME:EDT
DTSTART:20260308T070000
END:DAYLIGHT
BEGIN:STANDARD
TZOFFSETFROM:-0400
TZOFFSETTO:-0500
TZNAME:EST
DTSTART:20261101T060000
END:STANDARD
BEGIN:DAYLIGHT
TZOFFSETFROM:-0500
TZOFFSETTO:-0400
TZNAME:EDT
DTSTART:20270314T070000
END:DAYLIGHT
BEGIN:STANDARD
TZOFFSETFROM:-0400
TZOFFSETTO:-0500
TZNAME:EST
DTSTART:20271107T060000
END:STANDARD
BEGIN:DAYLIGHT
TZOFFSETFROM:-0500
TZOFFSETTO:-0400
TZNAME:EDT
DTSTART:20280312T070000
END:DAYLIGHT
BEGIN:STANDARD
TZOFFSETFROM:-0400
TZOFFSETTO:-0500
TZNAME:EST
DTSTART:20281105T060000
END:STANDARD
END:VTIMEZONE
BEGIN:VEVENT
DTSTART;TZID=America/Indiana/Indianapolis:20270812T133000
DTEND;TZID=America/Indiana/Indianapolis:20270812T143000
DTSTAMP:20260421T163749
CREATED:20260108T205004Z
LAST-MODIFIED:20260108T205004Z
UID:41531-1818077400-1818081000@welcometocrossroads.org
SUMMARY:Operations Meeting
DESCRIPTION:
URL:https://welcometocrossroads.org/event/operations-meeting-84/
END:VEVENT
BEGIN:VEVENT
DTSTART;TZID=America/Indiana/Indianapolis:20270812T140000
DTEND;TZID=America/Indiana/Indianapolis:20270812T150000
DTSTAMP:20260421T163749
CREATED:20250813T090000Z
LAST-MODIFIED:20251117T122554Z
UID:38880-1818079200-1818082800@welcometocrossroads.org
SUMMARY:Operations Weekly Meeting
DESCRIPTION:
URL:https://welcometocrossroads.org/event/operations-weekly-meeting-309/
LOCATION:Crossroads Church – 7209 E County Rd 100 S\, Avon\, IN\, United States
END:VEVENT
BEGIN:VEVENT
DTSTART;TZID=America/Indiana/Indianapolis:20270812T150000
DTEND;TZID=America/Indiana/Indianapolis:20270812T170000
DTSTAMP:20260421T163749
CREATED:20251101T050928Z
LAST-MODIFIED:20251117T122552Z
UID:40621-1818082800-1818090000@welcometocrossroads.org
SUMMARY:Worship Center reserved for filming
DESCRIPTION:
URL:https://welcometocrossroads.org/event/worship-center-reserved-for-filming-93/
END:VEVENT
BEGIN:VEVENT
DTSTART;TZID=America/Indiana/Indianapolis:20270812T183000
DTEND;TZID=America/Indiana/Indianapolis:20270812T200000
DTSTAMP:20260421T163749
CREATED:20250813T090015Z
LAST-MODIFIED:20260108T205007Z
UID:38882-1818095400-1818100800@welcometocrossroads.org
SUMMARY:Men's Bible Study
DESCRIPTION:
URL:https://welcometocrossroads.org/event/mens-bible-study-239/
END:VEVENT
BEGIN:VEVENT
DTSTART;TZID=America/Indiana/Indianapolis:20270812T183000
DTEND;TZID=America/Indiana/Indianapolis:20270812T203000
DTSTAMP:20260421T163749
CREATED:20250813T090017Z
LAST-MODIFIED:20260108T205005Z
UID:38883-1818095400-1818102600@welcometocrossroads.org
SUMMARY:Women in the Word
DESCRIPTION:
URL:https://welcometocrossroads.org/event/women-in-the-word-372/
END:VEVENT
BEGIN:VEVENT
DTSTART;TZID=America/Indiana/Indianapolis:20270812T190000
DTEND;TZID=America/Indiana/Indianapolis:20270812T203000
DTSTAMP:20260421T163749
CREATED:20250813T090001Z
LAST-MODIFIED:20260108T205006Z
UID:38881-1818097200-1818102600@welcometocrossroads.org
SUMMARY:Worship Practice
DESCRIPTION:Weekly Worship Team Practice to Prepare for the weekend
URL:https://welcometocrossroads.org/event/worship-practice-367/
END:VEVENT
END:VCALENDAR