BEGIN:VCALENDAR
VERSION:2.0
PRODID:-//Crossroads Church - ECPv6.15.17.1//NONSGML v1.0//EN
CALSCALE:GREGORIAN
METHOD:PUBLISH
X-WR-CALNAME:Crossroads Church
X-ORIGINAL-URL:https://welcometocrossroads.org
X-WR-CALDESC:Events for Crossroads Church
REFRESH-INTERVAL;VALUE=DURATION:PT1H
X-Robots-Tag:noindex
X-PUBLISHED-TTL:PT1H
BEGIN:VTIMEZONE
TZID:America/Indiana/Indianapolis
BEGIN:DAYLIGHT
TZOFFSETFROM:-0500
TZOFFSETTO:-0400
TZNAME:EDT
DTSTART:20260308T070000
END:DAYLIGHT
BEGIN:STANDARD
TZOFFSETFROM:-0400
TZOFFSETTO:-0500
TZNAME:EST
DTSTART:20261101T060000
END:STANDARD
BEGIN:DAYLIGHT
TZOFFSETFROM:-0500
TZOFFSETTO:-0400
TZNAME:EDT
DTSTART:20270314T070000
END:DAYLIGHT
BEGIN:STANDARD
TZOFFSETFROM:-0400
TZOFFSETTO:-0500
TZNAME:EST
DTSTART:20271107T060000
END:STANDARD
BEGIN:DAYLIGHT
TZOFFSETFROM:-0500
TZOFFSETTO:-0400
TZNAME:EDT
DTSTART:20280312T070000
END:DAYLIGHT
BEGIN:STANDARD
TZOFFSETFROM:-0400
TZOFFSETTO:-0500
TZNAME:EST
DTSTART:20281105T060000
END:STANDARD
END:VTIMEZONE
BEGIN:VEVENT
DTSTART;TZID=America/Indiana/Indianapolis:20270815T080000
DTEND;TZID=America/Indiana/Indianapolis:20270815T084500
DTSTAMP:20260424T062558
CREATED:20250816T035200Z
LAST-MODIFIED:20260108T205024Z
UID:38977-1818316800-1818319500@welcometocrossroads.org
SUMMARY:Therefore Life Group
DESCRIPTION:
URL:https://welcometocrossroads.org/event/therefore-life-group-151/
END:VEVENT
BEGIN:VEVENT
DTSTART;TZID=America/Indiana/Indianapolis:20270815T090000
DTEND;TZID=America/Indiana/Indianapolis:20270815T130000
DTSTAMP:20260424T062558
CREATED:20250816T035218Z
LAST-MODIFIED:20260108T205028Z
UID:38980-1818320400-1818334800@welcometocrossroads.org
SUMMARY:Communion Sunday
DESCRIPTION:
URL:https://welcometocrossroads.org/event/communion-sunday-48/
END:VEVENT
BEGIN:VEVENT
DTSTART;TZID=America/Indiana/Indianapolis:20270815T110000
DTEND;TZID=America/Indiana/Indianapolis:20270815T115900
DTSTAMP:20260424T062558
CREATED:20250816T035215Z
LAST-MODIFIED:20260108T205025Z
UID:38978-1818327600-1818331140@welcometocrossroads.org
SUMMARY:Growth Track
DESCRIPTION:
URL:https://welcometocrossroads.org/event/growth-track-441/
LOCATION:Room 117
END:VEVENT
BEGIN:VEVENT
DTSTART;TZID=America/Indiana/Indianapolis:20270815T123000
DTEND;TZID=America/Indiana/Indianapolis:20270815T143000
DTSTAMP:20260424T062558
CREATED:20250816T035217Z
LAST-MODIFIED:20260108T205026Z
UID:38979-1818333000-1818340200@welcometocrossroads.org
SUMMARY:Joyfully His LG
DESCRIPTION:
URL:https://welcometocrossroads.org/event/joyfully-his-lg-173/
END:VEVENT
BEGIN:VEVENT
DTSTART;TZID=America/Indiana/Indianapolis:20270815T133000
DTEND;TZID=America/Indiana/Indianapolis:20270815T160000
DTSTAMP:20260424T062558
CREATED:20250816T035220Z
LAST-MODIFIED:20260108T205029Z
UID:38981-1818336600-1818345600@welcometocrossroads.org
SUMMARY:Christ's Ambassadors
DESCRIPTION:
URL:https://welcometocrossroads.org/event/christs-ambassadors-172/
END:VEVENT
BEGIN:VEVENT
DTSTART;TZID=America/Indiana/Indianapolis:20270815T170000
DTEND;TZID=America/Indiana/Indianapolis:20270815T183000
DTSTAMP:20260424T062558
CREATED:20250816T035222Z
LAST-MODIFIED:20260108T205033Z
UID:38982-1818349200-1818354600@welcometocrossroads.org
SUMMARY:Girl’s Ministry
DESCRIPTION:
URL:https://welcometocrossroads.org/event/girls-ministry-154/
END:VEVENT
BEGIN:VEVENT
DTSTART;TZID=America/Indiana/Indianapolis:20270815T173000
DTEND;TZID=America/Indiana/Indianapolis:20270815T180000
DTSTAMP:20260424T062558
CREATED:20250816T035227Z
LAST-MODIFIED:20260108T205032Z
UID:38984-1818351000-1818352800@welcometocrossroads.org
SUMMARY:CSM - Leader Huddle
DESCRIPTION:
URL:https://welcometocrossroads.org/event/csm-leader-huddle-451/
LOCATION:102
END:VEVENT
BEGIN:VEVENT
DTSTART;TZID=America/Indiana/Indianapolis:20270815T180000
DTEND;TZID=America/Indiana/Indianapolis:20270815T203000
DTSTAMP:20260424T062558
CREATED:20250816T035224Z
LAST-MODIFIED:20260108T205030Z
UID:38983-1818352800-1818361800@welcometocrossroads.org
SUMMARY:CSM - Crossroads Students Ministries
DESCRIPTION:
URL:https://welcometocrossroads.org/event/csm-crossroads-students-ministries-209/
LOCATION:CSM – 7209 E County Rd 100 S\, Avon\, IN\, United States
END:VEVENT
END:VCALENDAR