BEGIN:VCALENDAR
VERSION:2.0
PRODID:-//Crossroads Church - ECPv6.15.17.1//NONSGML v1.0//EN
CALSCALE:GREGORIAN
METHOD:PUBLISH
X-ORIGINAL-URL:https://welcometocrossroads.org
X-WR-CALDESC:Events for Crossroads Church
REFRESH-INTERVAL;VALUE=DURATION:PT1H
X-Robots-Tag:noindex
X-PUBLISHED-TTL:PT1H
BEGIN:VTIMEZONE
TZID:America/Indiana/Indianapolis
BEGIN:DAYLIGHT
TZOFFSETFROM:-0500
TZOFFSETTO:-0400
TZNAME:EDT
DTSTART:20260308T070000
END:DAYLIGHT
BEGIN:STANDARD
TZOFFSETFROM:-0400
TZOFFSETTO:-0500
TZNAME:EST
DTSTART:20261101T060000
END:STANDARD
BEGIN:DAYLIGHT
TZOFFSETFROM:-0500
TZOFFSETTO:-0400
TZNAME:EDT
DTSTART:20270314T070000
END:DAYLIGHT
BEGIN:STANDARD
TZOFFSETFROM:-0400
TZOFFSETTO:-0500
TZNAME:EST
DTSTART:20271107T060000
END:STANDARD
BEGIN:DAYLIGHT
TZOFFSETFROM:-0500
TZOFFSETTO:-0400
TZNAME:EDT
DTSTART:20280312T070000
END:DAYLIGHT
BEGIN:STANDARD
TZOFFSETFROM:-0400
TZOFFSETTO:-0500
TZNAME:EST
DTSTART:20281105T060000
END:STANDARD
END:VTIMEZONE
BEGIN:VEVENT
DTSTART;TZID=America/Indiana/Indianapolis:20270826T070000
DTEND;TZID=America/Indiana/Indianapolis:20270826T083000
DTSTAMP:20260421T163859
CREATED:20250827T044436Z
LAST-MODIFIED:20260108T205202Z
UID:39369-1819263600-1819269000@welcometocrossroads.org
SUMMARY:Trustees Meeting
DESCRIPTION:
URL:https://welcometocrossroads.org/event/trustees-meeting-111/
LOCATION:117 – 7209 E CR 100 S
END:VEVENT
BEGIN:VEVENT
DTSTART;TZID=America/Indiana/Indianapolis:20270826T133000
DTEND;TZID=America/Indiana/Indianapolis:20270826T143000
DTSTAMP:20260421T163859
CREATED:20260108T205204Z
LAST-MODIFIED:20260108T205204Z
UID:41539-1819287000-1819290600@welcometocrossroads.org
SUMMARY:Operations Meeting
DESCRIPTION:
URL:https://welcometocrossroads.org/event/operations-meeting-86/
END:VEVENT
BEGIN:VEVENT
DTSTART;TZID=America/Indiana/Indianapolis:20270826T140000
DTEND;TZID=America/Indiana/Indianapolis:20270826T150000
DTSTAMP:20260421T163859
CREATED:20250827T044440Z
LAST-MODIFIED:20251117T123459Z
UID:39370-1819288800-1819292400@welcometocrossroads.org
SUMMARY:Operations Weekly Meeting
DESCRIPTION:
URL:https://welcometocrossroads.org/event/operations-weekly-meeting-311/
LOCATION:Crossroads Church – 7209 E County Rd 100 S\, Avon\, IN\, United States
END:VEVENT
BEGIN:VEVENT
DTSTART;TZID=America/Indiana/Indianapolis:20270826T150000
DTEND;TZID=America/Indiana/Indianapolis:20270826T170000
DTSTAMP:20260421T163859
CREATED:20251101T051129Z
LAST-MODIFIED:20251117T123500Z
UID:40623-1819292400-1819299600@welcometocrossroads.org
SUMMARY:Worship Center reserved for filming
DESCRIPTION:
URL:https://welcometocrossroads.org/event/worship-center-reserved-for-filming-95/
END:VEVENT
BEGIN:VEVENT
DTSTART;TZID=America/Indiana/Indianapolis:20270826T183000
DTEND;TZID=America/Indiana/Indianapolis:20270826T200000
DTSTAMP:20260421T163859
CREATED:20250827T044442Z
LAST-MODIFIED:20260108T205205Z
UID:39371-1819305000-1819310400@welcometocrossroads.org
SUMMARY:Men's Bible Study
DESCRIPTION:
URL:https://welcometocrossroads.org/event/mens-bible-study-241/
END:VEVENT
BEGIN:VEVENT
DTSTART;TZID=America/Indiana/Indianapolis:20270826T183000
DTEND;TZID=America/Indiana/Indianapolis:20270826T203000
DTSTAMP:20260421T163859
CREATED:20250827T044444Z
LAST-MODIFIED:20260108T205207Z
UID:39372-1819305000-1819312200@welcometocrossroads.org
SUMMARY:Women in the Word
DESCRIPTION:
URL:https://welcometocrossroads.org/event/women-in-the-word-374/
END:VEVENT
BEGIN:VEVENT
DTSTART;TZID=America/Indiana/Indianapolis:20270826T190000
DTEND;TZID=America/Indiana/Indianapolis:20270826T203000
DTSTAMP:20260421T163859
CREATED:20250827T044447Z
LAST-MODIFIED:20260108T205206Z
UID:39373-1819306800-1819312200@welcometocrossroads.org
SUMMARY:Worship Practice
DESCRIPTION:Weekly Worship Team Practice to Prepare for the weekend
URL:https://welcometocrossroads.org/event/worship-practice-369/
END:VEVENT
END:VCALENDAR