BEGIN:VCALENDAR
VERSION:2.0
PRODID:-//Crossroads Church - ECPv6.15.17.1//NONSGML v1.0//EN
CALSCALE:GREGORIAN
METHOD:PUBLISH
X-ORIGINAL-URL:https://welcometocrossroads.org
X-WR-CALDESC:Events for Crossroads Church
REFRESH-INTERVAL;VALUE=DURATION:PT1H
X-Robots-Tag:noindex
X-PUBLISHED-TTL:PT1H
BEGIN:VTIMEZONE
TZID:America/Indiana/Indianapolis
BEGIN:DAYLIGHT
TZOFFSETFROM:-0500
TZOFFSETTO:-0400
TZNAME:EDT
DTSTART:20260308T070000
END:DAYLIGHT
BEGIN:STANDARD
TZOFFSETFROM:-0400
TZOFFSETTO:-0500
TZNAME:EST
DTSTART:20261101T060000
END:STANDARD
BEGIN:DAYLIGHT
TZOFFSETFROM:-0500
TZOFFSETTO:-0400
TZNAME:EDT
DTSTART:20270314T070000
END:DAYLIGHT
BEGIN:STANDARD
TZOFFSETFROM:-0400
TZOFFSETTO:-0500
TZNAME:EST
DTSTART:20271107T060000
END:STANDARD
BEGIN:DAYLIGHT
TZOFFSETFROM:-0500
TZOFFSETTO:-0400
TZNAME:EDT
DTSTART:20280312T070000
END:DAYLIGHT
BEGIN:STANDARD
TZOFFSETFROM:-0400
TZOFFSETTO:-0500
TZNAME:EST
DTSTART:20281105T060000
END:STANDARD
END:VTIMEZONE
BEGIN:VEVENT
DTSTART;TZID=America/Indiana/Indianapolis:20270901T100000
DTEND;TZID=America/Indiana/Indianapolis:20270901T110000
DTSTAMP:20260421T163829
CREATED:20250901T160827Z
LAST-MODIFIED:20251117T123804Z
UID:39542-1819792800-1819796400@welcometocrossroads.org
SUMMARY:Senior Luncheon: Setup
DESCRIPTION:
URL:https://welcometocrossroads.org/event/senior-luncheon-setup-113/
END:VEVENT
BEGIN:VEVENT
DTSTART;TZID=America/Indiana/Indianapolis:20270901T113000
DTEND;TZID=America/Indiana/Indianapolis:20270901T133000
DTSTAMP:20260421T163829
CREATED:20250901T160828Z
LAST-MODIFIED:20260108T205249Z
UID:39543-1819798200-1819805400@welcometocrossroads.org
SUMMARY:Senior Luncheon
DESCRIPTION:
URL:https://welcometocrossroads.org/event/senior-luncheon-134/
END:VEVENT
BEGIN:VEVENT
DTSTART;TZID=America/Indiana/Indianapolis:20270901T130000
DTEND;TZID=America/Indiana/Indianapolis:20270901T140000
DTSTAMP:20260421T163830
CREATED:20250901T160830Z
LAST-MODIFIED:20251117T123805Z
UID:39544-1819803600-1819807200@welcometocrossroads.org
SUMMARY:Senior Luncheon: Teardown
DESCRIPTION:
URL:https://welcometocrossroads.org/event/senior-luncheon-teardown-113/
END:VEVENT
BEGIN:VEVENT
DTSTART;TZID=America/Indiana/Indianapolis:20270901T140000
DTEND;TZID=America/Indiana/Indianapolis:20270901T160000
DTSTAMP:20260421T163830
CREATED:20250901T160832Z
LAST-MODIFIED:20251001T220442Z
UID:39545-1819807200-1819814400@welcometocrossroads.org
SUMMARY:The Way
DESCRIPTION:
URL:https://welcometocrossroads.org/event/the-way-55/
END:VEVENT
BEGIN:VEVENT
DTSTART;TZID=America/Indiana/Indianapolis:20270901T140000
DTEND;TZID=America/Indiana/Indianapolis:20270901T160000
DTSTAMP:20260421T163830
CREATED:20251003T062034Z
LAST-MODIFIED:20251117T123808Z
UID:40145-1819807200-1819814400@welcometocrossroads.org
SUMMARY:The Way
DESCRIPTION:
URL:https://welcometocrossroads.org/event/the-way-102/
END:VEVENT
BEGIN:VEVENT
DTSTART;TZID=America/Indiana/Indianapolis:20270901T140000
DTEND;TZID=America/Indiana/Indianapolis:20270901T160000
DTSTAMP:20260421T163830
CREATED:20260108T205251Z
LAST-MODIFIED:20260108T205251Z
UID:41541-1819807200-1819814400@welcometocrossroads.org
SUMMARY:The Way
DESCRIPTION:
URL:https://welcometocrossroads.org/event/the-way-194/
END:VEVENT
BEGIN:VEVENT
DTSTART;TZID=America/Indiana/Indianapolis:20270901T180000
DTEND;TZID=America/Indiana/Indianapolis:20270901T200000
DTSTAMP:20260421T163830
CREATED:20250901T160847Z
LAST-MODIFIED:20260108T205254Z
UID:39547-1819821600-1819828800@welcometocrossroads.org
SUMMARY:Women's Wellness LG
DESCRIPTION:Women’s LG\nVisit welcometocrossroads.org/groups for more information
URL:https://welcometocrossroads.org/event/womens-wellness-lg-266/
END:VEVENT
BEGIN:VEVENT
DTSTART;TZID=America/Indiana/Indianapolis:20270901T180000
DTEND;TZID=America/Indiana/Indianapolis:20270901T210000
DTSTAMP:20260421T163830
CREATED:20250901T160834Z
LAST-MODIFIED:20260108T205253Z
UID:39546-1819821600-1819832400@welcometocrossroads.org
SUMMARY:The Well - College & Career: The Well - College & Career Weekly Meetings
DESCRIPTION:
URL:https://welcometocrossroads.org/event/the-well-college-career-the-well-college-career-weekly-meetings-49/
END:VEVENT
BEGIN:VEVENT
DTSTART;TZID=America/Indiana/Indianapolis:20270901T190000
DTEND;TZID=America/Indiana/Indianapolis:20270901T203000
DTSTAMP:20260421T163830
CREATED:20260108T205252Z
LAST-MODIFIED:20260108T205252Z
UID:41542-1819825200-1819830600@welcometocrossroads.org
SUMMARY:Life Group
DESCRIPTION:
URL:https://welcometocrossroads.org/event/life-group-85/
END:VEVENT
END:VCALENDAR