BEGIN:VCALENDAR
VERSION:2.0
PRODID:-//Crossroads Church - ECPv6.15.17.1//NONSGML v1.0//EN
CALSCALE:GREGORIAN
METHOD:PUBLISH
X-ORIGINAL-URL:https://welcometocrossroads.org
X-WR-CALDESC:Events for Crossroads Church
REFRESH-INTERVAL;VALUE=DURATION:PT1H
X-Robots-Tag:noindex
X-PUBLISHED-TTL:PT1H
BEGIN:VTIMEZONE
TZID:America/Indiana/Indianapolis
BEGIN:DAYLIGHT
TZOFFSETFROM:-0500
TZOFFSETTO:-0400
TZNAME:EDT
DTSTART:20260308T070000
END:DAYLIGHT
BEGIN:STANDARD
TZOFFSETFROM:-0400
TZOFFSETTO:-0500
TZNAME:EST
DTSTART:20261101T060000
END:STANDARD
BEGIN:DAYLIGHT
TZOFFSETFROM:-0500
TZOFFSETTO:-0400
TZNAME:EDT
DTSTART:20270314T070000
END:DAYLIGHT
BEGIN:STANDARD
TZOFFSETFROM:-0400
TZOFFSETTO:-0500
TZNAME:EST
DTSTART:20271107T060000
END:STANDARD
BEGIN:DAYLIGHT
TZOFFSETFROM:-0500
TZOFFSETTO:-0400
TZNAME:EDT
DTSTART:20280312T070000
END:DAYLIGHT
BEGIN:STANDARD
TZOFFSETFROM:-0400
TZOFFSETTO:-0500
TZNAME:EST
DTSTART:20281105T060000
END:STANDARD
END:VTIMEZONE
BEGIN:VEVENT
DTSTART;TZID=America/Indiana/Indianapolis:20270905T080000
DTEND;TZID=America/Indiana/Indianapolis:20270905T084500
DTSTAMP:20260423T193519
CREATED:20250906T001743Z
LAST-MODIFIED:20260108T205314Z
UID:39571-1820131200-1820133900@welcometocrossroads.org
SUMMARY:Therefore Life Group
DESCRIPTION:
URL:https://welcometocrossroads.org/event/therefore-life-group-154/
END:VEVENT
BEGIN:VEVENT
DTSTART;TZID=America/Indiana/Indianapolis:20270905T103000
DTEND;TZID=America/Indiana/Indianapolis:20270905T123000
DTSTAMP:20260423T193519
CREATED:20250906T001748Z
LAST-MODIFIED:20260108T205317Z
UID:39573-1820140200-1820147400@welcometocrossroads.org
SUMMARY:Joyfully His LG
DESCRIPTION:
URL:https://welcometocrossroads.org/event/joyfully-his-lg-174/
END:VEVENT
BEGIN:VEVENT
DTSTART;TZID=America/Indiana/Indianapolis:20270905T110000
DTEND;TZID=America/Indiana/Indianapolis:20270905T113000
DTSTAMP:20260423T193519
CREATED:20250906T001746Z
LAST-MODIFIED:20260108T205315Z
UID:39572-1820142000-1820143800@welcometocrossroads.org
SUMMARY:Growth Track
DESCRIPTION:
URL:https://welcometocrossroads.org/event/growth-track-443/
LOCATION:Room 117 – Crossroads Church
END:VEVENT
BEGIN:VEVENT
DTSTART;TZID=America/Indiana/Indianapolis:20270905T133000
DTEND;TZID=America/Indiana/Indianapolis:20270905T160000
DTSTAMP:20260423T193519
CREATED:20250906T001801Z
LAST-MODIFIED:20260108T205318Z
UID:39574-1820151000-1820160000@welcometocrossroads.org
SUMMARY:Christ's Ambassadors
DESCRIPTION:
URL:https://welcometocrossroads.org/event/christs-ambassadors-175/
END:VEVENT
BEGIN:VEVENT
DTSTART;TZID=America/Indiana/Indianapolis:20270905T170000
DTEND;TZID=America/Indiana/Indianapolis:20270905T183000
DTSTAMP:20260423T193519
CREATED:20250906T001804Z
LAST-MODIFIED:20260108T205320Z
UID:39575-1820163600-1820169000@welcometocrossroads.org
SUMMARY:Girl’s Ministry
DESCRIPTION:
URL:https://welcometocrossroads.org/event/girls-ministry-157/
END:VEVENT
BEGIN:VEVENT
DTSTART;TZID=America/Indiana/Indianapolis:20270905T173000
DTEND;TZID=America/Indiana/Indianapolis:20270905T180000
DTSTAMP:20260423T193519
CREATED:20250906T001809Z
LAST-MODIFIED:20260108T205319Z
UID:39577-1820165400-1820167200@welcometocrossroads.org
SUMMARY:CSM - Leader Huddle
DESCRIPTION:
URL:https://welcometocrossroads.org/event/csm-leader-huddle-454/
LOCATION:102
END:VEVENT
BEGIN:VEVENT
DTSTART;TZID=America/Indiana/Indianapolis:20270905T180000
DTEND;TZID=America/Indiana/Indianapolis:20270905T203000
DTSTAMP:20260423T193519
CREATED:20250906T001807Z
LAST-MODIFIED:20260108T205322Z
UID:39576-1820167200-1820176200@welcometocrossroads.org
SUMMARY:CSM - Crossroads Students Ministries
DESCRIPTION:
URL:https://welcometocrossroads.org/event/csm-crossroads-students-ministries-212/
LOCATION:CSM – 7209 E County Rd 100 S\, Avon\, IN\, United States
END:VEVENT
END:VCALENDAR