BEGIN:VCALENDAR
VERSION:2.0
PRODID:-//Crossroads Church - ECPv6.15.17.1//NONSGML v1.0//EN
CALSCALE:GREGORIAN
METHOD:PUBLISH
X-ORIGINAL-URL:https://welcometocrossroads.org
X-WR-CALDESC:Events for Crossroads Church
REFRESH-INTERVAL;VALUE=DURATION:PT1H
X-Robots-Tag:noindex
X-PUBLISHED-TTL:PT1H
BEGIN:VTIMEZONE
TZID:America/Indiana/Indianapolis
BEGIN:DAYLIGHT
TZOFFSETFROM:-0500
TZOFFSETTO:-0400
TZNAME:EDT
DTSTART:20260308T070000
END:DAYLIGHT
BEGIN:STANDARD
TZOFFSETFROM:-0400
TZOFFSETTO:-0500
TZNAME:EST
DTSTART:20261101T060000
END:STANDARD
BEGIN:DAYLIGHT
TZOFFSETFROM:-0500
TZOFFSETTO:-0400
TZNAME:EDT
DTSTART:20270314T070000
END:DAYLIGHT
BEGIN:STANDARD
TZOFFSETFROM:-0400
TZOFFSETTO:-0500
TZNAME:EST
DTSTART:20271107T060000
END:STANDARD
BEGIN:DAYLIGHT
TZOFFSETFROM:-0500
TZOFFSETTO:-0400
TZNAME:EDT
DTSTART:20280312T070000
END:DAYLIGHT
BEGIN:STANDARD
TZOFFSETFROM:-0400
TZOFFSETTO:-0500
TZNAME:EST
DTSTART:20281105T060000
END:STANDARD
END:VTIMEZONE
BEGIN:VEVENT
DTSTART;TZID=America/Indiana/Indianapolis:20270906T070000
DTEND;TZID=America/Indiana/Indianapolis:20270906T084500
DTSTAMP:20260424T024318
CREATED:20250907T183332Z
LAST-MODIFIED:20260108T205323Z
UID:39635-1820214000-1820220300@welcometocrossroads.org
SUMMARY:Elder's Meeting
DESCRIPTION:
URL:https://welcometocrossroads.org/event/elders-meeting-174/
END:VEVENT
BEGIN:VEVENT
DTSTART;TZID=America/Indiana/Indianapolis:20270906T183000
DTEND;TZID=America/Indiana/Indianapolis:20270906T203000
DTSTAMP:20260424T024318
CREATED:20250907T183337Z
LAST-MODIFIED:20260108T205337Z
UID:39637-1820255400-1820262600@welcometocrossroads.org
SUMMARY:Divorce Care
DESCRIPTION:
URL:https://welcometocrossroads.org/event/divorce-care-371/
END:VEVENT
BEGIN:VEVENT
DTSTART;TZID=America/Indiana/Indianapolis:20270906T190000
DTEND;TZID=America/Indiana/Indianapolis:20270906T203000
DTSTAMP:20260424T024318
CREATED:20250907T183334Z
LAST-MODIFIED:20260108T205336Z
UID:39636-1820257200-1820262600@welcometocrossroads.org
SUMMARY:Hey Girl Life Group
DESCRIPTION:
URL:https://welcometocrossroads.org/event/hey-girl-life-group-383/
END:VEVENT
END:VCALENDAR