BEGIN:VCALENDAR
VERSION:2.0
PRODID:-//Crossroads Church - ECPv6.15.17.1//NONSGML v1.0//EN
CALSCALE:GREGORIAN
METHOD:PUBLISH
X-WR-CALNAME:Crossroads Church
X-ORIGINAL-URL:https://welcometocrossroads.org
X-WR-CALDESC:Events for Crossroads Church
REFRESH-INTERVAL;VALUE=DURATION:PT1H
X-Robots-Tag:noindex
X-PUBLISHED-TTL:PT1H
BEGIN:VTIMEZONE
TZID:America/Indiana/Indianapolis
BEGIN:DAYLIGHT
TZOFFSETFROM:-0500
TZOFFSETTO:-0400
TZNAME:EDT
DTSTART:20260308T070000
END:DAYLIGHT
BEGIN:STANDARD
TZOFFSETFROM:-0400
TZOFFSETTO:-0500
TZNAME:EST
DTSTART:20261101T060000
END:STANDARD
BEGIN:DAYLIGHT
TZOFFSETFROM:-0500
TZOFFSETTO:-0400
TZNAME:EDT
DTSTART:20270314T070000
END:DAYLIGHT
BEGIN:STANDARD
TZOFFSETFROM:-0400
TZOFFSETTO:-0500
TZNAME:EST
DTSTART:20271107T060000
END:STANDARD
BEGIN:DAYLIGHT
TZOFFSETFROM:-0500
TZOFFSETTO:-0400
TZNAME:EDT
DTSTART:20280312T070000
END:DAYLIGHT
BEGIN:STANDARD
TZOFFSETFROM:-0400
TZOFFSETTO:-0500
TZNAME:EST
DTSTART:20281105T060000
END:STANDARD
END:VTIMEZONE
BEGIN:VEVENT
DTSTART;TZID=America/Indiana/Indianapolis:20270908T003000
DTEND;TZID=America/Indiana/Indianapolis:20270908T133000
DTSTAMP:20260425T000011
CREATED:20260108T205343Z
LAST-MODIFIED:20260108T205343Z
UID:41545-1820363400-1820410200@welcometocrossroads.org
SUMMARY:ATF Meeting
DESCRIPTION:
URL:https://welcometocrossroads.org/event/atf-meeting-63/
END:VEVENT
BEGIN:VEVENT
DTSTART;TZID=America/Indiana/Indianapolis:20270908T100000
DTEND;TZID=America/Indiana/Indianapolis:20270908T110000
DTSTAMP:20260425T000011
CREATED:20250908T205504Z
LAST-MODIFIED:20251117T124400Z
UID:39662-1820397600-1820401200@welcometocrossroads.org
SUMMARY:ATF Meeting
DESCRIPTION:
URL:https://welcometocrossroads.org/event/atf-meeting-40/
END:VEVENT
BEGIN:VEVENT
DTSTART;TZID=America/Indiana/Indianapolis:20270908T140000
DTEND;TZID=America/Indiana/Indianapolis:20270908T160000
DTSTAMP:20260425T000011
CREATED:20260108T205344Z
LAST-MODIFIED:20260108T205344Z
UID:41546-1820412000-1820419200@welcometocrossroads.org
SUMMARY:The Way
DESCRIPTION:
URL:https://welcometocrossroads.org/event/the-way-195/
END:VEVENT
BEGIN:VEVENT
DTSTART;TZID=America/Indiana/Indianapolis:20270908T190000
DTEND;TZID=America/Indiana/Indianapolis:20270908T203000
DTSTAMP:20260425T000011
CREATED:20260108T205346Z
LAST-MODIFIED:20260108T205346Z
UID:41547-1820430000-1820435400@welcometocrossroads.org
SUMMARY:Life Group
DESCRIPTION:
URL:https://welcometocrossroads.org/event/life-group-86/
END:VEVENT
END:VCALENDAR