BEGIN:VCALENDAR
VERSION:2.0
PRODID:-//Crossroads Church - ECPv6.15.17.1//NONSGML v1.0//EN
CALSCALE:GREGORIAN
METHOD:PUBLISH
X-ORIGINAL-URL:https://welcometocrossroads.org
X-WR-CALDESC:Events for Crossroads Church
REFRESH-INTERVAL;VALUE=DURATION:PT1H
X-Robots-Tag:noindex
X-PUBLISHED-TTL:PT1H
BEGIN:VTIMEZONE
TZID:America/Indiana/Indianapolis
BEGIN:DAYLIGHT
TZOFFSETFROM:-0500
TZOFFSETTO:-0400
TZNAME:EDT
DTSTART:20260308T070000
END:DAYLIGHT
BEGIN:STANDARD
TZOFFSETFROM:-0400
TZOFFSETTO:-0500
TZNAME:EST
DTSTART:20261101T060000
END:STANDARD
BEGIN:DAYLIGHT
TZOFFSETFROM:-0500
TZOFFSETTO:-0400
TZNAME:EDT
DTSTART:20270314T070000
END:DAYLIGHT
BEGIN:STANDARD
TZOFFSETFROM:-0400
TZOFFSETTO:-0500
TZNAME:EST
DTSTART:20271107T060000
END:STANDARD
BEGIN:DAYLIGHT
TZOFFSETFROM:-0500
TZOFFSETTO:-0400
TZNAME:EDT
DTSTART:20280312T070000
END:DAYLIGHT
BEGIN:STANDARD
TZOFFSETFROM:-0400
TZOFFSETTO:-0500
TZNAME:EST
DTSTART:20281105T060000
END:STANDARD
END:VTIMEZONE
BEGIN:VEVENT
DTSTART;TZID=America/Indiana/Indianapolis:20270930T133000
DTEND;TZID=America/Indiana/Indianapolis:20270930T143000
DTSTAMP:20260425T100010
CREATED:20260108T205658Z
LAST-MODIFIED:20260108T205658Z
UID:41560-1822311000-1822314600@welcometocrossroads.org
SUMMARY:Operations Meeting
DESCRIPTION:
URL:https://welcometocrossroads.org/event/operations-meeting-91/
END:VEVENT
BEGIN:VEVENT
DTSTART;TZID=America/Indiana/Indianapolis:20270930T140000
DTEND;TZID=America/Indiana/Indianapolis:20270930T150000
DTSTAMP:20260425T100010
CREATED:20250930T080212Z
LAST-MODIFIED:20251117T125803Z
UID:39917-1822312800-1822316400@welcometocrossroads.org
SUMMARY:Operations Weekly Meeting
DESCRIPTION:
URL:https://welcometocrossroads.org/event/operations-weekly-meeting-316/
LOCATION:Crossroads Church – 7209 E County Rd 100 S\, Avon\, IN\, United States
END:VEVENT
BEGIN:VEVENT
DTSTART;TZID=America/Indiana/Indianapolis:20270930T150000
DTEND;TZID=America/Indiana/Indianapolis:20270930T170000
DTSTAMP:20260425T100010
CREATED:20251101T051619Z
LAST-MODIFIED:20251117T125802Z
UID:40630-1822316400-1822323600@welcometocrossroads.org
SUMMARY:Worship Center reserved for filming
DESCRIPTION:
URL:https://welcometocrossroads.org/event/worship-center-reserved-for-filming-100/
END:VEVENT
BEGIN:VEVENT
DTSTART;TZID=America/Indiana/Indianapolis:20270930T183000
DTEND;TZID=America/Indiana/Indianapolis:20270930T200000
DTSTAMP:20260425T100010
CREATED:20250930T080216Z
LAST-MODIFIED:20260108T205700Z
UID:39919-1822329000-1822334400@welcometocrossroads.org
SUMMARY:Men's Bible Study
DESCRIPTION:
URL:https://welcometocrossroads.org/event/mens-bible-study-246/
END:VEVENT
BEGIN:VEVENT
DTSTART;TZID=America/Indiana/Indianapolis:20270930T183000
DTEND;TZID=America/Indiana/Indianapolis:20270930T203000
DTSTAMP:20260425T100010
CREATED:20250930T080218Z
LAST-MODIFIED:20260108T205701Z
UID:39920-1822329000-1822336200@welcometocrossroads.org
SUMMARY:Women in the Word
DESCRIPTION:
URL:https://welcometocrossroads.org/event/women-in-the-word-379/
END:VEVENT
BEGIN:VEVENT
DTSTART;TZID=America/Indiana/Indianapolis:20270930T190000
DTEND;TZID=America/Indiana/Indianapolis:20270930T203000
DTSTAMP:20260425T100010
CREATED:20250930T080214Z
LAST-MODIFIED:20260108T205659Z
UID:39918-1822330800-1822336200@welcometocrossroads.org
SUMMARY:Worship Practice
DESCRIPTION:Weekly Worship Team Practice to Prepare for the weekend
URL:https://welcometocrossroads.org/event/worship-practice-374/
END:VEVENT
END:VCALENDAR