BEGIN:VCALENDAR
VERSION:2.0
PRODID:-//Crossroads Church - ECPv6.15.17.1//NONSGML v1.0//EN
CALSCALE:GREGORIAN
METHOD:PUBLISH
X-WR-CALNAME:Crossroads Church
X-ORIGINAL-URL:https://welcometocrossroads.org
X-WR-CALDESC:Events for Crossroads Church
REFRESH-INTERVAL;VALUE=DURATION:PT1H
X-Robots-Tag:noindex
X-PUBLISHED-TTL:PT1H
BEGIN:VTIMEZONE
TZID:America/Indiana/Indianapolis
BEGIN:DAYLIGHT
TZOFFSETFROM:-0500
TZOFFSETTO:-0400
TZNAME:EDT
DTSTART:20220313T070000
END:DAYLIGHT
BEGIN:STANDARD
TZOFFSETFROM:-0400
TZOFFSETTO:-0500
TZNAME:EST
DTSTART:20221106T060000
END:STANDARD
BEGIN:DAYLIGHT
TZOFFSETFROM:-0500
TZOFFSETTO:-0400
TZNAME:EDT
DTSTART:20230312T070000
END:DAYLIGHT
BEGIN:STANDARD
TZOFFSETFROM:-0400
TZOFFSETTO:-0500
TZNAME:EST
DTSTART:20231105T060000
END:STANDARD
BEGIN:DAYLIGHT
TZOFFSETFROM:-0500
TZOFFSETTO:-0400
TZNAME:EDT
DTSTART:20240310T070000
END:DAYLIGHT
BEGIN:STANDARD
TZOFFSETFROM:-0400
TZOFFSETTO:-0500
TZNAME:EST
DTSTART:20241103T060000
END:STANDARD
END:VTIMEZONE
BEGIN:VEVENT
DTSTART;TZID=America/Indiana/Indianapolis:20230222T180000
DTEND;TZID=America/Indiana/Indianapolis:20230222T210000
DTSTAMP:20260425T161352
CREATED:20221102T193035Z
LAST-MODIFIED:20221102T193035Z
UID:16412-1677088800-1677099600@welcometocrossroads.org
SUMMARY:The Well - College & Career Weekly Meetings
DESCRIPTION:
URL:https://welcometocrossroads.org/event/the-well-college-career-weekly-meetings-179/
END:VEVENT
BEGIN:VEVENT
DTSTART;TZID=America/Indiana/Indianapolis:20230222T180000
DTEND;TZID=America/Indiana/Indianapolis:20230222T210000
DTSTAMP:20260425T161352
CREATED:20221102T192233Z
LAST-MODIFIED:20221102T192233Z
UID:15409-1677088800-1677099600@welcometocrossroads.org
SUMMARY:The Well - College & Career Weekly Meetings
DESCRIPTION:
URL:https://welcometocrossroads.org/event/the-well-college-career-weekly-meetings-121/
END:VEVENT
BEGIN:VEVENT
DTSTART;TZID=America/Indiana/Indianapolis:20230222T180000
DTEND;TZID=America/Indiana/Indianapolis:20230222T210000
DTSTAMP:20260425T161352
CREATED:20220807T012454Z
LAST-MODIFIED:20220807T012454Z
UID:13702-1677088800-1677099600@welcometocrossroads.org
SUMMARY:The Well - College & Career Weekly Meetings
DESCRIPTION:
URL:https://welcometocrossroads.org/event/the-well-college-career-weekly-meetings-29/
END:VEVENT
BEGIN:VEVENT
DTSTART;TZID=America/Indiana/Indianapolis:20230222T180000
DTEND;TZID=America/Indiana/Indianapolis:20230222T200000
DTSTAMP:20260425T161352
CREATED:20221102T193035Z
LAST-MODIFIED:20221102T193035Z
UID:16411-1677088800-1677096000@welcometocrossroads.org
SUMMARY:Lema Life Group
DESCRIPTION:
URL:https://welcometocrossroads.org/event/lema-life-group-83/
END:VEVENT
BEGIN:VEVENT
DTSTART;TZID=America/Indiana/Indianapolis:20230222T180000
DTEND;TZID=America/Indiana/Indianapolis:20230222T200000
DTSTAMP:20260425T161352
CREATED:20221102T192233Z
LAST-MODIFIED:20221102T192233Z
UID:15408-1677088800-1677096000@welcometocrossroads.org
SUMMARY:Lema Life Group
DESCRIPTION:
URL:https://welcometocrossroads.org/event/lema-life-group-57/
END:VEVENT
BEGIN:VEVENT
DTSTART;TZID=America/Indiana/Indianapolis:20230222T180000
DTEND;TZID=America/Indiana/Indianapolis:20230222T200000
DTSTAMP:20260425T161352
CREATED:20220807T012454Z
LAST-MODIFIED:20220807T012454Z
UID:13703-1677088800-1677096000@welcometocrossroads.org
SUMMARY:Lema Life Group
DESCRIPTION:
URL:https://welcometocrossroads.org/event/lema-life-group-14/
END:VEVENT
BEGIN:VEVENT
DTSTART;TZID=America/Indiana/Indianapolis:20230221T183000
DTEND;TZID=America/Indiana/Indianapolis:20230221T200000
DTSTAMP:20260425T161352
CREATED:20221102T193024Z
LAST-MODIFIED:20221102T193024Z
UID:16410-1677004200-1677009600@welcometocrossroads.org
SUMMARY:Cranor Life Group
DESCRIPTION:A Marriage Life Group Where all married couples are welcome.
URL:https://welcometocrossroads.org/event/cranor-life-group-81/
END:VEVENT
BEGIN:VEVENT
DTSTART;TZID=America/Indiana/Indianapolis:20230221T183000
DTEND;TZID=America/Indiana/Indianapolis:20230221T200000
DTSTAMP:20260425T161352
CREATED:20221102T192233Z
LAST-MODIFIED:20221102T192233Z
UID:15407-1677004200-1677009600@welcometocrossroads.org
SUMMARY:Cranor Life Group
DESCRIPTION:A Marriage Life Group Where all married couples are welcome.
URL:https://welcometocrossroads.org/event/cranor-life-group-55/
END:VEVENT
BEGIN:VEVENT
DTSTART;TZID=America/Indiana/Indianapolis:20230221T183000
DTEND;TZID=America/Indiana/Indianapolis:20230221T200000
DTSTAMP:20260425T161352
CREATED:20220807T012454Z
LAST-MODIFIED:20220807T012454Z
UID:13701-1677004200-1677009600@welcometocrossroads.org
SUMMARY:Cranor Life Group
DESCRIPTION:A Marriage Life Group Where all married couples are welcome.
URL:https://welcometocrossroads.org/event/cranor-life-group-13/
END:VEVENT
BEGIN:VEVENT
DTSTART;TZID=America/Indiana/Indianapolis:20230221T100000
DTEND;TZID=America/Indiana/Indianapolis:20230221T123000
DTSTAMP:20260425T161352
CREATED:20221102T193024Z
LAST-MODIFIED:20221102T193024Z
UID:16409-1676973600-1676982600@welcometocrossroads.org
SUMMARY:Beth Moore Women's Bible Study: Women's Bible Study
DESCRIPTION:
URL:https://welcometocrossroads.org/event/beth-moore-womens-bible-study-womens-bible-study-170/
END:VEVENT
BEGIN:VEVENT
DTSTART;TZID=America/Indiana/Indianapolis:20230221T100000
DTEND;TZID=America/Indiana/Indianapolis:20230221T123000
DTSTAMP:20260425T161352
CREATED:20221102T192233Z
LAST-MODIFIED:20221102T192233Z
UID:15406-1676973600-1676982600@welcometocrossroads.org
SUMMARY:Beth Moore Women's Bible Study: Women's Bible Study
DESCRIPTION:
URL:https://welcometocrossroads.org/event/beth-moore-womens-bible-study-womens-bible-study-117/
END:VEVENT
BEGIN:VEVENT
DTSTART;TZID=America/Indiana/Indianapolis:20230221T100000
DTEND;TZID=America/Indiana/Indianapolis:20230221T120000
DTSTAMP:20260425T161352
CREATED:20221102T193024Z
LAST-MODIFIED:20221102T193024Z
UID:16408-1676973600-1676980800@welcometocrossroads.org
SUMMARY:S-Meeting
DESCRIPTION:
URL:https://welcometocrossroads.org/event/s-meeting-263/
END:VEVENT
BEGIN:VEVENT
DTSTART;TZID=America/Indiana/Indianapolis:20230221T100000
DTEND;TZID=America/Indiana/Indianapolis:20230221T120000
DTSTAMP:20260425T161352
CREATED:20221102T192233Z
LAST-MODIFIED:20221102T192233Z
UID:15405-1676973600-1676980800@welcometocrossroads.org
SUMMARY:S-Meeting
DESCRIPTION:
URL:https://welcometocrossroads.org/event/s-meeting-205/
END:VEVENT
BEGIN:VEVENT
DTSTART;TZID=America/Indiana/Indianapolis:20230221T100000
DTEND;TZID=America/Indiana/Indianapolis:20230221T120000
DTSTAMP:20260425T161352
CREATED:20220807T012454Z
LAST-MODIFIED:20220807T012454Z
UID:13699-1676973600-1676980800@welcometocrossroads.org
SUMMARY:S-Meeting
DESCRIPTION:
URL:https://welcometocrossroads.org/event/s-meeting-112/
END:VEVENT
BEGIN:VEVENT
DTSTART;TZID=America/Indiana/Indianapolis:20230221T100000
DTEND;TZID=America/Indiana/Indianapolis:20230221T113000
DTSTAMP:20260425T161352
CREATED:20220807T012454Z
LAST-MODIFIED:20220807T012454Z
UID:13700-1676973600-1676979000@welcometocrossroads.org
SUMMARY:Beth Moore Women's Bible Study: Women's Bible Study
DESCRIPTION:
URL:https://welcometocrossroads.org/event/beth-moore-womens-bible-study-womens-bible-study-29/
END:VEVENT
BEGIN:VEVENT
DTSTART;TZID=America/Indiana/Indianapolis:20230220T183000
DTEND;TZID=America/Indiana/Indianapolis:20230220T203000
DTSTAMP:20260425T161352
CREATED:20221102T193023Z
LAST-MODIFIED:20221102T193023Z
UID:16407-1676917800-1676925000@welcometocrossroads.org
SUMMARY:DivorceCare
DESCRIPTION:
URL:https://welcometocrossroads.org/event/divorcecare-181/
END:VEVENT
BEGIN:VEVENT
DTSTART;TZID=America/Indiana/Indianapolis:20230220T183000
DTEND;TZID=America/Indiana/Indianapolis:20230220T203000
DTSTAMP:20260425T161352
CREATED:20221102T192233Z
LAST-MODIFIED:20221102T192233Z
UID:15404-1676917800-1676925000@welcometocrossroads.org
SUMMARY:DivorceCare
DESCRIPTION:
URL:https://welcometocrossroads.org/event/divorcecare-122/
END:VEVENT
BEGIN:VEVENT
DTSTART;TZID=America/Indiana/Indianapolis:20230220T183000
DTEND;TZID=America/Indiana/Indianapolis:20230220T203000
DTSTAMP:20260425T161352
CREATED:20220807T012454Z
LAST-MODIFIED:20220807T012454Z
UID:13698-1676917800-1676925000@welcometocrossroads.org
SUMMARY:DivorceCare
DESCRIPTION:
URL:https://welcometocrossroads.org/event/divorcecare-29/
END:VEVENT
BEGIN:VEVENT
DTSTART;TZID=America/Indiana/Indianapolis:20230219T190000
DTEND;TZID=America/Indiana/Indianapolis:20230219T200000
DTSTAMP:20260425T161352
CREATED:20221102T193023Z
LAST-MODIFIED:20221102T193023Z
UID:16406-1676833200-1676836800@welcometocrossroads.org
SUMMARY:Mull Bible Study
DESCRIPTION:
URL:https://welcometocrossroads.org/event/mull-bible-study-76/
END:VEVENT
BEGIN:VEVENT
DTSTART;TZID=America/Indiana/Indianapolis:20230219T190000
DTEND;TZID=America/Indiana/Indianapolis:20230219T200000
DTSTAMP:20260425T161352
CREATED:20221102T192232Z
LAST-MODIFIED:20221102T192232Z
UID:15403-1676833200-1676836800@welcometocrossroads.org
SUMMARY:Mull Bible Study
DESCRIPTION:
URL:https://welcometocrossroads.org/event/mull-bible-study-18/
END:VEVENT
BEGIN:VEVENT
DTSTART;TZID=America/Indiana/Indianapolis:20230219T173000
DTEND;TZID=America/Indiana/Indianapolis:20230219T180000
DTSTAMP:20260425T161352
CREATED:20221102T193023Z
LAST-MODIFIED:20221102T193023Z
UID:16405-1676827800-1676829600@welcometocrossroads.org
SUMMARY:CSM - Leader Huddle
DESCRIPTION:
URL:https://welcometocrossroads.org/event/csm-leader-huddle-261/
LOCATION:102
END:VEVENT
BEGIN:VEVENT
DTSTART;TZID=America/Indiana/Indianapolis:20230219T173000
DTEND;TZID=America/Indiana/Indianapolis:20230219T180000
DTSTAMP:20260425T161352
CREATED:20221102T192232Z
LAST-MODIFIED:20221102T192232Z
UID:15402-1676827800-1676829600@welcometocrossroads.org
SUMMARY:CSM - Leader Huddle
DESCRIPTION:
URL:https://welcometocrossroads.org/event/csm-leader-huddle-203/
LOCATION:102
END:VEVENT
BEGIN:VEVENT
DTSTART;TZID=America/Indiana/Indianapolis:20230219T173000
DTEND;TZID=America/Indiana/Indianapolis:20230219T180000
DTSTAMP:20260425T161352
CREATED:20220807T012453Z
LAST-MODIFIED:20220807T012453Z
UID:13696-1676827800-1676829600@welcometocrossroads.org
SUMMARY:CSM - Leader Huddle
DESCRIPTION:
URL:https://welcometocrossroads.org/event/csm-leader-huddle-109/
LOCATION:102
END:VEVENT
BEGIN:VEVENT
DTSTART;TZID=America/Indiana/Indianapolis:20230219T170000
DTEND;TZID=America/Indiana/Indianapolis:20230219T183000
DTSTAMP:20260425T161352
CREATED:20221102T193023Z
LAST-MODIFIED:20221102T193023Z
UID:16404-1676826000-1676831400@welcometocrossroads.org
SUMMARY:Girl’s Ministry: Girl’s Ministry Life Group
DESCRIPTION:
URL:https://welcometocrossroads.org/event/girls-ministry-girls-ministry-life-group-181/
LOCATION:Rooms: 102\, 114\, 115\, 116\, 117 – 7209 E County Rd 100 S\, Avon\, IN 46123\, USA
END:VEVENT
BEGIN:VEVENT
DTSTART;TZID=America/Indiana/Indianapolis:20230219T170000
DTEND;TZID=America/Indiana/Indianapolis:20230219T183000
DTSTAMP:20260425T161352
CREATED:20221102T192232Z
LAST-MODIFIED:20221102T192232Z
UID:15401-1676826000-1676831400@welcometocrossroads.org
SUMMARY:Girl’s Ministry: Girl’s Ministry Life Group
DESCRIPTION:
URL:https://welcometocrossroads.org/event/girls-ministry-girls-ministry-life-group-123/
LOCATION:Rooms: 102\, 114\, 115\, 116\, 117 – 7209 E County Rd 100 S\, Avon\, IN 46123\, USA
END:VEVENT
BEGIN:VEVENT
DTSTART;TZID=America/Indiana/Indianapolis:20230219T170000
DTEND;TZID=America/Indiana/Indianapolis:20230219T183000
DTSTAMP:20260425T161352
CREATED:20220807T012454Z
LAST-MODIFIED:20220807T012454Z
UID:13697-1676826000-1676831400@welcometocrossroads.org
SUMMARY:Girl’s Ministry: Girl’s Ministry Life Group
DESCRIPTION:
URL:https://welcometocrossroads.org/event/girls-ministry-girls-ministry-life-group-29/
LOCATION:Rooms: 102\, 114\, 115\, 116\, 117 – 7209 E County Rd 100 S\, Avon\, IN 46123\, USA
END:VEVENT
BEGIN:VEVENT
DTSTART;TZID=America/Indiana/Indianapolis:20230219T123000
DTEND;TZID=America/Indiana/Indianapolis:20230219T143000
DTSTAMP:20260425T161352
CREATED:20221102T193019Z
LAST-MODIFIED:20221102T193019Z
UID:16403-1676809800-1676817000@welcometocrossroads.org
SUMMARY:Joyfully His LG
DESCRIPTION:
URL:https://welcometocrossroads.org/event/joyfully-his-lg-85/
END:VEVENT
BEGIN:VEVENT
DTSTART;TZID=America/Indiana/Indianapolis:20230219T123000
DTEND;TZID=America/Indiana/Indianapolis:20230219T143000
DTSTAMP:20260425T161352
CREATED:20221102T192232Z
LAST-MODIFIED:20221102T192232Z
UID:15400-1676809800-1676817000@welcometocrossroads.org
SUMMARY:Joyfully His LG
DESCRIPTION:
URL:https://welcometocrossroads.org/event/joyfully-his-lg-58/
END:VEVENT
BEGIN:VEVENT
DTSTART;TZID=America/Indiana/Indianapolis:20230219T123000
DTEND;TZID=America/Indiana/Indianapolis:20230219T143000
DTSTAMP:20260425T161352
CREATED:20220807T012453Z
LAST-MODIFIED:20220807T012453Z
UID:13695-1676809800-1676817000@welcometocrossroads.org
SUMMARY:Joyfully His LG
DESCRIPTION:
URL:https://welcometocrossroads.org/event/joyfully-his-lg-14/
END:VEVENT
BEGIN:VEVENT
DTSTART;TZID=America/Indiana/Indianapolis:20230219T110000
DTEND;TZID=America/Indiana/Indianapolis:20230219T120000
DTSTAMP:20260425T161352
CREATED:20221102T193019Z
LAST-MODIFIED:20221102T193019Z
UID:16402-1676804400-1676808000@welcometocrossroads.org
SUMMARY:Growth Track
DESCRIPTION:
URL:https://welcometocrossroads.org/event/growth-track-242/
LOCATION:Room 117
END:VEVENT
END:VCALENDAR