BEGIN:VCALENDAR
VERSION:2.0
PRODID:-//Crossroads Church - ECPv6.15.17.1//NONSGML v1.0//EN
CALSCALE:GREGORIAN
METHOD:PUBLISH
X-WR-CALNAME:Crossroads Church
X-ORIGINAL-URL:https://welcometocrossroads.org
X-WR-CALDESC:Events for Crossroads Church
REFRESH-INTERVAL;VALUE=DURATION:PT1H
X-Robots-Tag:noindex
X-PUBLISHED-TTL:PT1H
BEGIN:VTIMEZONE
TZID:America/Indiana/Indianapolis
BEGIN:DAYLIGHT
TZOFFSETFROM:-0500
TZOFFSETTO:-0400
TZNAME:EDT
DTSTART:20260308T070000
END:DAYLIGHT
BEGIN:STANDARD
TZOFFSETFROM:-0400
TZOFFSETTO:-0500
TZNAME:EST
DTSTART:20261101T060000
END:STANDARD
BEGIN:DAYLIGHT
TZOFFSETFROM:-0500
TZOFFSETTO:-0400
TZNAME:EDT
DTSTART:20270314T070000
END:DAYLIGHT
BEGIN:STANDARD
TZOFFSETFROM:-0400
TZOFFSETTO:-0500
TZNAME:EST
DTSTART:20271107T060000
END:STANDARD
BEGIN:DAYLIGHT
TZOFFSETFROM:-0500
TZOFFSETTO:-0400
TZNAME:EDT
DTSTART:20280312T070000
END:DAYLIGHT
BEGIN:STANDARD
TZOFFSETFROM:-0400
TZOFFSETTO:-0500
TZNAME:EST
DTSTART:20281105T060000
END:STANDARD
END:VTIMEZONE
BEGIN:VEVENT
DTSTART;TZID=America/Indiana/Indianapolis:20270705T070000
DTEND;TZID=America/Indiana/Indianapolis:20270705T084500
DTSTAMP:20260421T202031
CREATED:20250706T135634Z
LAST-MODIFIED:20260108T204426Z
UID:38314-1814770800-1814777100@welcometocrossroads.org
SUMMARY:Elder's Meeting
DESCRIPTION:
URL:https://welcometocrossroads.org/event/elders-meeting-172/
END:VEVENT
BEGIN:VEVENT
DTSTART;TZID=America/Indiana/Indianapolis:20270705T183000
DTEND;TZID=America/Indiana/Indianapolis:20270705T203000
DTSTAMP:20260421T202031
CREATED:20250706T135639Z
LAST-MODIFIED:20260108T204428Z
UID:38316-1814812200-1814819400@welcometocrossroads.org
SUMMARY:Divorce Care
DESCRIPTION:
URL:https://welcometocrossroads.org/event/divorce-care-362/
END:VEVENT
BEGIN:VEVENT
DTSTART;TZID=America/Indiana/Indianapolis:20270705T190000
DTEND;TZID=America/Indiana/Indianapolis:20270705T203000
DTSTAMP:20260421T202031
CREATED:20250706T135637Z
LAST-MODIFIED:20260108T204427Z
UID:38315-1814814000-1814819400@welcometocrossroads.org
SUMMARY:Hey Girl Life Group
DESCRIPTION:
URL:https://welcometocrossroads.org/event/hey-girl-life-group-374/
END:VEVENT
BEGIN:VEVENT
DTSTART;TZID=America/Indiana/Indianapolis:20270706T093000
DTEND;TZID=America/Indiana/Indianapolis:20270706T123000
DTSTAMP:20260421T202031
CREATED:20250706T135648Z
LAST-MODIFIED:20251117T115953Z
UID:38319-1814866200-1814877000@welcometocrossroads.org
SUMMARY:S-Meeting
DESCRIPTION:
URL:https://welcometocrossroads.org/event/s-meeting-957/
END:VEVENT
BEGIN:VEVENT
DTSTART;TZID=America/Indiana/Indianapolis:20270706T093000
DTEND;TZID=America/Indiana/Indianapolis:20270706T123000
DTSTAMP:20260421T202031
CREATED:20260108T204443Z
LAST-MODIFIED:20260108T204443Z
UID:41506-1814866200-1814877000@welcometocrossroads.org
SUMMARY:S-Meeting
DESCRIPTION:
URL:https://welcometocrossroads.org/event/s-meeting-1055/
END:VEVENT
BEGIN:VEVENT
DTSTART;TZID=America/Indiana/Indianapolis:20270706T100000
DTEND;TZID=America/Indiana/Indianapolis:20270706T110000
DTSTAMP:20260421T202031
CREATED:20250706T135645Z
LAST-MODIFIED:20260108T204442Z
UID:38318-1814868000-1814871600@welcometocrossroads.org
SUMMARY:Daycare Gymnastics
DESCRIPTION:
URL:https://welcometocrossroads.org/event/daycare-gymnastics-143/
END:VEVENT
BEGIN:VEVENT
DTSTART;TZID=America/Indiana/Indianapolis:20270706T100000
DTEND;TZID=America/Indiana/Indianapolis:20270706T123000
DTSTAMP:20260421T202031
CREATED:20250706T135642Z
LAST-MODIFIED:20260108T204445Z
UID:38317-1814868000-1814877000@welcometocrossroads.org
SUMMARY:LBS
DESCRIPTION:
URL:https://welcometocrossroads.org/event/lbs-54/
END:VEVENT
BEGIN:VEVENT
DTSTART;TZID=America/Indiana/Indianapolis:20270706T190000
DTEND;TZID=America/Indiana/Indianapolis:20270706T203000
DTSTAMP:20260421T202031
CREATED:20250706T135654Z
LAST-MODIFIED:20260108T204446Z
UID:38321-1814900400-1814905800@welcometocrossroads.org
SUMMARY:The Frontline
DESCRIPTION:
URL:https://welcometocrossroads.org/event/the-frontline-110/
END:VEVENT
BEGIN:VEVENT
DTSTART;TZID=America/Indiana/Indianapolis:20270706T190000
DTEND;TZID=America/Indiana/Indianapolis:20270706T210000
DTSTAMP:20260421T202031
CREATED:20250706T135651Z
LAST-MODIFIED:20251007T012341Z
UID:38320-1814900400-1814907600@welcometocrossroads.org
SUMMARY:Snack and Chat
DESCRIPTION:We are a women’s book club that meets the 1st and 3rd Tuesdays of the Month. We will choose a book and discuss it when we meet. Come enjoy a yummy snack and great conversation!
URL:https://welcometocrossroads.org/event/snack-and-chat-94/
LOCATION:Crossroads Church  – 7209 E County Rd 100 S\, Avon\, IN\, United States
END:VEVENT
BEGIN:VEVENT
DTSTART;TZID=America/Indiana/Indianapolis:20270707T100000
DTEND;TZID=America/Indiana/Indianapolis:20270707T110000
DTSTAMP:20260421T202031
CREATED:20250708T042306Z
LAST-MODIFIED:20251117T115956Z
UID:38340-1814954400-1814958000@welcometocrossroads.org
SUMMARY:Senior Luncheon: Setup
DESCRIPTION:
URL:https://welcometocrossroads.org/event/senior-luncheon-setup-111/
END:VEVENT
BEGIN:VEVENT
DTSTART;TZID=America/Indiana/Indianapolis:20270707T113000
DTEND;TZID=America/Indiana/Indianapolis:20270707T133000
DTSTAMP:20260421T202031
CREATED:20250708T042309Z
LAST-MODIFIED:20260108T204447Z
UID:38341-1814959800-1814967000@welcometocrossroads.org
SUMMARY:Senior Luncheon
DESCRIPTION:
URL:https://welcometocrossroads.org/event/senior-luncheon-132/
END:VEVENT
BEGIN:VEVENT
DTSTART;TZID=America/Indiana/Indianapolis:20270707T130000
DTEND;TZID=America/Indiana/Indianapolis:20270707T140000
DTSTAMP:20260421T202031
CREATED:20250708T042312Z
LAST-MODIFIED:20251117T115958Z
UID:38342-1814965200-1814968800@welcometocrossroads.org
SUMMARY:Senior Luncheon: Teardown
DESCRIPTION:
URL:https://welcometocrossroads.org/event/senior-luncheon-teardown-111/
END:VEVENT
BEGIN:VEVENT
DTSTART;TZID=America/Indiana/Indianapolis:20270707T140000
DTEND;TZID=America/Indiana/Indianapolis:20270707T160000
DTSTAMP:20260421T202031
CREATED:20250708T042313Z
LAST-MODIFIED:20251001T212929Z
UID:38343-1814968800-1814976000@welcometocrossroads.org
SUMMARY:The Way
DESCRIPTION:
URL:https://welcometocrossroads.org/event/the-way-51/
END:VEVENT
BEGIN:VEVENT
DTSTART;TZID=America/Indiana/Indianapolis:20270707T140000
DTEND;TZID=America/Indiana/Indianapolis:20270707T160000
DTSTAMP:20260421T202031
CREATED:20251003T000731Z
LAST-MODIFIED:20251117T120000Z
UID:40071-1814968800-1814976000@welcometocrossroads.org
SUMMARY:The Way
DESCRIPTION:
URL:https://welcometocrossroads.org/event/the-way-98/
END:VEVENT
BEGIN:VEVENT
DTSTART;TZID=America/Indiana/Indianapolis:20270707T140000
DTEND;TZID=America/Indiana/Indianapolis:20270707T160000
DTSTAMP:20260421T202031
CREATED:20260108T204448Z
LAST-MODIFIED:20260108T204448Z
UID:41507-1814968800-1814976000@welcometocrossroads.org
SUMMARY:The Way
DESCRIPTION:
URL:https://welcometocrossroads.org/event/the-way-186/
END:VEVENT
BEGIN:VEVENT
DTSTART;TZID=America/Indiana/Indianapolis:20270707T180000
DTEND;TZID=America/Indiana/Indianapolis:20270707T200000
DTSTAMP:20260421T202031
CREATED:20250708T042315Z
LAST-MODIFIED:20260108T204449Z
UID:38344-1814983200-1814990400@welcometocrossroads.org
SUMMARY:Women's Wellness LG
DESCRIPTION:Women’s LG\nVisit welcometocrossroads.org/groups for more information
URL:https://welcometocrossroads.org/event/womens-wellness-lg-262/
END:VEVENT
BEGIN:VEVENT
DTSTART;TZID=America/Indiana/Indianapolis:20270707T180000
DTEND;TZID=America/Indiana/Indianapolis:20270707T210000
DTSTAMP:20260421T202031
CREATED:20250708T042318Z
LAST-MODIFIED:20260108T204451Z
UID:38345-1814983200-1814994000@welcometocrossroads.org
SUMMARY:The Well - College & Career: The Well - College & Career Weekly Meetings
DESCRIPTION:
URL:https://welcometocrossroads.org/event/the-well-college-career-the-well-college-career-weekly-meetings-47/
END:VEVENT
BEGIN:VEVENT
DTSTART;TZID=America/Indiana/Indianapolis:20270707T190000
DTEND;TZID=America/Indiana/Indianapolis:20270707T203000
DTSTAMP:20260421T202031
CREATED:20260108T204452Z
LAST-MODIFIED:20260108T204452Z
UID:41508-1814986800-1814992200@welcometocrossroads.org
SUMMARY:Life Group
DESCRIPTION:
URL:https://welcometocrossroads.org/event/life-group-77/
END:VEVENT
BEGIN:VEVENT
DTSTART;TZID=America/Indiana/Indianapolis:20270708T133000
DTEND;TZID=America/Indiana/Indianapolis:20270708T143000
DTSTAMP:20260421T202031
CREATED:20260108T204453Z
LAST-MODIFIED:20260108T204453Z
UID:41509-1815053400-1815057000@welcometocrossroads.org
SUMMARY:Operations Meeting
DESCRIPTION:
URL:https://welcometocrossroads.org/event/operations-meeting-79/
END:VEVENT
BEGIN:VEVENT
DTSTART;TZID=America/Indiana/Indianapolis:20270708T140000
DTEND;TZID=America/Indiana/Indianapolis:20270708T150000
DTSTAMP:20260421T202031
CREATED:20250709T093008Z
LAST-MODIFIED:20251117T120005Z
UID:38367-1815055200-1815058800@welcometocrossroads.org
SUMMARY:Operations Weekly Meeting
DESCRIPTION:
URL:https://welcometocrossroads.org/event/operations-weekly-meeting-304/
LOCATION:Crossroads Church – 7209 E County Rd 100 S\, Avon\, IN\, United States
END:VEVENT
BEGIN:VEVENT
DTSTART;TZID=America/Indiana/Indianapolis:20270708T150000
DTEND;TZID=America/Indiana/Indianapolis:20270708T170000
DTSTAMP:20260421T202031
CREATED:20251101T050423Z
LAST-MODIFIED:20251117T120006Z
UID:40615-1815058800-1815066000@welcometocrossroads.org
SUMMARY:Worship Center reserved for filming
DESCRIPTION:
URL:https://welcometocrossroads.org/event/worship-center-reserved-for-filming-88/
END:VEVENT
BEGIN:VEVENT
DTSTART;TZID=America/Indiana/Indianapolis:20270708T183000
DTEND;TZID=America/Indiana/Indianapolis:20270708T200000
DTSTAMP:20260421T202031
CREATED:20250709T093027Z
LAST-MODIFIED:20260108T204505Z
UID:38369-1815071400-1815076800@welcometocrossroads.org
SUMMARY:Men's Bible Study
DESCRIPTION:
URL:https://welcometocrossroads.org/event/mens-bible-study-234/
END:VEVENT
BEGIN:VEVENT
DTSTART;TZID=America/Indiana/Indianapolis:20270708T183000
DTEND;TZID=America/Indiana/Indianapolis:20270708T203000
DTSTAMP:20260421T202031
CREATED:20250709T093032Z
LAST-MODIFIED:20260108T204507Z
UID:38370-1815071400-1815078600@welcometocrossroads.org
SUMMARY:Women in the Word
DESCRIPTION:
URL:https://welcometocrossroads.org/event/women-in-the-word-367/
END:VEVENT
BEGIN:VEVENT
DTSTART;TZID=America/Indiana/Indianapolis:20270708T190000
DTEND;TZID=America/Indiana/Indianapolis:20270708T203000
DTSTAMP:20260421T202031
CREATED:20250709T093011Z
LAST-MODIFIED:20260108T204508Z
UID:38368-1815073200-1815078600@welcometocrossroads.org
SUMMARY:Worship Practice
DESCRIPTION:Weekly Worship Team Practice to Prepare for the weekend
URL:https://welcometocrossroads.org/event/worship-practice-362/
END:VEVENT
BEGIN:VEVENT
DTSTART;TZID=America/Indiana/Indianapolis:20270709T080000
DTEND;TZID=America/Indiana/Indianapolis:20270709T170000
DTSTAMP:20260421T202031
CREATED:20250709T093036Z
LAST-MODIFIED:20260108T204509Z
UID:38371-1815120000-1815152400@welcometocrossroads.org
SUMMARY:Care to Change Counseling Sessions
DESCRIPTION:
URL:https://welcometocrossroads.org/event/care-to-change-counseling-sessions-468/
END:VEVENT
BEGIN:VEVENT
DTSTART;TZID=America/Indiana/Indianapolis:20270709T183000
DTEND;TZID=America/Indiana/Indianapolis:20270709T203000
DTSTAMP:20260421T202031
CREATED:20250709T093039Z
LAST-MODIFIED:20260108T204510Z
UID:38372-1815157800-1815165000@welcometocrossroads.org
SUMMARY:Price LG
DESCRIPTION:
URL:https://welcometocrossroads.org/event/price-lg-254/
END:VEVENT
BEGIN:VEVENT
DTSTART;TZID=America/Indiana/Indianapolis:20270709T190000
DTEND;TZID=America/Indiana/Indianapolis:20270709T203000
DTSTAMP:20260421T202031
CREATED:20250709T093042Z
LAST-MODIFIED:20260108T204511Z
UID:38373-1815159600-1815165000@welcometocrossroads.org
SUMMARY:Connecting Life Group
DESCRIPTION:Robin & Jeff Bernfield
URL:https://welcometocrossroads.org/event/connecting-life-group-126/
END:VEVENT
BEGIN:VEVENT
DTSTART;TZID=America/Indiana/Indianapolis:20270710T090000
DTEND;TZID=America/Indiana/Indianapolis:20270710T110000
DTSTAMP:20260421T202031
CREATED:20250710T235322Z
LAST-MODIFIED:20260108T204513Z
UID:38388-1815210000-1815217200@welcometocrossroads.org
SUMMARY:CSM Leader Meeting
DESCRIPTION:
URL:https://welcometocrossroads.org/event/csm-leader-meeting-79/
END:VEVENT
BEGIN:VEVENT
DTSTART;TZID=America/Indiana/Indianapolis:20270711T080000
DTEND;TZID=America/Indiana/Indianapolis:20270711T084500
DTSTAMP:20260421T202031
CREATED:20250712T133519Z
LAST-MODIFIED:20260108T204514Z
UID:38394-1815292800-1815295500@welcometocrossroads.org
SUMMARY:Therefore Life Group
DESCRIPTION:
URL:https://welcometocrossroads.org/event/therefore-life-group-146/
END:VEVENT
BEGIN:VEVENT
DTSTART;TZID=America/Indiana/Indianapolis:20270711T110000
DTEND;TZID=America/Indiana/Indianapolis:20270711T113000
DTSTAMP:20260421T202031
CREATED:20250712T133521Z
LAST-MODIFIED:20260108T204515Z
UID:38395-1815303600-1815305400@welcometocrossroads.org
SUMMARY:Growth Track
DESCRIPTION:
URL:https://welcometocrossroads.org/event/growth-track-436/
LOCATION:Room 117
END:VEVENT
END:VCALENDAR