BEGIN:VCALENDAR
VERSION:2.0
PRODID:-//Crossroads Church - ECPv6.15.17.1//NONSGML v1.0//EN
CALSCALE:GREGORIAN
METHOD:PUBLISH
X-ORIGINAL-URL:https://welcometocrossroads.org
X-WR-CALDESC:Events for Crossroads Church
REFRESH-INTERVAL;VALUE=DURATION:PT1H
X-Robots-Tag:noindex
X-PUBLISHED-TTL:PT1H
BEGIN:VTIMEZONE
TZID:America/Indiana/Indianapolis
BEGIN:DAYLIGHT
TZOFFSETFROM:-0500
TZOFFSETTO:-0400
TZNAME:EDT
DTSTART:20260308T070000
END:DAYLIGHT
BEGIN:STANDARD
TZOFFSETFROM:-0400
TZOFFSETTO:-0500
TZNAME:EST
DTSTART:20261101T060000
END:STANDARD
BEGIN:DAYLIGHT
TZOFFSETFROM:-0500
TZOFFSETTO:-0400
TZNAME:EDT
DTSTART:20270314T070000
END:DAYLIGHT
BEGIN:STANDARD
TZOFFSETFROM:-0400
TZOFFSETTO:-0500
TZNAME:EST
DTSTART:20271107T060000
END:STANDARD
BEGIN:DAYLIGHT
TZOFFSETFROM:-0500
TZOFFSETTO:-0400
TZNAME:EDT
DTSTART:20280312T070000
END:DAYLIGHT
BEGIN:STANDARD
TZOFFSETFROM:-0400
TZOFFSETTO:-0500
TZNAME:EST
DTSTART:20281105T060000
END:STANDARD
END:VTIMEZONE
BEGIN:VEVENT
DTSTART;TZID=America/Indiana/Indianapolis:20270816T183000
DTEND;TZID=America/Indiana/Indianapolis:20270816T203000
DTSTAMP:20260421T212950
CREATED:20250817T131417Z
LAST-MODIFIED:20260108T205048Z
UID:39025-1818441000-1818448200@welcometocrossroads.org
SUMMARY:Divorce Care
DESCRIPTION:
URL:https://welcometocrossroads.org/event/divorce-care-368/
END:VEVENT
BEGIN:VEVENT
DTSTART;TZID=America/Indiana/Indianapolis:20270816T190000
DTEND;TZID=America/Indiana/Indianapolis:20270816T203000
DTSTAMP:20260421T212950
CREATED:20250817T131415Z
LAST-MODIFIED:20260108T205046Z
UID:39024-1818442800-1818448200@welcometocrossroads.org
SUMMARY:Hey Girl Life Group
DESCRIPTION:
URL:https://welcometocrossroads.org/event/hey-girl-life-group-380/
END:VEVENT
BEGIN:VEVENT
DTSTART;TZID=America/Indiana/Indianapolis:20270817T093000
DTEND;TZID=America/Indiana/Indianapolis:20270817T123000
DTSTAMP:20260421T212950
CREATED:20250817T131434Z
LAST-MODIFIED:20251117T122859Z
UID:39028-1818495000-1818505800@welcometocrossroads.org
SUMMARY:S-Meeting
DESCRIPTION:
URL:https://welcometocrossroads.org/event/s-meeting-963/
END:VEVENT
BEGIN:VEVENT
DTSTART;TZID=America/Indiana/Indianapolis:20270817T093000
DTEND;TZID=America/Indiana/Indianapolis:20270817T123000
DTSTAMP:20260421T212950
CREATED:20260108T205049Z
LAST-MODIFIED:20260108T205049Z
UID:41532-1818495000-1818505800@welcometocrossroads.org
SUMMARY:S-Meeting
DESCRIPTION:
URL:https://welcometocrossroads.org/event/s-meeting-1061/
END:VEVENT
BEGIN:VEVENT
DTSTART;TZID=America/Indiana/Indianapolis:20270817T100000
DTEND;TZID=America/Indiana/Indianapolis:20270817T110000
DTSTAMP:20260421T212950
CREATED:20250817T131420Z
LAST-MODIFIED:20260108T205050Z
UID:39027-1818496800-1818500400@welcometocrossroads.org
SUMMARY:Daycare Gymnastics
DESCRIPTION:
URL:https://welcometocrossroads.org/event/daycare-gymnastics-149/
END:VEVENT
BEGIN:VEVENT
DTSTART;TZID=America/Indiana/Indianapolis:20270817T100000
DTEND;TZID=America/Indiana/Indianapolis:20270817T123000
DTSTAMP:20260421T212950
CREATED:20250817T131419Z
LAST-MODIFIED:20260108T205051Z
UID:39026-1818496800-1818505800@welcometocrossroads.org
SUMMARY:LBS
DESCRIPTION:
URL:https://welcometocrossroads.org/event/lbs-60/
END:VEVENT
BEGIN:VEVENT
DTSTART;TZID=America/Indiana/Indianapolis:20270817T190000
DTEND;TZID=America/Indiana/Indianapolis:20270817T203000
DTSTAMP:20260421T212950
CREATED:20250817T131437Z
LAST-MODIFIED:20260108T205052Z
UID:39030-1818529200-1818534600@welcometocrossroads.org
SUMMARY:The Frontline
DESCRIPTION:
URL:https://welcometocrossroads.org/event/the-frontline-116/
END:VEVENT
BEGIN:VEVENT
DTSTART;TZID=America/Indiana/Indianapolis:20270817T190000
DTEND;TZID=America/Indiana/Indianapolis:20270817T210000
DTSTAMP:20260421T212950
CREATED:20250817T131435Z
LAST-MODIFIED:20251117T122901Z
UID:39029-1818529200-1818536400@welcometocrossroads.org
SUMMARY:Snack and Chat
DESCRIPTION:We are a women’s book club that meets the 1st and 3rd Tuesdays of the Month. We will choose a book and discuss it when we meet. Come enjoy a yummy snack and great conversation!
URL:https://welcometocrossroads.org/event/snack-and-chat-97/
LOCATION:Crossroads Church  – 7209 E County Rd 100 S\, Avon\, IN\, United States
END:VEVENT
BEGIN:VEVENT
DTSTART;TZID=America/Indiana/Indianapolis:20270818T140000
DTEND;TZID=America/Indiana/Indianapolis:20270818T160000
DTSTAMP:20260421T212950
CREATED:20250818T231201Z
LAST-MODIFIED:20251001T215652Z
UID:39066-1818597600-1818604800@welcometocrossroads.org
SUMMARY:The Way
DESCRIPTION:
URL:https://welcometocrossroads.org/event/the-way-54/
END:VEVENT
BEGIN:VEVENT
DTSTART;TZID=America/Indiana/Indianapolis:20270818T140000
DTEND;TZID=America/Indiana/Indianapolis:20270818T160000
DTSTAMP:20260421T212950
CREATED:20251003T061130Z
LAST-MODIFIED:20251117T122904Z
UID:40144-1818597600-1818604800@welcometocrossroads.org
SUMMARY:The Way
DESCRIPTION:
URL:https://welcometocrossroads.org/event/the-way-101/
END:VEVENT
BEGIN:VEVENT
DTSTART;TZID=America/Indiana/Indianapolis:20270818T140000
DTEND;TZID=America/Indiana/Indianapolis:20270818T160000
DTSTAMP:20260421T212950
CREATED:20260108T205054Z
LAST-MODIFIED:20260108T205054Z
UID:41533-1818597600-1818604800@welcometocrossroads.org
SUMMARY:The Way
DESCRIPTION:
URL:https://welcometocrossroads.org/event/the-way-192/
END:VEVENT
BEGIN:VEVENT
DTSTART;TZID=America/Indiana/Indianapolis:20270818T180000
DTEND;TZID=America/Indiana/Indianapolis:20270818T200000
DTSTAMP:20260421T212950
CREATED:20250818T231202Z
LAST-MODIFIED:20260108T205056Z
UID:39067-1818612000-1818619200@welcometocrossroads.org
SUMMARY:Women's Wellness LG
DESCRIPTION:Women’s LG\nVisit welcometocrossroads.org/groups for more information
URL:https://welcometocrossroads.org/event/womens-wellness-lg-265/
END:VEVENT
BEGIN:VEVENT
DTSTART;TZID=America/Indiana/Indianapolis:20270818T190000
DTEND;TZID=America/Indiana/Indianapolis:20270818T203000
DTSTAMP:20260421T212950
CREATED:20260108T205055Z
LAST-MODIFIED:20260108T205055Z
UID:41534-1818615600-1818621000@welcometocrossroads.org
SUMMARY:Life Group
DESCRIPTION:
URL:https://welcometocrossroads.org/event/life-group-83/
END:VEVENT
BEGIN:VEVENT
DTSTART;TZID=America/Indiana/Indianapolis:20270819T130000
DTEND;TZID=America/Indiana/Indianapolis:20270819T143000
DTSTAMP:20260421T212950
CREATED:20250820T083000Z
LAST-MODIFIED:20260108T205110Z
UID:39161-1818680400-1818685800@welcometocrossroads.org
SUMMARY:Hymns for Him
DESCRIPTION:
URL:https://welcometocrossroads.org/event/hymns-for-him-14/
END:VEVENT
BEGIN:VEVENT
DTSTART;TZID=America/Indiana/Indianapolis:20270819T133000
DTEND;TZID=America/Indiana/Indianapolis:20270819T143000
DTSTAMP:20260421T212950
CREATED:20260108T205057Z
LAST-MODIFIED:20260108T205057Z
UID:41535-1818682200-1818685800@welcometocrossroads.org
SUMMARY:Operations Meeting
DESCRIPTION:
URL:https://welcometocrossroads.org/event/operations-meeting-85/
END:VEVENT
BEGIN:VEVENT
DTSTART;TZID=America/Indiana/Indianapolis:20270819T140000
DTEND;TZID=America/Indiana/Indianapolis:20270819T150000
DTSTAMP:20260421T212950
CREATED:20250820T082958Z
LAST-MODIFIED:20251117T122908Z
UID:39160-1818684000-1818687600@welcometocrossroads.org
SUMMARY:Operations Weekly Meeting
DESCRIPTION:
URL:https://welcometocrossroads.org/event/operations-weekly-meeting-310/
LOCATION:Crossroads Church – 7209 E County Rd 100 S\, Avon\, IN\, United States
END:VEVENT
BEGIN:VEVENT
DTSTART;TZID=America/Indiana/Indianapolis:20270819T150000
DTEND;TZID=America/Indiana/Indianapolis:20270819T170000
DTSTAMP:20260421T212950
CREATED:20251101T051026Z
LAST-MODIFIED:20251117T122909Z
UID:40622-1818687600-1818694800@welcometocrossroads.org
SUMMARY:Worship Center reserved for filming
DESCRIPTION:
URL:https://welcometocrossroads.org/event/worship-center-reserved-for-filming-94/
END:VEVENT
BEGIN:VEVENT
DTSTART;TZID=America/Indiana/Indianapolis:20270819T183000
DTEND;TZID=America/Indiana/Indianapolis:20270819T200000
DTSTAMP:20260421T212950
CREATED:20250820T083004Z
LAST-MODIFIED:20260108T205113Z
UID:39163-1818700200-1818705600@welcometocrossroads.org
SUMMARY:Men's Bible Study
DESCRIPTION:
URL:https://welcometocrossroads.org/event/mens-bible-study-240/
END:VEVENT
BEGIN:VEVENT
DTSTART;TZID=America/Indiana/Indianapolis:20270819T183000
DTEND;TZID=America/Indiana/Indianapolis:20270819T203000
DTSTAMP:20260421T212950
CREATED:20250820T083006Z
LAST-MODIFIED:20260108T205114Z
UID:39164-1818700200-1818707400@welcometocrossroads.org
SUMMARY:Women in the Word
DESCRIPTION:
URL:https://welcometocrossroads.org/event/women-in-the-word-373/
END:VEVENT
BEGIN:VEVENT
DTSTART;TZID=America/Indiana/Indianapolis:20270819T190000
DTEND;TZID=America/Indiana/Indianapolis:20270819T203000
DTSTAMP:20260421T212950
CREATED:20250820T083002Z
LAST-MODIFIED:20260108T205112Z
UID:39162-1818702000-1818707400@welcometocrossroads.org
SUMMARY:Worship Practice
DESCRIPTION:Weekly Worship Team Practice to Prepare for the weekend
URL:https://welcometocrossroads.org/event/worship-practice-368/
END:VEVENT
BEGIN:VEVENT
DTSTART;TZID=America/Indiana/Indianapolis:20270820T080000
DTEND;TZID=America/Indiana/Indianapolis:20270820T170000
DTSTAMP:20260421T212950
CREATED:20250820T083007Z
LAST-MODIFIED:20260108T205115Z
UID:39165-1818748800-1818781200@welcometocrossroads.org
SUMMARY:Care to Change Counseling Sessions
DESCRIPTION:
URL:https://welcometocrossroads.org/event/care-to-change-counseling-sessions-474/
END:VEVENT
BEGIN:VEVENT
DTSTART;TZID=America/Indiana/Indianapolis:20270821T100000
DTEND;TZID=America/Indiana/Indianapolis:20270821T113000
DTSTAMP:20260421T212950
CREATED:20250821T185923Z
LAST-MODIFIED:20260108T205116Z
UID:39185-1818842400-1818847800@welcometocrossroads.org
SUMMARY:Saturdays with Jill
DESCRIPTION:
URL:https://welcometocrossroads.org/event/saturdays-with-jill-72/
END:VEVENT
BEGIN:VEVENT
DTSTART;TZID=America/Indiana/Indianapolis:20270822T080000
DTEND;TZID=America/Indiana/Indianapolis:20270822T084500
DTSTAMP:20260421T212950
CREATED:20250823T050946Z
LAST-MODIFIED:20260108T205118Z
UID:39323-1818921600-1818924300@welcometocrossroads.org
SUMMARY:Therefore Life Group
DESCRIPTION:
URL:https://welcometocrossroads.org/event/therefore-life-group-152/
END:VEVENT
BEGIN:VEVENT
DTSTART;TZID=America/Indiana/Indianapolis:20270822T110000
DTEND;TZID=America/Indiana/Indianapolis:20270822T113000
DTSTAMP:20260421T212950
CREATED:20250823T050948Z
LAST-MODIFIED:20260108T205119Z
UID:39324-1818932400-1818934200@welcometocrossroads.org
SUMMARY:Growth Track
DESCRIPTION:
URL:https://welcometocrossroads.org/event/growth-track-442/
LOCATION:Room 117
END:VEVENT
BEGIN:VEVENT
DTSTART;TZID=America/Indiana/Indianapolis:20270822T133000
DTEND;TZID=America/Indiana/Indianapolis:20270822T160000
DTSTAMP:20260421T212950
CREATED:20250823T050950Z
LAST-MODIFIED:20260108T205120Z
UID:39325-1818941400-1818950400@welcometocrossroads.org
SUMMARY:Christ's Ambassadors
DESCRIPTION:
URL:https://welcometocrossroads.org/event/christs-ambassadors-173/
END:VEVENT
BEGIN:VEVENT
DTSTART;TZID=America/Indiana/Indianapolis:20270822T170000
DTEND;TZID=America/Indiana/Indianapolis:20270822T183000
DTSTAMP:20260421T212950
CREATED:20250823T051010Z
LAST-MODIFIED:20260108T205121Z
UID:39329-1818954000-1818959400@welcometocrossroads.org
SUMMARY:Girl’s Ministry
DESCRIPTION:
URL:https://welcometocrossroads.org/event/girls-ministry-155/
END:VEVENT
BEGIN:VEVENT
DTSTART;TZID=America/Indiana/Indianapolis:20270822T173000
DTEND;TZID=America/Indiana/Indianapolis:20270822T180000
DTSTAMP:20260421T212950
CREATED:20250823T051012Z
LAST-MODIFIED:20260108T205135Z
UID:39330-1818955800-1818957600@welcometocrossroads.org
SUMMARY:CSM - Leader Huddle
DESCRIPTION:
URL:https://welcometocrossroads.org/event/csm-leader-huddle-452/
LOCATION:102
END:VEVENT
BEGIN:VEVENT
DTSTART;TZID=America/Indiana/Indianapolis:20270822T180000
DTEND;TZID=America/Indiana/Indianapolis:20270822T200000
DTSTAMP:20260421T212950
CREATED:20250823T050953Z
LAST-MODIFIED:20260108T205139Z
UID:39326-1818957600-1818964800@welcometocrossroads.org
SUMMARY:CSM - Family Group Night: CSM- Family Group Night
DESCRIPTION:
URL:https://welcometocrossroads.org/event/csm-family-group-night-csm-family-group-night-103/
LOCATION:All Rooms
END:VEVENT
BEGIN:VEVENT
DTSTART;TZID=America/Indiana/Indianapolis:20270822T180000
DTEND;TZID=America/Indiana/Indianapolis:20270822T203000
DTSTAMP:20260421T212950
CREATED:20250823T051008Z
LAST-MODIFIED:20260108T205137Z
UID:39328-1818957600-1818966600@welcometocrossroads.org
SUMMARY:CSM - Crossroads Students Ministries
DESCRIPTION:
URL:https://welcometocrossroads.org/event/csm-crossroads-students-ministries-210/
LOCATION:CSM – 7209 E County Rd 100 S\, Avon\, IN\, United States
END:VEVENT
BEGIN:VEVENT
DTSTART;TZID=America/Indiana/Indianapolis:20270822T183000
DTEND;TZID=America/Indiana/Indianapolis:20270822T200000
DTSTAMP:20260421T212950
CREATED:20250823T050954Z
LAST-MODIFIED:20260108T205136Z
UID:39327-1818959400-1818964800@welcometocrossroads.org
SUMMARY:Connecting Life Group
DESCRIPTION:
URL:https://welcometocrossroads.org/event/connecting-life-group-132/
END:VEVENT
END:VCALENDAR