BEGIN:VCALENDAR
VERSION:2.0
PRODID:-//Crossroads Church - ECPv6.15.17.1//NONSGML v1.0//EN
CALSCALE:GREGORIAN
METHOD:PUBLISH
X-WR-CALNAME:Crossroads Church
X-ORIGINAL-URL:https://welcometocrossroads.org
X-WR-CALDESC:Events for Crossroads Church
REFRESH-INTERVAL;VALUE=DURATION:PT1H
X-Robots-Tag:noindex
X-PUBLISHED-TTL:PT1H
BEGIN:VTIMEZONE
TZID:America/Indiana/Indianapolis
BEGIN:DAYLIGHT
TZOFFSETFROM:-0500
TZOFFSETTO:-0400
TZNAME:EDT
DTSTART:20260308T070000
END:DAYLIGHT
BEGIN:STANDARD
TZOFFSETFROM:-0400
TZOFFSETTO:-0500
TZNAME:EST
DTSTART:20261101T060000
END:STANDARD
BEGIN:DAYLIGHT
TZOFFSETFROM:-0500
TZOFFSETTO:-0400
TZNAME:EDT
DTSTART:20270314T070000
END:DAYLIGHT
BEGIN:STANDARD
TZOFFSETFROM:-0400
TZOFFSETTO:-0500
TZNAME:EST
DTSTART:20271107T060000
END:STANDARD
BEGIN:DAYLIGHT
TZOFFSETFROM:-0500
TZOFFSETTO:-0400
TZNAME:EDT
DTSTART:20280312T070000
END:DAYLIGHT
BEGIN:STANDARD
TZOFFSETFROM:-0400
TZOFFSETTO:-0500
TZNAME:EST
DTSTART:20281105T060000
END:STANDARD
END:VTIMEZONE
BEGIN:VEVENT
DTSTART;TZID=America/Indiana/Indianapolis:20271017T170000
DTEND;TZID=America/Indiana/Indianapolis:20271017T183000
DTSTAMP:20260425T101502
CREATED:20251017T113511Z
LAST-MODIFIED:20260108T205943Z
UID:40383-1823792400-1823797800@welcometocrossroads.org
SUMMARY:Girl’s Ministry
DESCRIPTION:
URL:https://welcometocrossroads.org/event/girls-ministry-163/
END:VEVENT
BEGIN:VEVENT
DTSTART;TZID=America/Indiana/Indianapolis:20271017T173000
DTEND;TZID=America/Indiana/Indianapolis:20271017T180000
DTSTAMP:20260425T101502
CREATED:20251017T113515Z
LAST-MODIFIED:20260108T205942Z
UID:40385-1823794200-1823796000@welcometocrossroads.org
SUMMARY:CSM - Leader Huddle
DESCRIPTION:
URL:https://welcometocrossroads.org/event/csm-leader-huddle-460/
LOCATION:102
END:VEVENT
BEGIN:VEVENT
DTSTART;TZID=America/Indiana/Indianapolis:20271017T180000
DTEND;TZID=America/Indiana/Indianapolis:20271017T203000
DTSTAMP:20260425T101502
CREATED:20251017T113513Z
LAST-MODIFIED:20260108T205929Z
UID:40384-1823796000-1823805000@welcometocrossroads.org
SUMMARY:CSM - Crossroads Students Ministries
DESCRIPTION:
URL:https://welcometocrossroads.org/event/csm-crossroads-students-ministries-218/
LOCATION:CSM – 7209 E County Rd 100 S\, Avon\, IN\, United States
END:VEVENT
BEGIN:VEVENT
DTSTART;TZID=America/Indiana/Indianapolis:20271018T183000
DTEND;TZID=America/Indiana/Indianapolis:20271018T203000
DTSTAMP:20260425T101502
CREATED:20251018T200145Z
LAST-MODIFIED:20260108T205945Z
UID:40416-1823884200-1823891400@welcometocrossroads.org
SUMMARY:Divorce Care
DESCRIPTION:
URL:https://welcometocrossroads.org/event/divorce-care-377/
END:VEVENT
BEGIN:VEVENT
DTSTART;TZID=America/Indiana/Indianapolis:20271018T190000
DTEND;TZID=America/Indiana/Indianapolis:20271018T203000
DTSTAMP:20260425T101502
CREATED:20251018T200143Z
LAST-MODIFIED:20260108T205944Z
UID:40415-1823886000-1823891400@welcometocrossroads.org
SUMMARY:Hey Girl Life Group
DESCRIPTION:
URL:https://welcometocrossroads.org/event/hey-girl-life-group-389/
END:VEVENT
BEGIN:VEVENT
DTSTART;TZID=America/Indiana/Indianapolis:20271019T093000
DTEND;TZID=America/Indiana/Indianapolis:20271019T123000
DTSTAMP:20260425T101502
CREATED:20251020T041712Z
LAST-MODIFIED:20251117T131150Z
UID:40424-1823938200-1823949000@welcometocrossroads.org
SUMMARY:S-Meeting
DESCRIPTION:
URL:https://welcometocrossroads.org/event/s-meeting-972/
END:VEVENT
BEGIN:VEVENT
DTSTART;TZID=America/Indiana/Indianapolis:20271019T093000
DTEND;TZID=America/Indiana/Indianapolis:20271019T123000
DTSTAMP:20260425T101502
CREATED:20260108T205949Z
LAST-MODIFIED:20260108T205949Z
UID:41570-1823938200-1823949000@welcometocrossroads.org
SUMMARY:S-Meeting
DESCRIPTION:
URL:https://welcometocrossroads.org/event/s-meeting-1070/
END:VEVENT
BEGIN:VEVENT
DTSTART;TZID=America/Indiana/Indianapolis:20271019T100000
DTEND;TZID=America/Indiana/Indianapolis:20271019T110000
DTSTAMP:20260425T101502
CREATED:20251020T041713Z
LAST-MODIFIED:20260108T205946Z
UID:40425-1823940000-1823943600@welcometocrossroads.org
SUMMARY:Daycare Gymnastics
DESCRIPTION:
URL:https://welcometocrossroads.org/event/daycare-gymnastics-158/
END:VEVENT
BEGIN:VEVENT
DTSTART;TZID=America/Indiana/Indianapolis:20271019T100000
DTEND;TZID=America/Indiana/Indianapolis:20271019T123000
DTSTAMP:20260425T101502
CREATED:20251020T041710Z
LAST-MODIFIED:20260108T205948Z
UID:40423-1823940000-1823949000@welcometocrossroads.org
SUMMARY:LBS
DESCRIPTION:
URL:https://welcometocrossroads.org/event/lbs-69/
END:VEVENT
BEGIN:VEVENT
DTSTART;TZID=America/Indiana/Indianapolis:20271019T190000
DTEND;TZID=America/Indiana/Indianapolis:20271019T203000
DTSTAMP:20260425T101502
CREATED:20251020T041717Z
LAST-MODIFIED:20260108T205950Z
UID:40427-1823972400-1823977800@welcometocrossroads.org
SUMMARY:The Frontline
DESCRIPTION:
URL:https://welcometocrossroads.org/event/the-frontline-125/
END:VEVENT
BEGIN:VEVENT
DTSTART;TZID=America/Indiana/Indianapolis:20271019T190000
DTEND;TZID=America/Indiana/Indianapolis:20271019T210000
DTSTAMP:20260425T101502
CREATED:20251020T041715Z
LAST-MODIFIED:20251117T131151Z
UID:40426-1823972400-1823979600@welcometocrossroads.org
SUMMARY:Snack and Chat
DESCRIPTION:We are a women’s book club that meets the 1st and 3rd Tuesdays of the Month. We will choose a book and discuss it when we meet. Come enjoy a yummy snack and great conversation!
URL:https://welcometocrossroads.org/event/snack-and-chat-101/
LOCATION:Crossroads Church  – 7209 E County Rd 100 S\, Avon\, IN\, United States
END:VEVENT
BEGIN:VEVENT
DTSTART;TZID=America/Indiana/Indianapolis:20271020T140000
DTEND;TZID=America/Indiana/Indianapolis:20271020T160000
DTSTAMP:20260425T101502
CREATED:20251021T114931Z
LAST-MODIFIED:20251117T131154Z
UID:40434-1824040800-1824048000@welcometocrossroads.org
SUMMARY:The Way
DESCRIPTION:
URL:https://welcometocrossroads.org/event/the-way-105/
END:VEVENT
BEGIN:VEVENT
DTSTART;TZID=America/Indiana/Indianapolis:20271020T140000
DTEND;TZID=America/Indiana/Indianapolis:20271020T160000
DTSTAMP:20260425T101502
CREATED:20260108T205952Z
LAST-MODIFIED:20260108T205952Z
UID:41571-1824040800-1824048000@welcometocrossroads.org
SUMMARY:The Way
DESCRIPTION:
URL:https://welcometocrossroads.org/event/the-way-201/
END:VEVENT
BEGIN:VEVENT
DTSTART;TZID=America/Indiana/Indianapolis:20271020T180000
DTEND;TZID=America/Indiana/Indianapolis:20271020T200000
DTSTAMP:20260425T101502
CREATED:20251021T114933Z
LAST-MODIFIED:20260108T205953Z
UID:40435-1824055200-1824062400@welcometocrossroads.org
SUMMARY:Women's Wellness LG
DESCRIPTION:Women’s LG\nVisit welcometocrossroads.org/groups for more information
URL:https://welcometocrossroads.org/event/womens-wellness-lg-269/
END:VEVENT
BEGIN:VEVENT
DTSTART;TZID=America/Indiana/Indianapolis:20271020T190000
DTEND;TZID=America/Indiana/Indianapolis:20271020T203000
DTSTAMP:20260425T101502
CREATED:20260108T210006Z
LAST-MODIFIED:20260108T210006Z
UID:41572-1824058800-1824064200@welcometocrossroads.org
SUMMARY:Life Group
DESCRIPTION:
URL:https://welcometocrossroads.org/event/life-group-92/
END:VEVENT
BEGIN:VEVENT
DTSTART;TZID=America/Indiana/Indianapolis:20271021T130000
DTEND;TZID=America/Indiana/Indianapolis:20271021T143000
DTSTAMP:20260425T101502
CREATED:20251021T114934Z
LAST-MODIFIED:20260108T210009Z
UID:40436-1824123600-1824129000@welcometocrossroads.org
SUMMARY:Hymns for Him
DESCRIPTION:
URL:https://welcometocrossroads.org/event/hymns-for-him-15/
END:VEVENT
BEGIN:VEVENT
DTSTART;TZID=America/Indiana/Indianapolis:20271021T133000
DTEND;TZID=America/Indiana/Indianapolis:20271021T143000
DTSTAMP:20260425T101502
CREATED:20260108T210007Z
LAST-MODIFIED:20260108T210007Z
UID:41573-1824125400-1824129000@welcometocrossroads.org
SUMMARY:Operations Meeting
DESCRIPTION:
URL:https://welcometocrossroads.org/event/operations-meeting-94/
END:VEVENT
BEGIN:VEVENT
DTSTART;TZID=America/Indiana/Indianapolis:20271021T140000
DTEND;TZID=America/Indiana/Indianapolis:20271021T150000
DTSTAMP:20260425T101502
CREATED:20251021T114936Z
LAST-MODIFIED:20251117T131157Z
UID:40437-1824127200-1824130800@welcometocrossroads.org
SUMMARY:Operations Weekly Meeting
DESCRIPTION:
URL:https://welcometocrossroads.org/event/operations-weekly-meeting-319/
LOCATION:Crossroads Church – 7209 E County Rd 100 S\, Avon\, IN\, United States
END:VEVENT
BEGIN:VEVENT
DTSTART;TZID=America/Indiana/Indianapolis:20271021T150000
DTEND;TZID=America/Indiana/Indianapolis:20271021T170000
DTSTAMP:20260425T101502
CREATED:20251101T051932Z
LAST-MODIFIED:20251117T131426Z
UID:40633-1824130800-1824138000@welcometocrossroads.org
SUMMARY:Worship Center reserved for filming
DESCRIPTION:
URL:https://welcometocrossroads.org/event/worship-center-reserved-for-filming-103/
END:VEVENT
BEGIN:VEVENT
DTSTART;TZID=America/Indiana/Indianapolis:20271021T183000
DTEND;TZID=America/Indiana/Indianapolis:20271021T200000
DTSTAMP:20260425T101502
CREATED:20251021T114940Z
LAST-MODIFIED:20260108T210011Z
UID:40439-1824143400-1824148800@welcometocrossroads.org
SUMMARY:Men's Bible Study
DESCRIPTION:
URL:https://welcometocrossroads.org/event/mens-bible-study-249/
END:VEVENT
BEGIN:VEVENT
DTSTART;TZID=America/Indiana/Indianapolis:20271021T183000
DTEND;TZID=America/Indiana/Indianapolis:20271021T203000
DTSTAMP:20260425T101502
CREATED:20251021T114952Z
LAST-MODIFIED:20260108T210010Z
UID:40440-1824143400-1824150600@welcometocrossroads.org
SUMMARY:Women in the Word
DESCRIPTION:
URL:https://welcometocrossroads.org/event/women-in-the-word-382/
END:VEVENT
BEGIN:VEVENT
DTSTART;TZID=America/Indiana/Indianapolis:20271021T190000
DTEND;TZID=America/Indiana/Indianapolis:20271021T203000
DTSTAMP:20260425T101502
CREATED:20251021T114938Z
LAST-MODIFIED:20260108T210012Z
UID:40438-1824145200-1824150600@welcometocrossroads.org
SUMMARY:Worship Practice
DESCRIPTION:Weekly Worship Team Practice to Prepare for the weekend
URL:https://welcometocrossroads.org/event/worship-practice-377/
END:VEVENT
BEGIN:VEVENT
DTSTART;TZID=America/Indiana/Indianapolis:20271022T080000
DTEND;TZID=America/Indiana/Indianapolis:20271022T170000
DTSTAMP:20260425T101502
CREATED:20251022T201738Z
LAST-MODIFIED:20260108T210013Z
UID:40453-1824192000-1824224400@welcometocrossroads.org
SUMMARY:Care to Change Counseling Sessions
DESCRIPTION:
URL:https://welcometocrossroads.org/event/care-to-change-counseling-sessions-483/
END:VEVENT
BEGIN:VEVENT
DTSTART;TZID=America/Indiana/Indianapolis:20271022T183000
DTEND;TZID=America/Indiana/Indianapolis:20271022T203000
DTSTAMP:20260425T101502
CREATED:20251022T201742Z
LAST-MODIFIED:20260108T210015Z
UID:40455-1824229800-1824237000@welcometocrossroads.org
SUMMARY:Price LG
DESCRIPTION:
URL:https://welcometocrossroads.org/event/price-lg-261/
END:VEVENT
BEGIN:VEVENT
DTSTART;TZID=America/Indiana/Indianapolis:20271022T190000
DTEND;TZID=America/Indiana/Indianapolis:20271022T203000
DTSTAMP:20260425T101502
CREATED:20251022T201740Z
LAST-MODIFIED:20260108T210014Z
UID:40454-1824231600-1824237000@welcometocrossroads.org
SUMMARY:Connecting Life Group
DESCRIPTION:Robin & Jeff Bernfield
URL:https://welcometocrossroads.org/event/connecting-life-group-140/
END:VEVENT
BEGIN:VEVENT
DTSTART;TZID=America/Indiana/Indianapolis:20271024T080000
DTEND;TZID=America/Indiana/Indianapolis:20271024T084500
DTSTAMP:20260425T101502
CREATED:20251025T130049Z
LAST-MODIFIED:20260108T210017Z
UID:40461-1824364800-1824367500@welcometocrossroads.org
SUMMARY:Therefore Life Group
DESCRIPTION:
URL:https://welcometocrossroads.org/event/therefore-life-group-161/
END:VEVENT
BEGIN:VEVENT
DTSTART;TZID=America/Indiana/Indianapolis:20271024T110000
DTEND;TZID=America/Indiana/Indianapolis:20271024T113000
DTSTAMP:20260425T101502
CREATED:20251025T130051Z
LAST-MODIFIED:20260108T210030Z
UID:40462-1824375600-1824377400@welcometocrossroads.org
SUMMARY:Growth Track
DESCRIPTION:
URL:https://welcometocrossroads.org/event/growth-track-450/
LOCATION:Room 117
END:VEVENT
BEGIN:VEVENT
DTSTART;TZID=America/Indiana/Indianapolis:20271024T133000
DTEND;TZID=America/Indiana/Indianapolis:20271024T160000
DTSTAMP:20260425T101502
CREATED:20251025T130053Z
LAST-MODIFIED:20260108T210031Z
UID:40463-1824384600-1824393600@welcometocrossroads.org
SUMMARY:Christ's Ambassadors
DESCRIPTION:
URL:https://welcometocrossroads.org/event/christs-ambassadors-182/
END:VEVENT
BEGIN:VEVENT
DTSTART;TZID=America/Indiana/Indianapolis:20271024T170000
DTEND;TZID=America/Indiana/Indianapolis:20271024T183000
DTSTAMP:20260425T101502
CREATED:20251025T130101Z
LAST-MODIFIED:20260108T210038Z
UID:40467-1824397200-1824402600@welcometocrossroads.org
SUMMARY:Girl’s Ministry
DESCRIPTION:
URL:https://welcometocrossroads.org/event/girls-ministry-164/
END:VEVENT
BEGIN:VEVENT
DTSTART;TZID=America/Indiana/Indianapolis:20271024T173000
DTEND;TZID=America/Indiana/Indianapolis:20271024T180000
DTSTAMP:20260425T101502
CREATED:20251025T130055Z
LAST-MODIFIED:20260108T210034Z
UID:40464-1824399000-1824400800@welcometocrossroads.org
SUMMARY:CSM - Leader Huddle
DESCRIPTION:
URL:https://welcometocrossroads.org/event/csm-leader-huddle-461/
LOCATION:102
END:VEVENT
END:VCALENDAR