BEGIN:VCALENDAR
VERSION:2.0
PRODID:-//Crossroads Church - ECPv6.15.17.1//NONSGML v1.0//EN
CALSCALE:GREGORIAN
METHOD:PUBLISH
X-WR-CALNAME:Crossroads Church
X-ORIGINAL-URL:https://welcometocrossroads.org
X-WR-CALDESC:Events for Crossroads Church
REFRESH-INTERVAL;VALUE=DURATION:PT1H
X-Robots-Tag:noindex
X-PUBLISHED-TTL:PT1H
BEGIN:VTIMEZONE
TZID:America/Indiana/Indianapolis
BEGIN:DAYLIGHT
TZOFFSETFROM:-0500
TZOFFSETTO:-0400
TZNAME:EDT
DTSTART:20220313T070000
END:DAYLIGHT
BEGIN:STANDARD
TZOFFSETFROM:-0400
TZOFFSETTO:-0500
TZNAME:EST
DTSTART:20221106T060000
END:STANDARD
BEGIN:DAYLIGHT
TZOFFSETFROM:-0500
TZOFFSETTO:-0400
TZNAME:EDT
DTSTART:20230312T070000
END:DAYLIGHT
BEGIN:STANDARD
TZOFFSETFROM:-0400
TZOFFSETTO:-0500
TZNAME:EST
DTSTART:20231105T060000
END:STANDARD
BEGIN:DAYLIGHT
TZOFFSETFROM:-0500
TZOFFSETTO:-0400
TZNAME:EDT
DTSTART:20240310T070000
END:DAYLIGHT
BEGIN:STANDARD
TZOFFSETFROM:-0400
TZOFFSETTO:-0500
TZNAME:EST
DTSTART:20241103T060000
END:STANDARD
END:VTIMEZONE
BEGIN:VEVENT
DTSTART;TZID=America/Indiana/Indianapolis:20230305T190000
DTEND;TZID=America/Indiana/Indianapolis:20230305T200000
DTSTAMP:20260421T000412
CREATED:20221102T192242Z
LAST-MODIFIED:20221102T192242Z
UID:15449-1678042800-1678046400@welcometocrossroads.org
SUMMARY:Mull Bible Study
DESCRIPTION:
URL:https://welcometocrossroads.org/event/mull-bible-study-20/
END:VEVENT
BEGIN:VEVENT
DTSTART;TZID=America/Indiana/Indianapolis:20230305T173000
DTEND;TZID=America/Indiana/Indianapolis:20230305T180000
DTSTAMP:20260421T000412
CREATED:20221102T192242Z
LAST-MODIFIED:20221102T192242Z
UID:15448-1678037400-1678039200@welcometocrossroads.org
SUMMARY:CSM - Leader Huddle
DESCRIPTION:
URL:https://welcometocrossroads.org/event/csm-leader-huddle-205/
LOCATION:102
END:VEVENT
BEGIN:VEVENT
DTSTART;TZID=America/Indiana/Indianapolis:20230305T173000
DTEND;TZID=America/Indiana/Indianapolis:20230305T180000
DTSTAMP:20260421T000412
CREATED:20220807T012600Z
LAST-MODIFIED:20220807T012600Z
UID:13730-1678037400-1678039200@welcometocrossroads.org
SUMMARY:CSM - Leader Huddle
DESCRIPTION:
URL:https://welcometocrossroads.org/event/csm-leader-huddle-111/
LOCATION:102
END:VEVENT
BEGIN:VEVENT
DTSTART;TZID=America/Indiana/Indianapolis:20230305T170000
DTEND;TZID=America/Indiana/Indianapolis:20230305T183000
DTSTAMP:20260421T000412
CREATED:20221102T192241Z
LAST-MODIFIED:20221102T192241Z
UID:15447-1678035600-1678041000@welcometocrossroads.org
SUMMARY:Girl’s Ministry: Girl’s Ministry Life Group
DESCRIPTION:
URL:https://welcometocrossroads.org/event/girls-ministry-girls-ministry-life-group-125/
LOCATION:Rooms: 102\, 114\, 115\, 116\, 117 – 7209 E County Rd 100 S\, Avon\, IN 46123\, USA
END:VEVENT
BEGIN:VEVENT
DTSTART;TZID=America/Indiana/Indianapolis:20230305T170000
DTEND;TZID=America/Indiana/Indianapolis:20230305T183000
DTSTAMP:20260421T000412
CREATED:20220807T012600Z
LAST-MODIFIED:20220807T012600Z
UID:13729-1678035600-1678041000@welcometocrossroads.org
SUMMARY:Girl’s Ministry: Girl’s Ministry Life Group
DESCRIPTION:
URL:https://welcometocrossroads.org/event/girls-ministry-girls-ministry-life-group-31/
LOCATION:Rooms: 102\, 114\, 115\, 116\, 117 – 7209 E County Rd 100 S\, Avon\, IN 46123\, USA
END:VEVENT
BEGIN:VEVENT
DTSTART;TZID=America/Indiana/Indianapolis:20230305T110000
DTEND;TZID=America/Indiana/Indianapolis:20230305T113000
DTSTAMP:20260421T000412
CREATED:20221102T192241Z
LAST-MODIFIED:20221102T192241Z
UID:15446-1678014000-1678015800@welcometocrossroads.org
SUMMARY:Growth Track
DESCRIPTION:
URL:https://welcometocrossroads.org/event/growth-track-190/
LOCATION:Room 117
END:VEVENT
BEGIN:VEVENT
DTSTART;TZID=America/Indiana/Indianapolis:20230305T110000
DTEND;TZID=America/Indiana/Indianapolis:20230305T113000
DTSTAMP:20260421T000412
CREATED:20220807T012559Z
LAST-MODIFIED:20220807T012559Z
UID:13728-1678014000-1678015800@welcometocrossroads.org
SUMMARY:Growth Track
DESCRIPTION:
URL:https://welcometocrossroads.org/event/growth-track-104/
LOCATION:Room 117
END:VEVENT
BEGIN:VEVENT
DTSTART;TZID=America/Indiana/Indianapolis:20230305T103000
DTEND;TZID=America/Indiana/Indianapolis:20230305T123000
DTSTAMP:20260421T000412
CREATED:20221102T192241Z
LAST-MODIFIED:20221102T192241Z
UID:15445-1678012200-1678019400@welcometocrossroads.org
SUMMARY:Joyfully His LG
DESCRIPTION:
URL:https://welcometocrossroads.org/event/joyfully-his-lg-59/
END:VEVENT
BEGIN:VEVENT
DTSTART;TZID=America/Indiana/Indianapolis:20230305T103000
DTEND;TZID=America/Indiana/Indianapolis:20230305T123000
DTSTAMP:20260421T000412
CREATED:20220807T012559Z
LAST-MODIFIED:20220807T012559Z
UID:13727-1678012200-1678019400@welcometocrossroads.org
SUMMARY:Joyfully His LG
DESCRIPTION:
URL:https://welcometocrossroads.org/event/joyfully-his-lg-15/
END:VEVENT
BEGIN:VEVENT
DTSTART;VALUE=DATE:20230303
DTEND;VALUE=DATE:20230304
DTSTAMP:20260421T000412
CREATED:20221102T192241Z
LAST-MODIFIED:20221102T192241Z
UID:15444-1677801600-1677887999@welcometocrossroads.org
SUMMARY:Care to Change Counseling Sessions
DESCRIPTION:
URL:https://welcometocrossroads.org/event/care-to-change-counseling-sessions-123/
END:VEVENT
BEGIN:VEVENT
DTSTART;VALUE=DATE:20230303
DTEND;VALUE=DATE:20230304
DTSTAMP:20260421T000412
CREATED:20220807T012559Z
LAST-MODIFIED:20220807T012559Z
UID:13725-1677801600-1677887999@welcometocrossroads.org
SUMMARY:Care to Change Counseling Sessions
DESCRIPTION:
URL:https://welcometocrossroads.org/event/care-to-change-counseling-sessions-30/
END:VEVENT
BEGIN:VEVENT
DTSTART;TZID=America/Indiana/Indianapolis:20230302T190000
DTEND;TZID=America/Indiana/Indianapolis:20230302T203000
DTSTAMP:20260421T000412
CREATED:20221102T192241Z
LAST-MODIFIED:20221102T192241Z
UID:15443-1677783600-1677789000@welcometocrossroads.org
SUMMARY:Worship Practice
DESCRIPTION:Weekly Worship Team Practice to Prepare for the weekend
URL:https://welcometocrossroads.org/event/worship-practice-120/
END:VEVENT
BEGIN:VEVENT
DTSTART;TZID=America/Indiana/Indianapolis:20230302T190000
DTEND;TZID=America/Indiana/Indianapolis:20230302T203000
DTSTAMP:20260421T000412
CREATED:20220807T012559Z
LAST-MODIFIED:20220807T012559Z
UID:13726-1677783600-1677789000@welcometocrossroads.org
SUMMARY:Worship Practice
DESCRIPTION:Weekly Worship Team Practice to Prepare for the weekend
URL:https://welcometocrossroads.org/event/worship-practice-29/
END:VEVENT
BEGIN:VEVENT
DTSTART;TZID=America/Indiana/Indianapolis:20230302T180000
DTEND;TZID=America/Indiana/Indianapolis:20230302T203000
DTSTAMP:20260421T000412
CREATED:20221102T192240Z
LAST-MODIFIED:20221102T192240Z
UID:15442-1677780000-1677789000@welcometocrossroads.org
SUMMARY:Crossroads RPG Club: Time
DESCRIPTION:
URL:https://welcometocrossroads.org/event/crossroads-rpg-club-time-122/
LOCATION:114 – 7209 E CR 100 S
END:VEVENT
BEGIN:VEVENT
DTSTART;TZID=America/Indiana/Indianapolis:20230302T180000
DTEND;TZID=America/Indiana/Indianapolis:20230302T203000
DTSTAMP:20260421T000412
CREATED:20220807T012559Z
LAST-MODIFIED:20220807T012559Z
UID:13724-1677780000-1677789000@welcometocrossroads.org
SUMMARY:Crossroads RPG Club: Time
DESCRIPTION:
URL:https://welcometocrossroads.org/event/crossroads-rpg-club-time-30/
LOCATION:114 – 7209 E CR 100 S
END:VEVENT
BEGIN:VEVENT
DTSTART;TZID=America/Indiana/Indianapolis:20230301T183000
DTEND;TZID=America/Indiana/Indianapolis:20230301T203000
DTSTAMP:20260421T000412
CREATED:20221102T192240Z
LAST-MODIFIED:20221102T192240Z
UID:15441-1677695400-1677702600@welcometocrossroads.org
SUMMARY:Women's Wellness LG
DESCRIPTION:Women’s LG\nVisit welcometocrossroads.org/groups for more information
URL:https://welcometocrossroads.org/event/womens-wellness-lg-104/
END:VEVENT
BEGIN:VEVENT
DTSTART;TZID=America/Indiana/Indianapolis:20230301T183000
DTEND;TZID=America/Indiana/Indianapolis:20230301T203000
DTSTAMP:20260421T000412
CREATED:20220807T012503Z
LAST-MODIFIED:20220807T012503Z
UID:13722-1677695400-1677702600@welcometocrossroads.org
SUMMARY:Women's Wellness LG
DESCRIPTION:Women’s LG\nVisit welcometocrossroads.org/groups for more information
URL:https://welcometocrossroads.org/event/womens-wellness-lg-62/
END:VEVENT
BEGIN:VEVENT
DTSTART;TZID=America/Indiana/Indianapolis:20230301T180000
DTEND;TZID=America/Indiana/Indianapolis:20230301T210000
DTSTAMP:20260421T000412
CREATED:20221102T192240Z
LAST-MODIFIED:20221102T192240Z
UID:15440-1677693600-1677704400@welcometocrossroads.org
SUMMARY:The Well - College & Career Weekly Meetings
DESCRIPTION:
URL:https://welcometocrossroads.org/event/the-well-college-career-weekly-meetings-122/
END:VEVENT
BEGIN:VEVENT
DTSTART;TZID=America/Indiana/Indianapolis:20230301T180000
DTEND;TZID=America/Indiana/Indianapolis:20230301T210000
DTSTAMP:20260421T000412
CREATED:20220807T012559Z
LAST-MODIFIED:20220807T012559Z
UID:13723-1677693600-1677704400@welcometocrossroads.org
SUMMARY:The Well - College & Career Weekly Meetings
DESCRIPTION:
URL:https://welcometocrossroads.org/event/the-well-college-career-weekly-meetings-30/
END:VEVENT
BEGIN:VEVENT
DTSTART;TZID=America/Indiana/Indianapolis:20230301T143000
DTEND;TZID=America/Indiana/Indianapolis:20230301T160000
DTSTAMP:20260421T000412
CREATED:20221102T192240Z
LAST-MODIFIED:20221102T192240Z
UID:15439-1677681000-1677686400@welcometocrossroads.org
SUMMARY:Ellis - Women's Bible Study
DESCRIPTION:
URL:https://welcometocrossroads.org/event/ellis-womens-bible-study-56/
END:VEVENT
BEGIN:VEVENT
DTSTART;TZID=America/Indiana/Indianapolis:20230301T143000
DTEND;TZID=America/Indiana/Indianapolis:20230301T160000
DTSTAMP:20260421T000412
CREATED:20220807T012457Z
LAST-MODIFIED:20220807T012457Z
UID:13721-1677681000-1677686400@welcometocrossroads.org
SUMMARY:Ellis - Women's Bible Study
DESCRIPTION:
URL:https://welcometocrossroads.org/event/ellis-womens-bible-study-14/
END:VEVENT
BEGIN:VEVENT
DTSTART;TZID=America/Indiana/Indianapolis:20230301T130000
DTEND;TZID=America/Indiana/Indianapolis:20230301T140000
DTSTAMP:20260421T000412
CREATED:20221102T192240Z
LAST-MODIFIED:20221102T192240Z
UID:15438-1677675600-1677679200@welcometocrossroads.org
SUMMARY:Senior Luncheon: Teardown
DESCRIPTION:
URL:https://welcometocrossroads.org/event/senior-luncheon-teardown-27/
END:VEVENT
BEGIN:VEVENT
DTSTART;TZID=America/Indiana/Indianapolis:20230301T130000
DTEND;TZID=America/Indiana/Indianapolis:20230301T140000
DTSTAMP:20260421T000412
CREATED:20220807T012457Z
LAST-MODIFIED:20220807T012457Z
UID:13719-1677675600-1677679200@welcometocrossroads.org
SUMMARY:Senior Luncheon: Teardown
DESCRIPTION:
URL:https://welcometocrossroads.org/event/senior-luncheon-teardown-7/
END:VEVENT
BEGIN:VEVENT
DTSTART;TZID=America/Indiana/Indianapolis:20230301T110000
DTEND;TZID=America/Indiana/Indianapolis:20230301T130000
DTSTAMP:20260421T000412
CREATED:20221102T192240Z
LAST-MODIFIED:20221102T192240Z
UID:15437-1677668400-1677675600@welcometocrossroads.org
SUMMARY:Senior Luncheon
DESCRIPTION:
URL:https://welcometocrossroads.org/event/senior-luncheon-29/
END:VEVENT
BEGIN:VEVENT
DTSTART;TZID=America/Indiana/Indianapolis:20230301T110000
DTEND;TZID=America/Indiana/Indianapolis:20230301T130000
DTSTAMP:20260421T000412
CREATED:20220807T012457Z
LAST-MODIFIED:20220807T012457Z
UID:13720-1677668400-1677675600@welcometocrossroads.org
SUMMARY:Senior Luncheon
DESCRIPTION:
URL:https://welcometocrossroads.org/event/senior-luncheon-9/
END:VEVENT
BEGIN:VEVENT
DTSTART;TZID=America/Indiana/Indianapolis:20230301T100000
DTEND;TZID=America/Indiana/Indianapolis:20230301T110000
DTSTAMP:20260421T000412
CREATED:20221102T192240Z
LAST-MODIFIED:20221102T192240Z
UID:15436-1677664800-1677668400@welcometocrossroads.org
SUMMARY:Senior Luncheon: Setup
DESCRIPTION:
URL:https://welcometocrossroads.org/event/senior-luncheon-setup-27/
END:VEVENT
BEGIN:VEVENT
DTSTART;TZID=America/Indiana/Indianapolis:20230301T100000
DTEND;TZID=America/Indiana/Indianapolis:20230301T110000
DTSTAMP:20260421T000412
CREATED:20220807T012457Z
LAST-MODIFIED:20220807T012457Z
UID:13718-1677664800-1677668400@welcometocrossroads.org
SUMMARY:Senior Luncheon: Setup
DESCRIPTION:
URL:https://welcometocrossroads.org/event/senior-luncheon-setup-7/
END:VEVENT
BEGIN:VEVENT
DTSTART;TZID=America/Indiana/Indianapolis:20230228T100000
DTEND;TZID=America/Indiana/Indianapolis:20230228T123000
DTSTAMP:20260421T000412
CREATED:20221102T192240Z
LAST-MODIFIED:20221102T192240Z
UID:15434-1677578400-1677587400@welcometocrossroads.org
SUMMARY:Beth Moore Women's Bible Study: Women's Bible Study
DESCRIPTION:
URL:https://welcometocrossroads.org/event/beth-moore-womens-bible-study-womens-bible-study-119/
END:VEVENT
BEGIN:VEVENT
DTSTART;TZID=America/Indiana/Indianapolis:20230228T100000
DTEND;TZID=America/Indiana/Indianapolis:20230228T120000
DTSTAMP:20260421T000412
CREATED:20221102T192240Z
LAST-MODIFIED:20221102T192240Z
UID:15435-1677578400-1677585600@welcometocrossroads.org
SUMMARY:S-Meeting
DESCRIPTION:
URL:https://welcometocrossroads.org/event/s-meeting-207/
END:VEVENT
BEGIN:VEVENT
DTSTART;TZID=America/Indiana/Indianapolis:20230228T100000
DTEND;TZID=America/Indiana/Indianapolis:20230228T120000
DTSTAMP:20260421T000412
CREATED:20220807T012456Z
LAST-MODIFIED:20220807T012456Z
UID:13716-1677578400-1677585600@welcometocrossroads.org
SUMMARY:S-Meeting
DESCRIPTION:
URL:https://welcometocrossroads.org/event/s-meeting-113/
END:VEVENT
END:VCALENDAR