BEGIN:VCALENDAR
VERSION:2.0
PRODID:-//Crossroads Church - ECPv6.15.17.1//NONSGML v1.0//EN
CALSCALE:GREGORIAN
METHOD:PUBLISH
X-WR-CALNAME:Crossroads Church
X-ORIGINAL-URL:https://welcometocrossroads.org
X-WR-CALDESC:Events for Crossroads Church
REFRESH-INTERVAL;VALUE=DURATION:PT1H
X-Robots-Tag:noindex
X-PUBLISHED-TTL:PT1H
BEGIN:VTIMEZONE
TZID:America/Indiana/Indianapolis
BEGIN:DAYLIGHT
TZOFFSETFROM:-0500
TZOFFSETTO:-0400
TZNAME:EDT
DTSTART:20260308T070000
END:DAYLIGHT
BEGIN:STANDARD
TZOFFSETFROM:-0400
TZOFFSETTO:-0500
TZNAME:EST
DTSTART:20261101T060000
END:STANDARD
BEGIN:DAYLIGHT
TZOFFSETFROM:-0500
TZOFFSETTO:-0400
TZNAME:EDT
DTSTART:20270314T070000
END:DAYLIGHT
BEGIN:STANDARD
TZOFFSETFROM:-0400
TZOFFSETTO:-0500
TZNAME:EST
DTSTART:20271107T060000
END:STANDARD
BEGIN:DAYLIGHT
TZOFFSETFROM:-0500
TZOFFSETTO:-0400
TZNAME:EDT
DTSTART:20280312T070000
END:DAYLIGHT
BEGIN:STANDARD
TZOFFSETFROM:-0400
TZOFFSETTO:-0500
TZNAME:EST
DTSTART:20281105T060000
END:STANDARD
END:VTIMEZONE
BEGIN:VEVENT
DTSTART;TZID=America/Indiana/Indianapolis:20270919T180000
DTEND;TZID=America/Indiana/Indianapolis:20270919T203000
DTSTAMP:20260423T015536
CREATED:20250919T143344Z
LAST-MODIFIED:20260108T205539Z
UID:39779-1821376800-1821385800@welcometocrossroads.org
SUMMARY:CSM - Crossroads Students Ministries
DESCRIPTION:
URL:https://welcometocrossroads.org/event/csm-crossroads-students-ministries-214/
LOCATION:CSM – 7209 E County Rd 100 S\, Avon\, IN\, United States
END:VEVENT
BEGIN:VEVENT
DTSTART;TZID=America/Indiana/Indianapolis:20270920T183000
DTEND;TZID=America/Indiana/Indianapolis:20270920T203000
DTSTAMP:20260423T015536
CREATED:20250920T224957Z
LAST-MODIFIED:20260108T205540Z
UID:39796-1821465000-1821472200@welcometocrossroads.org
SUMMARY:Divorce Care
DESCRIPTION:
URL:https://welcometocrossroads.org/event/divorce-care-373/
END:VEVENT
BEGIN:VEVENT
DTSTART;TZID=America/Indiana/Indianapolis:20270920T190000
DTEND;TZID=America/Indiana/Indianapolis:20270920T203000
DTSTAMP:20260423T015536
CREATED:20250920T224955Z
LAST-MODIFIED:20260108T205541Z
UID:39795-1821466800-1821472200@welcometocrossroads.org
SUMMARY:Hey Girl Life Group
DESCRIPTION:
URL:https://welcometocrossroads.org/event/hey-girl-life-group-385/
END:VEVENT
BEGIN:VEVENT
DTSTART;TZID=America/Indiana/Indianapolis:20270921T093000
DTEND;TZID=America/Indiana/Indianapolis:20270921T123000
DTSTAMP:20260423T015536
CREATED:20250922T071757Z
LAST-MODIFIED:20251117T125302Z
UID:39801-1821519000-1821529800@welcometocrossroads.org
SUMMARY:S-Meeting
DESCRIPTION:
URL:https://welcometocrossroads.org/event/s-meeting-968/
END:VEVENT
BEGIN:VEVENT
DTSTART;TZID=America/Indiana/Indianapolis:20270921T093000
DTEND;TZID=America/Indiana/Indianapolis:20270921T123000
DTSTAMP:20260423T015536
CREATED:20260108T205543Z
LAST-MODIFIED:20260108T205543Z
UID:41553-1821519000-1821529800@welcometocrossroads.org
SUMMARY:S-Meeting
DESCRIPTION:
URL:https://welcometocrossroads.org/event/s-meeting-1066/
END:VEVENT
BEGIN:VEVENT
DTSTART;TZID=America/Indiana/Indianapolis:20270921T100000
DTEND;TZID=America/Indiana/Indianapolis:20270921T110000
DTSTAMP:20260423T015536
CREATED:20250922T071755Z
LAST-MODIFIED:20260108T205542Z
UID:39800-1821520800-1821524400@welcometocrossroads.org
SUMMARY:Daycare Gymnastics
DESCRIPTION:
URL:https://welcometocrossroads.org/event/daycare-gymnastics-154/
END:VEVENT
BEGIN:VEVENT
DTSTART;TZID=America/Indiana/Indianapolis:20270921T100000
DTEND;TZID=America/Indiana/Indianapolis:20270921T123000
DTSTAMP:20260423T015536
CREATED:20250922T071759Z
LAST-MODIFIED:20260108T205545Z
UID:39802-1821520800-1821529800@welcometocrossroads.org
SUMMARY:LBS
DESCRIPTION:
URL:https://welcometocrossroads.org/event/lbs-65/
END:VEVENT
BEGIN:VEVENT
DTSTART;TZID=America/Indiana/Indianapolis:20270921T190000
DTEND;TZID=America/Indiana/Indianapolis:20270921T203000
DTSTAMP:20260423T015536
CREATED:20250922T071814Z
LAST-MODIFIED:20260108T205546Z
UID:39804-1821553200-1821558600@welcometocrossroads.org
SUMMARY:The Frontline
DESCRIPTION:
URL:https://welcometocrossroads.org/event/the-frontline-121/
END:VEVENT
BEGIN:VEVENT
DTSTART;TZID=America/Indiana/Indianapolis:20270921T190000
DTEND;TZID=America/Indiana/Indianapolis:20270921T210000
DTSTAMP:20260423T015536
CREATED:20250922T071813Z
LAST-MODIFIED:20251117T125307Z
UID:39803-1821553200-1821560400@welcometocrossroads.org
SUMMARY:Snack and Chat
DESCRIPTION:We are a women’s book club that meets the 1st and 3rd Tuesdays of the Month. We will choose a book and discuss it when we meet. Come enjoy a yummy snack and great conversation!
URL:https://welcometocrossroads.org/event/snack-and-chat-99/
LOCATION:Crossroads Church  – 7209 E County Rd 100 S\, Avon\, IN\, United States
END:VEVENT
BEGIN:VEVENT
DTSTART;TZID=America/Indiana/Indianapolis:20270922T140000
DTEND;TZID=America/Indiana/Indianapolis:20270922T160000
DTSTAMP:20260423T015536
CREATED:20260108T205547Z
LAST-MODIFIED:20260108T205547Z
UID:41554-1821621600-1821628800@welcometocrossroads.org
SUMMARY:The Way
DESCRIPTION:
URL:https://welcometocrossroads.org/event/the-way-197/
END:VEVENT
BEGIN:VEVENT
DTSTART;TZID=America/Indiana/Indianapolis:20270922T190000
DTEND;TZID=America/Indiana/Indianapolis:20270922T203000
DTSTAMP:20260423T015536
CREATED:20260108T205549Z
LAST-MODIFIED:20260108T205549Z
UID:41555-1821639600-1821645000@welcometocrossroads.org
SUMMARY:Life Group
DESCRIPTION:
URL:https://welcometocrossroads.org/event/life-group-88/
END:VEVENT
BEGIN:VEVENT
DTSTART;TZID=America/Indiana/Indianapolis:20270923T070000
DTEND;TZID=America/Indiana/Indianapolis:20270923T083000
DTSTAMP:20260423T015536
CREATED:20250923T145759Z
LAST-MODIFIED:20260108T205603Z
UID:39829-1821682800-1821688200@welcometocrossroads.org
SUMMARY:Trustees Meeting
DESCRIPTION:
URL:https://welcometocrossroads.org/event/trustees-meeting-112/
LOCATION:117 – 7209 E CR 100 S
END:VEVENT
BEGIN:VEVENT
DTSTART;TZID=America/Indiana/Indianapolis:20270923T133000
DTEND;TZID=America/Indiana/Indianapolis:20270923T143000
DTSTAMP:20260423T015536
CREATED:20260108T205604Z
LAST-MODIFIED:20260108T205604Z
UID:41556-1821706200-1821709800@welcometocrossroads.org
SUMMARY:Operations Meeting
DESCRIPTION:
URL:https://welcometocrossroads.org/event/operations-meeting-90/
END:VEVENT
BEGIN:VEVENT
DTSTART;TZID=America/Indiana/Indianapolis:20270923T140000
DTEND;TZID=America/Indiana/Indianapolis:20270923T150000
DTSTAMP:20260423T015536
CREATED:20250923T145801Z
LAST-MODIFIED:20251117T125527Z
UID:39830-1821708000-1821711600@welcometocrossroads.org
SUMMARY:Operations Weekly Meeting
DESCRIPTION:
URL:https://welcometocrossroads.org/event/operations-weekly-meeting-315/
LOCATION:Crossroads Church – 7209 E County Rd 100 S\, Avon\, IN\, United States
END:VEVENT
BEGIN:VEVENT
DTSTART;TZID=America/Indiana/Indianapolis:20270923T150000
DTEND;TZID=America/Indiana/Indianapolis:20270923T170000
DTSTAMP:20260423T015536
CREATED:20251101T051529Z
LAST-MODIFIED:20251117T125526Z
UID:40629-1821711600-1821718800@welcometocrossroads.org
SUMMARY:Worship Center reserved for filming
DESCRIPTION:
URL:https://welcometocrossroads.org/event/worship-center-reserved-for-filming-99/
END:VEVENT
BEGIN:VEVENT
DTSTART;TZID=America/Indiana/Indianapolis:20270923T183000
DTEND;TZID=America/Indiana/Indianapolis:20270923T200000
DTSTAMP:20260423T015536
CREATED:20250923T145804Z
LAST-MODIFIED:20260108T205607Z
UID:39832-1821724200-1821729600@welcometocrossroads.org
SUMMARY:Men's Bible Study
DESCRIPTION:
URL:https://welcometocrossroads.org/event/mens-bible-study-245/
END:VEVENT
BEGIN:VEVENT
DTSTART;TZID=America/Indiana/Indianapolis:20270923T183000
DTEND;TZID=America/Indiana/Indianapolis:20270923T203000
DTSTAMP:20260423T015536
CREATED:20250923T145806Z
LAST-MODIFIED:20260108T205608Z
UID:39833-1821724200-1821731400@welcometocrossroads.org
SUMMARY:Women in the Word
DESCRIPTION:
URL:https://welcometocrossroads.org/event/women-in-the-word-378/
END:VEVENT
BEGIN:VEVENT
DTSTART;TZID=America/Indiana/Indianapolis:20270923T190000
DTEND;TZID=America/Indiana/Indianapolis:20270923T203000
DTSTAMP:20260423T015536
CREATED:20250923T145803Z
LAST-MODIFIED:20260108T205606Z
UID:39831-1821726000-1821731400@welcometocrossroads.org
SUMMARY:Worship Practice
DESCRIPTION:Weekly Worship Team Practice to Prepare for the weekend
URL:https://welcometocrossroads.org/event/worship-practice-373/
END:VEVENT
BEGIN:VEVENT
DTSTART;TZID=America/Indiana/Indianapolis:20270924T080000
DTEND;TZID=America/Indiana/Indianapolis:20270924T170000
DTSTAMP:20260423T015536
CREATED:20250924T231933Z
LAST-MODIFIED:20260108T205609Z
UID:39870-1821772800-1821805200@welcometocrossroads.org
SUMMARY:Care to Change Counseling Sessions
DESCRIPTION:
URL:https://welcometocrossroads.org/event/care-to-change-counseling-sessions-479/
END:VEVENT
BEGIN:VEVENT
DTSTART;TZID=America/Indiana/Indianapolis:20270924T183000
DTEND;TZID=America/Indiana/Indianapolis:20270924T203000
DTSTAMP:20260423T015536
CREATED:20250924T231936Z
LAST-MODIFIED:20260108T205611Z
UID:39872-1821810600-1821817800@welcometocrossroads.org
SUMMARY:Price LG
DESCRIPTION:
URL:https://welcometocrossroads.org/event/price-lg-259/
END:VEVENT
BEGIN:VEVENT
DTSTART;TZID=America/Indiana/Indianapolis:20270924T190000
DTEND;TZID=America/Indiana/Indianapolis:20270924T203000
DTSTAMP:20260423T015536
CREATED:20250924T231935Z
LAST-MODIFIED:20260108T205612Z
UID:39871-1821812400-1821817800@welcometocrossroads.org
SUMMARY:Connecting Life Group
DESCRIPTION:Robin & Jeff Bernfield
URL:https://welcometocrossroads.org/event/connecting-life-group-136/
END:VEVENT
BEGIN:VEVENT
DTSTART;TZID=America/Indiana/Indianapolis:20270926T080000
DTEND;TZID=America/Indiana/Indianapolis:20270926T084500
DTSTAMP:20260423T015536
CREATED:20250926T071755Z
LAST-MODIFIED:20260108T205613Z
UID:39886-1821945600-1821948300@welcometocrossroads.org
SUMMARY:Therefore Life Group
DESCRIPTION:
URL:https://welcometocrossroads.org/event/therefore-life-group-157/
END:VEVENT
BEGIN:VEVENT
DTSTART;TZID=America/Indiana/Indianapolis:20270926T110000
DTEND;TZID=America/Indiana/Indianapolis:20270926T113000
DTSTAMP:20260423T015536
CREATED:20250926T071758Z
LAST-MODIFIED:20260108T205614Z
UID:39887-1821956400-1821958200@welcometocrossroads.org
SUMMARY:Growth Track
DESCRIPTION:
URL:https://welcometocrossroads.org/event/growth-track-446/
LOCATION:Room 117
END:VEVENT
BEGIN:VEVENT
DTSTART;TZID=America/Indiana/Indianapolis:20270926T133000
DTEND;TZID=America/Indiana/Indianapolis:20270926T160000
DTSTAMP:20260423T015536
CREATED:20250926T071810Z
LAST-MODIFIED:20260108T205628Z
UID:39888-1821965400-1821974400@welcometocrossroads.org
SUMMARY:Christ's Ambassadors
DESCRIPTION:
URL:https://welcometocrossroads.org/event/christs-ambassadors-178/
END:VEVENT
BEGIN:VEVENT
DTSTART;TZID=America/Indiana/Indianapolis:20270926T170000
DTEND;TZID=America/Indiana/Indianapolis:20270926T183000
DTSTAMP:20260423T015536
CREATED:20250926T071817Z
LAST-MODIFIED:20260108T205634Z
UID:39892-1821978000-1821983400@welcometocrossroads.org
SUMMARY:Girl’s Ministry
DESCRIPTION:
URL:https://welcometocrossroads.org/event/girls-ministry-160/
END:VEVENT
BEGIN:VEVENT
DTSTART;TZID=America/Indiana/Indianapolis:20270926T173000
DTEND;TZID=America/Indiana/Indianapolis:20270926T180000
DTSTAMP:20260423T015536
CREATED:20250926T071819Z
LAST-MODIFIED:20260108T205635Z
UID:39893-1821979800-1821981600@welcometocrossroads.org
SUMMARY:CSM - Leader Huddle
DESCRIPTION:
URL:https://welcometocrossroads.org/event/csm-leader-huddle-457/
LOCATION:102
END:VEVENT
BEGIN:VEVENT
DTSTART;TZID=America/Indiana/Indianapolis:20270926T180000
DTEND;TZID=America/Indiana/Indianapolis:20270926T200000
DTSTAMP:20260423T015536
CREATED:20250926T071812Z
LAST-MODIFIED:20260108T205630Z
UID:39889-1821981600-1821988800@welcometocrossroads.org
SUMMARY:CSM - Family Group Night: CSM- Family Group Night
DESCRIPTION:
URL:https://welcometocrossroads.org/event/csm-family-group-night-csm-family-group-night-104/
LOCATION:All Rooms
END:VEVENT
BEGIN:VEVENT
DTSTART;TZID=America/Indiana/Indianapolis:20270926T180000
DTEND;TZID=America/Indiana/Indianapolis:20270926T203000
DTSTAMP:20260423T015536
CREATED:20250926T071815Z
LAST-MODIFIED:20260108T205633Z
UID:39891-1821981600-1821990600@welcometocrossroads.org
SUMMARY:CSM - Crossroads Students Ministries
DESCRIPTION:
URL:https://welcometocrossroads.org/event/csm-crossroads-students-ministries-215/
LOCATION:CSM – 7209 E County Rd 100 S\, Avon\, IN\, United States
END:VEVENT
BEGIN:VEVENT
DTSTART;TZID=America/Indiana/Indianapolis:20270926T183000
DTEND;TZID=America/Indiana/Indianapolis:20270926T200000
DTSTAMP:20260423T015536
CREATED:20250926T071814Z
LAST-MODIFIED:20260108T205631Z
UID:39890-1821983400-1821988800@welcometocrossroads.org
SUMMARY:Connecting Life Group
DESCRIPTION:
URL:https://welcometocrossroads.org/event/connecting-life-group-137/
END:VEVENT
BEGIN:VEVENT
DTSTART;TZID=America/Indiana/Indianapolis:20270927T183000
DTEND;TZID=America/Indiana/Indianapolis:20270927T203000
DTSTAMP:20260423T015536
CREATED:20250927T151628Z
LAST-MODIFIED:20260108T205636Z
UID:39904-1822069800-1822077000@welcometocrossroads.org
SUMMARY:Divorce Care
DESCRIPTION:
URL:https://welcometocrossroads.org/event/divorce-care-374/
END:VEVENT
END:VCALENDAR